BEGIN:VCALENDAR
VERSION:2.0
PRODID:-//Mikepércsi Foci - ECPv6.15.12.2//NONSGML v1.0//EN
CALSCALE:GREGORIAN
METHOD:PUBLISH
X-WR-CALNAME:Mikepércsi Foci
X-ORIGINAL-URL:https://mikepercsifoci.hu
X-WR-CALDESC:Események Mikepércsi Foci
REFRESH-INTERVAL;VALUE=DURATION:PT1H
X-Robots-Tag:noindex
X-PUBLISHED-TTL:PT1H
BEGIN:VTIMEZONE
TZID:Europe/Budapest
BEGIN:DAYLIGHT
TZOFFSETFROM:+0100
TZOFFSETTO:+0200
TZNAME:CEST
DTSTART:20260329T010000
END:DAYLIGHT
BEGIN:STANDARD
TZOFFSETFROM:+0200
TZOFFSETTO:+0100
TZNAME:CET
DTSTART:20261025T010000
END:STANDARD
BEGIN:DAYLIGHT
TZOFFSETFROM:+0100
TZOFFSETTO:+0200
TZNAME:CEST
DTSTART:20270328T010000
END:DAYLIGHT
BEGIN:STANDARD
TZOFFSETFROM:+0200
TZOFFSETTO:+0100
TZNAME:CET
DTSTART:20271031T010000
END:STANDARD
BEGIN:DAYLIGHT
TZOFFSETFROM:+0100
TZOFFSETTO:+0200
TZNAME:CEST
DTSTART:20280326T010000
END:DAYLIGHT
BEGIN:STANDARD
TZOFFSETFROM:+0200
TZOFFSETTO:+0100
TZNAME:CET
DTSTART:20281029T010000
END:STANDARD
END:VTIMEZONE
BEGIN:VEVENT
DTSTART;TZID=Europe/Budapest:20270518T164500
DTEND;TZID=Europe/Budapest:20270518T174500
DTSTAMP:20260425T170831
CREATED:20260104T105654Z
LAST-MODIFIED:20260310T114240Z
UID:10002496-1810658700-1810662300@mikepercsifoci.hu
SUMMARY:U9 edzés
DESCRIPTION:
URL:https://mikepercsifoci.hu/esemeny/u9-edzes-3/2027-05-18/
LOCATION:Mikepércsi Sportpálya\, Sport utca 4.\, Mikepércs\, 4271\, Hungary
CATEGORIES:U9 edzések
END:VEVENT
BEGIN:VEVENT
DTSTART;TZID=Europe/Budapest:20270518T190000
DTEND;TZID=Europe/Budapest:20270518T200000
DTSTAMP:20260425T170831
CREATED:20260104T105409Z
LAST-MODIFIED:20260104T105449Z
UID:10000142-1810666800-1810670400@mikepercsifoci.hu
SUMMARY:U11 edzés
DESCRIPTION:
URL:https://mikepercsifoci.hu/esemeny/u11-edzes-3/2027-05-18/
LOCATION:Mikepércsi Hunyadi János Általános Iskola\, Nagyváradi utca 1.\, Mikepércs\, 4271\, Hungary
CATEGORIES:U11 edzések
END:VEVENT
BEGIN:VEVENT
DTSTART;TZID=Europe/Budapest:20270519T164500
DTEND;TZID=Europe/Budapest:20270519T174500
DTSTAMP:20260425T170831
CREATED:20260310T114518Z
LAST-MODIFIED:20260310T114548Z
UID:10003287-1810745100-1810748700@mikepercsifoci.hu
SUMMARY:U13 edzés
DESCRIPTION:
URL:https://mikepercsifoci.hu/esemeny/u13-edzes-2-2-2/2027-05-19/
LOCATION:Mikepércsi Sportpálya\, Sport utca 4.\, Mikepércs\, 4271\, Hungary
CATEGORIES:U13 edzések
END:VEVENT
BEGIN:VEVENT
DTSTART;TZID=Europe/Budapest:20270520T164500
DTEND;TZID=Europe/Budapest:20270520T174500
DTSTAMP:20260425T170831
CREATED:20260104T105556Z
LAST-MODIFIED:20260310T114146Z
UID:10002226-1810831500-1810835100@mikepercsifoci.hu
SUMMARY:U9 edzés
DESCRIPTION:
URL:https://mikepercsifoci.hu/esemeny/u9-edzes-2-2/2027-05-20/
LOCATION:Mikepércsi Sportpálya\, Sport utca 4.\, Mikepércs\, 4271\, Hungary
CATEGORIES:U9 edzések
END:VEVENT
BEGIN:VEVENT
DTSTART;TZID=Europe/Budapest:20270521T164500
DTEND;TZID=Europe/Budapest:20270521T174500
DTSTAMP:20260425T170831
CREATED:20260104T110102Z
LAST-MODIFIED:20260310T114423Z
UID:10002766-1810917900-1810921500@mikepercsifoci.hu
SUMMARY:U13 edzés
DESCRIPTION:
URL:https://mikepercsifoci.hu/esemeny/u13-edzes-3/2027-05-21/
LOCATION:Mikepércsi Sportpálya\, Sport utca 4.\, Mikepércs\, 4271\, Hungary
CATEGORIES:U13 edzések
END:VEVENT
BEGIN:VEVENT
DTSTART;TZID=Europe/Budapest:20270521T170000
DTEND;TZID=Europe/Budapest:20270521T180000
DTSTAMP:20260425T170831
CREATED:20260104T105755Z
LAST-MODIFIED:20260104T105806Z
UID:10001182-1810918800-1810922400@mikepercsifoci.hu
SUMMARY:U7 edzés
DESCRIPTION:
URL:https://mikepercsifoci.hu/esemeny/u7-edzes-2-2/2027-05-21/
LOCATION:Mikepércsi Hunyadi János Általános Iskola\, Nagyváradi utca 1.\, Mikepércs\, 4271\, Hungary
CATEGORIES:U7 edzések
END:VEVENT
BEGIN:VEVENT
DTSTART;TZID=Europe/Budapest:20270521T180000
DTEND;TZID=Europe/Budapest:20270521T190000
DTSTAMP:20260425T170831
CREATED:20260104T105249Z
LAST-MODIFIED:20260104T105515Z
UID:10000402-1810922400-1810926000@mikepercsifoci.hu
SUMMARY:U11 edzés
DESCRIPTION:
URL:https://mikepercsifoci.hu/esemeny/u11-edzes-2-2/2027-05-21/
LOCATION:Mikepércsi Hunyadi János Általános Iskola\, Nagyváradi utca 1.\, Mikepércs\, 4271\, Hungary
CATEGORIES:U11 edzések
END:VEVENT
BEGIN:VEVENT
DTSTART;TZID=Europe/Budapest:20270524T164500
DTEND;TZID=Europe/Budapest:20270524T174500
DTSTAMP:20260425T170831
CREATED:20260310T114641Z
LAST-MODIFIED:20260310T114659Z
UID:10003547-1811177100-1811180700@mikepercsifoci.hu
SUMMARY:U13 edzés
DESCRIPTION:
URL:https://mikepercsifoci.hu/esemeny/u13-edzes-4/2027-05-24/
LOCATION:Mikepércsi Sportpálya\, Sport utca 4.\, Mikepércs\, 4271\, Hungary
CATEGORIES:U13 edzések
END:VEVENT
BEGIN:VEVENT
DTSTART;TZID=Europe/Budapest:20270524T170000
DTEND;TZID=Europe/Budapest:20270524T180000
DTSTAMP:20260425T170831
CREATED:20260104T105839Z
LAST-MODIFIED:20260104T105848Z
UID:10001443-1811178000-1811181600@mikepercsifoci.hu
SUMMARY:U7 edzés
DESCRIPTION:
URL:https://mikepercsifoci.hu/esemeny/u7-edzes-3/2027-05-24/
LOCATION:Mikepércsi Hunyadi János Általános Iskola\, Nagyváradi utca 1.\, Mikepércs\, 4271\, Hungary
CATEGORIES:U7 edzések
END:VEVENT
BEGIN:VEVENT
DTSTART;TZID=Europe/Budapest:20270525T164500
DTEND;TZID=Europe/Budapest:20270525T174500
DTSTAMP:20260425T170831
CREATED:20260104T105654Z
LAST-MODIFIED:20260310T114240Z
UID:10002497-1811263500-1811267100@mikepercsifoci.hu
SUMMARY:U9 edzés
DESCRIPTION:
URL:https://mikepercsifoci.hu/esemeny/u9-edzes-3/2027-05-25/
LOCATION:Mikepércsi Sportpálya\, Sport utca 4.\, Mikepércs\, 4271\, Hungary
CATEGORIES:U9 edzések
END:VEVENT
BEGIN:VEVENT
DTSTART;TZID=Europe/Budapest:20270525T190000
DTEND;TZID=Europe/Budapest:20270525T200000
DTSTAMP:20260425T170831
CREATED:20260104T105409Z
LAST-MODIFIED:20260104T105449Z
UID:10000143-1811271600-1811275200@mikepercsifoci.hu
SUMMARY:U11 edzés
DESCRIPTION:
URL:https://mikepercsifoci.hu/esemeny/u11-edzes-3/2027-05-25/
LOCATION:Mikepércsi Hunyadi János Általános Iskola\, Nagyváradi utca 1.\, Mikepércs\, 4271\, Hungary
CATEGORIES:U11 edzések
END:VEVENT
BEGIN:VEVENT
DTSTART;TZID=Europe/Budapest:20270526T164500
DTEND;TZID=Europe/Budapest:20270526T174500
DTSTAMP:20260425T170831
CREATED:20260310T114518Z
LAST-MODIFIED:20260310T114548Z
UID:10003288-1811349900-1811353500@mikepercsifoci.hu
SUMMARY:U13 edzés
DESCRIPTION:
URL:https://mikepercsifoci.hu/esemeny/u13-edzes-2-2-2/2027-05-26/
LOCATION:Mikepércsi Sportpálya\, Sport utca 4.\, Mikepércs\, 4271\, Hungary
CATEGORIES:U13 edzések
END:VEVENT
BEGIN:VEVENT
DTSTART;TZID=Europe/Budapest:20270527T164500
DTEND;TZID=Europe/Budapest:20270527T174500
DTSTAMP:20260425T170831
CREATED:20260104T105556Z
LAST-MODIFIED:20260310T114146Z
UID:10002227-1811436300-1811439900@mikepercsifoci.hu
SUMMARY:U9 edzés
DESCRIPTION:
URL:https://mikepercsifoci.hu/esemeny/u9-edzes-2-2/2027-05-27/
LOCATION:Mikepércsi Sportpálya\, Sport utca 4.\, Mikepércs\, 4271\, Hungary
CATEGORIES:U9 edzések
END:VEVENT
BEGIN:VEVENT
DTSTART;TZID=Europe/Budapest:20270528T164500
DTEND;TZID=Europe/Budapest:20270528T174500
DTSTAMP:20260425T170831
CREATED:20260104T110102Z
LAST-MODIFIED:20260310T114423Z
UID:10002767-1811522700-1811526300@mikepercsifoci.hu
SUMMARY:U13 edzés
DESCRIPTION:
URL:https://mikepercsifoci.hu/esemeny/u13-edzes-3/2027-05-28/
LOCATION:Mikepércsi Sportpálya\, Sport utca 4.\, Mikepércs\, 4271\, Hungary
CATEGORIES:U13 edzések
END:VEVENT
BEGIN:VEVENT
DTSTART;TZID=Europe/Budapest:20270528T170000
DTEND;TZID=Europe/Budapest:20270528T180000
DTSTAMP:20260425T170831
CREATED:20260104T105755Z
LAST-MODIFIED:20260104T105806Z
UID:10001183-1811523600-1811527200@mikepercsifoci.hu
SUMMARY:U7 edzés
DESCRIPTION:
URL:https://mikepercsifoci.hu/esemeny/u7-edzes-2-2/2027-05-28/
LOCATION:Mikepércsi Hunyadi János Általános Iskola\, Nagyváradi utca 1.\, Mikepércs\, 4271\, Hungary
CATEGORIES:U7 edzések
END:VEVENT
BEGIN:VEVENT
DTSTART;TZID=Europe/Budapest:20270528T180000
DTEND;TZID=Europe/Budapest:20270528T190000
DTSTAMP:20260425T170831
CREATED:20260104T105249Z
LAST-MODIFIED:20260104T105515Z
UID:10000403-1811527200-1811530800@mikepercsifoci.hu
SUMMARY:U11 edzés
DESCRIPTION:
URL:https://mikepercsifoci.hu/esemeny/u11-edzes-2-2/2027-05-28/
LOCATION:Mikepércsi Hunyadi János Általános Iskola\, Nagyváradi utca 1.\, Mikepércs\, 4271\, Hungary
CATEGORIES:U11 edzések
END:VEVENT
BEGIN:VEVENT
DTSTART;TZID=Europe/Budapest:20270531T164500
DTEND;TZID=Europe/Budapest:20270531T174500
DTSTAMP:20260425T170831
CREATED:20260310T114641Z
LAST-MODIFIED:20260310T114659Z
UID:10003548-1811781900-1811785500@mikepercsifoci.hu
SUMMARY:U13 edzés
DESCRIPTION:
URL:https://mikepercsifoci.hu/esemeny/u13-edzes-4/2027-05-31/
LOCATION:Mikepércsi Sportpálya\, Sport utca 4.\, Mikepércs\, 4271\, Hungary
CATEGORIES:U13 edzések
END:VEVENT
BEGIN:VEVENT
DTSTART;TZID=Europe/Budapest:20270531T170000
DTEND;TZID=Europe/Budapest:20270531T180000
DTSTAMP:20260425T170831
CREATED:20260104T105839Z
LAST-MODIFIED:20260104T105848Z
UID:10001444-1811782800-1811786400@mikepercsifoci.hu
SUMMARY:U7 edzés
DESCRIPTION:
URL:https://mikepercsifoci.hu/esemeny/u7-edzes-3/2027-05-31/
LOCATION:Mikepércsi Hunyadi János Általános Iskola\, Nagyváradi utca 1.\, Mikepércs\, 4271\, Hungary
CATEGORIES:U7 edzések
END:VEVENT
BEGIN:VEVENT
DTSTART;TZID=Europe/Budapest:20270601T164500
DTEND;TZID=Europe/Budapest:20270601T174500
DTSTAMP:20260425T170831
CREATED:20260104T105654Z
LAST-MODIFIED:20260310T114240Z
UID:10002498-1811868300-1811871900@mikepercsifoci.hu
SUMMARY:U9 edzés
DESCRIPTION:
URL:https://mikepercsifoci.hu/esemeny/u9-edzes-3/2027-06-01/
LOCATION:Mikepércsi Sportpálya\, Sport utca 4.\, Mikepércs\, 4271\, Hungary
CATEGORIES:U9 edzések
END:VEVENT
BEGIN:VEVENT
DTSTART;TZID=Europe/Budapest:20270601T190000
DTEND;TZID=Europe/Budapest:20270601T200000
DTSTAMP:20260425T170831
CREATED:20260104T105409Z
LAST-MODIFIED:20260104T105449Z
UID:10000144-1811876400-1811880000@mikepercsifoci.hu
SUMMARY:U11 edzés
DESCRIPTION:
URL:https://mikepercsifoci.hu/esemeny/u11-edzes-3/2027-06-01/
LOCATION:Mikepércsi Hunyadi János Általános Iskola\, Nagyváradi utca 1.\, Mikepércs\, 4271\, Hungary
CATEGORIES:U11 edzések
END:VEVENT
BEGIN:VEVENT
DTSTART;TZID=Europe/Budapest:20270602T164500
DTEND;TZID=Europe/Budapest:20270602T174500
DTSTAMP:20260425T170831
CREATED:20260310T114518Z
LAST-MODIFIED:20260310T114548Z
UID:10003289-1811954700-1811958300@mikepercsifoci.hu
SUMMARY:U13 edzés
DESCRIPTION:
URL:https://mikepercsifoci.hu/esemeny/u13-edzes-2-2-2/2027-06-02/
LOCATION:Mikepércsi Sportpálya\, Sport utca 4.\, Mikepércs\, 4271\, Hungary
CATEGORIES:U13 edzések
END:VEVENT
BEGIN:VEVENT
DTSTART;TZID=Europe/Budapest:20270603T164500
DTEND;TZID=Europe/Budapest:20270603T174500
DTSTAMP:20260425T170831
CREATED:20260104T105556Z
LAST-MODIFIED:20260310T114146Z
UID:10002228-1812041100-1812044700@mikepercsifoci.hu
SUMMARY:U9 edzés
DESCRIPTION:
URL:https://mikepercsifoci.hu/esemeny/u9-edzes-2-2/2027-06-03/
LOCATION:Mikepércsi Sportpálya\, Sport utca 4.\, Mikepércs\, 4271\, Hungary
CATEGORIES:U9 edzések
END:VEVENT
BEGIN:VEVENT
DTSTART;TZID=Europe/Budapest:20270604T164500
DTEND;TZID=Europe/Budapest:20270604T174500
DTSTAMP:20260425T170831
CREATED:20260104T110102Z
LAST-MODIFIED:20260310T114423Z
UID:10002768-1812127500-1812131100@mikepercsifoci.hu
SUMMARY:U13 edzés
DESCRIPTION:
URL:https://mikepercsifoci.hu/esemeny/u13-edzes-3/2027-06-04/
LOCATION:Mikepércsi Sportpálya\, Sport utca 4.\, Mikepércs\, 4271\, Hungary
CATEGORIES:U13 edzések
END:VEVENT
BEGIN:VEVENT
DTSTART;TZID=Europe/Budapest:20270604T170000
DTEND;TZID=Europe/Budapest:20270604T180000
DTSTAMP:20260425T170831
CREATED:20260104T105755Z
LAST-MODIFIED:20260104T105806Z
UID:10001184-1812128400-1812132000@mikepercsifoci.hu
SUMMARY:U7 edzés
DESCRIPTION:
URL:https://mikepercsifoci.hu/esemeny/u7-edzes-2-2/2027-06-04/
LOCATION:Mikepércsi Hunyadi János Általános Iskola\, Nagyváradi utca 1.\, Mikepércs\, 4271\, Hungary
CATEGORIES:U7 edzések
END:VEVENT
BEGIN:VEVENT
DTSTART;TZID=Europe/Budapest:20270604T180000
DTEND;TZID=Europe/Budapest:20270604T190000
DTSTAMP:20260425T170831
CREATED:20260104T105249Z
LAST-MODIFIED:20260104T105515Z
UID:10000404-1812132000-1812135600@mikepercsifoci.hu
SUMMARY:U11 edzés
DESCRIPTION:
URL:https://mikepercsifoci.hu/esemeny/u11-edzes-2-2/2027-06-04/
LOCATION:Mikepércsi Hunyadi János Általános Iskola\, Nagyváradi utca 1.\, Mikepércs\, 4271\, Hungary
CATEGORIES:U11 edzések
END:VEVENT
BEGIN:VEVENT
DTSTART;TZID=Europe/Budapest:20270607T164500
DTEND;TZID=Europe/Budapest:20270607T174500
DTSTAMP:20260425T170831
CREATED:20260310T114641Z
LAST-MODIFIED:20260310T114659Z
UID:10003549-1812386700-1812390300@mikepercsifoci.hu
SUMMARY:U13 edzés
DESCRIPTION:
URL:https://mikepercsifoci.hu/esemeny/u13-edzes-4/2027-06-07/
LOCATION:Mikepércsi Sportpálya\, Sport utca 4.\, Mikepércs\, 4271\, Hungary
CATEGORIES:U13 edzések
END:VEVENT
BEGIN:VEVENT
DTSTART;TZID=Europe/Budapest:20270607T170000
DTEND;TZID=Europe/Budapest:20270607T180000
DTSTAMP:20260425T170831
CREATED:20260104T105839Z
LAST-MODIFIED:20260104T105848Z
UID:10001445-1812387600-1812391200@mikepercsifoci.hu
SUMMARY:U7 edzés
DESCRIPTION:
URL:https://mikepercsifoci.hu/esemeny/u7-edzes-3/2027-06-07/
LOCATION:Mikepércsi Hunyadi János Általános Iskola\, Nagyváradi utca 1.\, Mikepércs\, 4271\, Hungary
CATEGORIES:U7 edzések
END:VEVENT
BEGIN:VEVENT
DTSTART;TZID=Europe/Budapest:20270608T164500
DTEND;TZID=Europe/Budapest:20270608T174500
DTSTAMP:20260425T170831
CREATED:20260104T105654Z
LAST-MODIFIED:20260310T114240Z
UID:10002499-1812473100-1812476700@mikepercsifoci.hu
SUMMARY:U9 edzés
DESCRIPTION:
URL:https://mikepercsifoci.hu/esemeny/u9-edzes-3/2027-06-08/
LOCATION:Mikepércsi Sportpálya\, Sport utca 4.\, Mikepércs\, 4271\, Hungary
CATEGORIES:U9 edzések
END:VEVENT
BEGIN:VEVENT
DTSTART;TZID=Europe/Budapest:20270608T190000
DTEND;TZID=Europe/Budapest:20270608T200000
DTSTAMP:20260425T170831
CREATED:20260104T105409Z
LAST-MODIFIED:20260104T105449Z
UID:10000145-1812481200-1812484800@mikepercsifoci.hu
SUMMARY:U11 edzés
DESCRIPTION:
URL:https://mikepercsifoci.hu/esemeny/u11-edzes-3/2027-06-08/
LOCATION:Mikepércsi Hunyadi János Általános Iskola\, Nagyváradi utca 1.\, Mikepércs\, 4271\, Hungary
CATEGORIES:U11 edzések
END:VEVENT
BEGIN:VEVENT
DTSTART;TZID=Europe/Budapest:20270609T164500
DTEND;TZID=Europe/Budapest:20270609T174500
DTSTAMP:20260425T170831
CREATED:20260310T114518Z
LAST-MODIFIED:20260310T114548Z
UID:10003290-1812559500-1812563100@mikepercsifoci.hu
SUMMARY:U13 edzés
DESCRIPTION:
URL:https://mikepercsifoci.hu/esemeny/u13-edzes-2-2-2/2027-06-09/
LOCATION:Mikepércsi Sportpálya\, Sport utca 4.\, Mikepércs\, 4271\, Hungary
CATEGORIES:U13 edzések
END:VEVENT
END:VCALENDAR