BEGIN:VCALENDAR
VERSION:2.0
PRODID:-//Mikepércsi Foci - ECPv6.15.12.2//NONSGML v1.0//EN
CALSCALE:GREGORIAN
METHOD:PUBLISH
X-WR-CALNAME:Mikepércsi Foci
X-ORIGINAL-URL:https://mikepercsifoci.hu
X-WR-CALDESC:Események Mikepércsi Foci
REFRESH-INTERVAL;VALUE=DURATION:PT1H
X-Robots-Tag:noindex
X-PUBLISHED-TTL:PT1H
BEGIN:VTIMEZONE
TZID:Europe/Budapest
BEGIN:DAYLIGHT
TZOFFSETFROM:+0100
TZOFFSETTO:+0200
TZNAME:CEST
DTSTART:20260329T010000
END:DAYLIGHT
BEGIN:STANDARD
TZOFFSETFROM:+0200
TZOFFSETTO:+0100
TZNAME:CET
DTSTART:20261025T010000
END:STANDARD
BEGIN:DAYLIGHT
TZOFFSETFROM:+0100
TZOFFSETTO:+0200
TZNAME:CEST
DTSTART:20270328T010000
END:DAYLIGHT
BEGIN:STANDARD
TZOFFSETFROM:+0200
TZOFFSETTO:+0100
TZNAME:CET
DTSTART:20271031T010000
END:STANDARD
BEGIN:DAYLIGHT
TZOFFSETFROM:+0100
TZOFFSETTO:+0200
TZNAME:CEST
DTSTART:20280326T010000
END:DAYLIGHT
BEGIN:STANDARD
TZOFFSETFROM:+0200
TZOFFSETTO:+0100
TZNAME:CET
DTSTART:20281029T010000
END:STANDARD
BEGIN:DAYLIGHT
TZOFFSETFROM:+0100
TZOFFSETTO:+0200
TZNAME:CEST
DTSTART:20290325T010000
END:DAYLIGHT
BEGIN:STANDARD
TZOFFSETFROM:+0200
TZOFFSETTO:+0100
TZNAME:CET
DTSTART:20291028T010000
END:STANDARD
END:VTIMEZONE
BEGIN:VEVENT
DTSTART;TZID=Europe/Budapest:20271230T164500
DTEND;TZID=Europe/Budapest:20271230T174500
DTSTAMP:20260426T041326
CREATED:20260104T105556Z
LAST-MODIFIED:20260310T114146Z
UID:10002258-1830185100-1830188700@mikepercsifoci.hu
SUMMARY:U9 edzés
DESCRIPTION:
URL:https://mikepercsifoci.hu/esemeny/u9-edzes-2-2/2027-12-30/
LOCATION:Mikepércsi Sportpálya\, Sport utca 4.\, Mikepércs\, 4271\, Hungary
CATEGORIES:U9 edzések
END:VEVENT
BEGIN:VEVENT
DTSTART;TZID=Europe/Budapest:20271231T164500
DTEND;TZID=Europe/Budapest:20271231T174500
DTSTAMP:20260426T041326
CREATED:20260104T110102Z
LAST-MODIFIED:20260310T114423Z
UID:10002798-1830271500-1830275100@mikepercsifoci.hu
SUMMARY:U13 edzés
DESCRIPTION:
URL:https://mikepercsifoci.hu/esemeny/u13-edzes-3/2027-12-31/
LOCATION:Mikepércsi Sportpálya\, Sport utca 4.\, Mikepércs\, 4271\, Hungary
CATEGORIES:U13 edzések
END:VEVENT
BEGIN:VEVENT
DTSTART;TZID=Europe/Budapest:20271231T170000
DTEND;TZID=Europe/Budapest:20271231T180000
DTSTAMP:20260426T041326
CREATED:20260104T105755Z
LAST-MODIFIED:20260104T105806Z
UID:10001214-1830272400-1830276000@mikepercsifoci.hu
SUMMARY:U7 edzés
DESCRIPTION:
URL:https://mikepercsifoci.hu/esemeny/u7-edzes-2-2/2027-12-31/
LOCATION:Mikepércsi Hunyadi János Általános Iskola\, Nagyváradi utca 1.\, Mikepércs\, 4271\, Hungary
CATEGORIES:U7 edzések
END:VEVENT
BEGIN:VEVENT
DTSTART;TZID=Europe/Budapest:20271231T180000
DTEND;TZID=Europe/Budapest:20271231T190000
DTSTAMP:20260426T041326
CREATED:20260104T105249Z
LAST-MODIFIED:20260104T105515Z
UID:10000434-1830276000-1830279600@mikepercsifoci.hu
SUMMARY:U11 edzés
DESCRIPTION:
URL:https://mikepercsifoci.hu/esemeny/u11-edzes-2-2/2027-12-31/
LOCATION:Mikepércsi Hunyadi János Általános Iskola\, Nagyváradi utca 1.\, Mikepércs\, 4271\, Hungary
CATEGORIES:U11 edzések
END:VEVENT
BEGIN:VEVENT
DTSTART;TZID=Europe/Budapest:20280103T164500
DTEND;TZID=Europe/Budapest:20280103T174500
DTSTAMP:20260426T041326
CREATED:20260310T114641Z
LAST-MODIFIED:20260310T114659Z
UID:10003579-1830530700-1830534300@mikepercsifoci.hu
SUMMARY:U13 edzés
DESCRIPTION:
URL:https://mikepercsifoci.hu/esemeny/u13-edzes-4/2028-01-03/
LOCATION:Mikepércsi Sportpálya\, Sport utca 4.\, Mikepércs\, 4271\, Hungary
CATEGORIES:U13 edzések
END:VEVENT
BEGIN:VEVENT
DTSTART;TZID=Europe/Budapest:20280103T170000
DTEND;TZID=Europe/Budapest:20280103T180000
DTSTAMP:20260426T041326
CREATED:20260104T105839Z
LAST-MODIFIED:20260104T105848Z
UID:10001475-1830531600-1830535200@mikepercsifoci.hu
SUMMARY:U7 edzés
DESCRIPTION:
URL:https://mikepercsifoci.hu/esemeny/u7-edzes-3/2028-01-03/
LOCATION:Mikepércsi Hunyadi János Általános Iskola\, Nagyváradi utca 1.\, Mikepércs\, 4271\, Hungary
CATEGORIES:U7 edzések
END:VEVENT
BEGIN:VEVENT
DTSTART;TZID=Europe/Budapest:20280104T164500
DTEND;TZID=Europe/Budapest:20280104T174500
DTSTAMP:20260426T041326
CREATED:20260104T105654Z
LAST-MODIFIED:20260310T114240Z
UID:10002529-1830617100-1830620700@mikepercsifoci.hu
SUMMARY:U9 edzés
DESCRIPTION:
URL:https://mikepercsifoci.hu/esemeny/u9-edzes-3/2028-01-04/
LOCATION:Mikepércsi Sportpálya\, Sport utca 4.\, Mikepércs\, 4271\, Hungary
CATEGORIES:U9 edzések
END:VEVENT
BEGIN:VEVENT
DTSTART;TZID=Europe/Budapest:20280104T190000
DTEND;TZID=Europe/Budapest:20280104T200000
DTSTAMP:20260426T041326
CREATED:20260104T105409Z
LAST-MODIFIED:20260104T105449Z
UID:10000175-1830625200-1830628800@mikepercsifoci.hu
SUMMARY:U11 edzés
DESCRIPTION:
URL:https://mikepercsifoci.hu/esemeny/u11-edzes-3/2028-01-04/
LOCATION:Mikepércsi Hunyadi János Általános Iskola\, Nagyváradi utca 1.\, Mikepércs\, 4271\, Hungary
CATEGORIES:U11 edzések
END:VEVENT
BEGIN:VEVENT
DTSTART;TZID=Europe/Budapest:20280105T164500
DTEND;TZID=Europe/Budapest:20280105T174500
DTSTAMP:20260426T041326
CREATED:20260310T114518Z
LAST-MODIFIED:20260310T114548Z
UID:10003320-1830703500-1830707100@mikepercsifoci.hu
SUMMARY:U13 edzés
DESCRIPTION:
URL:https://mikepercsifoci.hu/esemeny/u13-edzes-2-2-2/2028-01-05/
LOCATION:Mikepércsi Sportpálya\, Sport utca 4.\, Mikepércs\, 4271\, Hungary
CATEGORIES:U13 edzések
END:VEVENT
BEGIN:VEVENT
DTSTART;TZID=Europe/Budapest:20280106T164500
DTEND;TZID=Europe/Budapest:20280106T174500
DTSTAMP:20260426T041326
CREATED:20260104T105556Z
LAST-MODIFIED:20260310T114146Z
UID:10002259-1830789900-1830793500@mikepercsifoci.hu
SUMMARY:U9 edzés
DESCRIPTION:
URL:https://mikepercsifoci.hu/esemeny/u9-edzes-2-2/2028-01-06/
LOCATION:Mikepércsi Sportpálya\, Sport utca 4.\, Mikepércs\, 4271\, Hungary
CATEGORIES:U9 edzések
END:VEVENT
BEGIN:VEVENT
DTSTART;TZID=Europe/Budapest:20280107T164500
DTEND;TZID=Europe/Budapest:20280107T174500
DTSTAMP:20260426T041326
CREATED:20260104T110102Z
LAST-MODIFIED:20260310T114423Z
UID:10002799-1830876300-1830879900@mikepercsifoci.hu
SUMMARY:U13 edzés
DESCRIPTION:
URL:https://mikepercsifoci.hu/esemeny/u13-edzes-3/2028-01-07/
LOCATION:Mikepércsi Sportpálya\, Sport utca 4.\, Mikepércs\, 4271\, Hungary
CATEGORIES:U13 edzések
END:VEVENT
BEGIN:VEVENT
DTSTART;TZID=Europe/Budapest:20280107T170000
DTEND;TZID=Europe/Budapest:20280107T180000
DTSTAMP:20260426T041326
CREATED:20260104T105755Z
LAST-MODIFIED:20260104T105806Z
UID:10001215-1830877200-1830880800@mikepercsifoci.hu
SUMMARY:U7 edzés
DESCRIPTION:
URL:https://mikepercsifoci.hu/esemeny/u7-edzes-2-2/2028-01-07/
LOCATION:Mikepércsi Hunyadi János Általános Iskola\, Nagyváradi utca 1.\, Mikepércs\, 4271\, Hungary
CATEGORIES:U7 edzések
END:VEVENT
BEGIN:VEVENT
DTSTART;TZID=Europe/Budapest:20280107T180000
DTEND;TZID=Europe/Budapest:20280107T190000
DTSTAMP:20260426T041326
CREATED:20260104T105249Z
LAST-MODIFIED:20260104T105515Z
UID:10000435-1830880800-1830884400@mikepercsifoci.hu
SUMMARY:U11 edzés
DESCRIPTION:
URL:https://mikepercsifoci.hu/esemeny/u11-edzes-2-2/2028-01-07/
LOCATION:Mikepércsi Hunyadi János Általános Iskola\, Nagyváradi utca 1.\, Mikepércs\, 4271\, Hungary
CATEGORIES:U11 edzések
END:VEVENT
BEGIN:VEVENT
DTSTART;TZID=Europe/Budapest:20280110T164500
DTEND;TZID=Europe/Budapest:20280110T174500
DTSTAMP:20260426T041326
CREATED:20260310T114641Z
LAST-MODIFIED:20260310T114659Z
UID:10003580-1831135500-1831139100@mikepercsifoci.hu
SUMMARY:U13 edzés
DESCRIPTION:
URL:https://mikepercsifoci.hu/esemeny/u13-edzes-4/2028-01-10/
LOCATION:Mikepércsi Sportpálya\, Sport utca 4.\, Mikepércs\, 4271\, Hungary
CATEGORIES:U13 edzések
END:VEVENT
BEGIN:VEVENT
DTSTART;TZID=Europe/Budapest:20280110T170000
DTEND;TZID=Europe/Budapest:20280110T180000
DTSTAMP:20260426T041326
CREATED:20260104T105839Z
LAST-MODIFIED:20260104T105848Z
UID:10001476-1831136400-1831140000@mikepercsifoci.hu
SUMMARY:U7 edzés
DESCRIPTION:
URL:https://mikepercsifoci.hu/esemeny/u7-edzes-3/2028-01-10/
LOCATION:Mikepércsi Hunyadi János Általános Iskola\, Nagyváradi utca 1.\, Mikepércs\, 4271\, Hungary
CATEGORIES:U7 edzések
END:VEVENT
BEGIN:VEVENT
DTSTART;TZID=Europe/Budapest:20280111T164500
DTEND;TZID=Europe/Budapest:20280111T174500
DTSTAMP:20260426T041326
CREATED:20260104T105654Z
LAST-MODIFIED:20260310T114240Z
UID:10002530-1831221900-1831225500@mikepercsifoci.hu
SUMMARY:U9 edzés
DESCRIPTION:
URL:https://mikepercsifoci.hu/esemeny/u9-edzes-3/2028-01-11/
LOCATION:Mikepércsi Sportpálya\, Sport utca 4.\, Mikepércs\, 4271\, Hungary
CATEGORIES:U9 edzések
END:VEVENT
BEGIN:VEVENT
DTSTART;TZID=Europe/Budapest:20280111T190000
DTEND;TZID=Europe/Budapest:20280111T200000
DTSTAMP:20260426T041326
CREATED:20260104T105409Z
LAST-MODIFIED:20260104T105449Z
UID:10000176-1831230000-1831233600@mikepercsifoci.hu
SUMMARY:U11 edzés
DESCRIPTION:
URL:https://mikepercsifoci.hu/esemeny/u11-edzes-3/2028-01-11/
LOCATION:Mikepércsi Hunyadi János Általános Iskola\, Nagyváradi utca 1.\, Mikepércs\, 4271\, Hungary
CATEGORIES:U11 edzések
END:VEVENT
BEGIN:VEVENT
DTSTART;TZID=Europe/Budapest:20280112T164500
DTEND;TZID=Europe/Budapest:20280112T174500
DTSTAMP:20260426T041326
CREATED:20260310T114518Z
LAST-MODIFIED:20260310T114548Z
UID:10003321-1831308300-1831311900@mikepercsifoci.hu
SUMMARY:U13 edzés
DESCRIPTION:
URL:https://mikepercsifoci.hu/esemeny/u13-edzes-2-2-2/2028-01-12/
LOCATION:Mikepércsi Sportpálya\, Sport utca 4.\, Mikepércs\, 4271\, Hungary
CATEGORIES:U13 edzések
END:VEVENT
BEGIN:VEVENT
DTSTART;TZID=Europe/Budapest:20280113T164500
DTEND;TZID=Europe/Budapest:20280113T174500
DTSTAMP:20260426T041326
CREATED:20260104T105556Z
LAST-MODIFIED:20260310T114146Z
UID:10002260-1831394700-1831398300@mikepercsifoci.hu
SUMMARY:U9 edzés
DESCRIPTION:
URL:https://mikepercsifoci.hu/esemeny/u9-edzes-2-2/2028-01-13/
LOCATION:Mikepércsi Sportpálya\, Sport utca 4.\, Mikepércs\, 4271\, Hungary
CATEGORIES:U9 edzések
END:VEVENT
BEGIN:VEVENT
DTSTART;TZID=Europe/Budapest:20280114T164500
DTEND;TZID=Europe/Budapest:20280114T174500
DTSTAMP:20260426T041326
CREATED:20260104T110102Z
LAST-MODIFIED:20260310T114423Z
UID:10002800-1831481100-1831484700@mikepercsifoci.hu
SUMMARY:U13 edzés
DESCRIPTION:
URL:https://mikepercsifoci.hu/esemeny/u13-edzes-3/2028-01-14/
LOCATION:Mikepércsi Sportpálya\, Sport utca 4.\, Mikepércs\, 4271\, Hungary
CATEGORIES:U13 edzések
END:VEVENT
BEGIN:VEVENT
DTSTART;TZID=Europe/Budapest:20280114T170000
DTEND;TZID=Europe/Budapest:20280114T180000
DTSTAMP:20260426T041326
CREATED:20260104T105755Z
LAST-MODIFIED:20260104T105806Z
UID:10001216-1831482000-1831485600@mikepercsifoci.hu
SUMMARY:U7 edzés
DESCRIPTION:
URL:https://mikepercsifoci.hu/esemeny/u7-edzes-2-2/2028-01-14/
LOCATION:Mikepércsi Hunyadi János Általános Iskola\, Nagyváradi utca 1.\, Mikepércs\, 4271\, Hungary
CATEGORIES:U7 edzések
END:VEVENT
BEGIN:VEVENT
DTSTART;TZID=Europe/Budapest:20280114T180000
DTEND;TZID=Europe/Budapest:20280114T190000
DTSTAMP:20260426T041326
CREATED:20260104T105249Z
LAST-MODIFIED:20260104T105515Z
UID:10000436-1831485600-1831489200@mikepercsifoci.hu
SUMMARY:U11 edzés
DESCRIPTION:
URL:https://mikepercsifoci.hu/esemeny/u11-edzes-2-2/2028-01-14/
LOCATION:Mikepércsi Hunyadi János Általános Iskola\, Nagyváradi utca 1.\, Mikepércs\, 4271\, Hungary
CATEGORIES:U11 edzések
END:VEVENT
BEGIN:VEVENT
DTSTART;TZID=Europe/Budapest:20280117T164500
DTEND;TZID=Europe/Budapest:20280117T174500
DTSTAMP:20260426T041326
CREATED:20260310T114641Z
LAST-MODIFIED:20260310T114659Z
UID:10003581-1831740300-1831743900@mikepercsifoci.hu
SUMMARY:U13 edzés
DESCRIPTION:
URL:https://mikepercsifoci.hu/esemeny/u13-edzes-4/2028-01-17/
LOCATION:Mikepércsi Sportpálya\, Sport utca 4.\, Mikepércs\, 4271\, Hungary
CATEGORIES:U13 edzések
END:VEVENT
BEGIN:VEVENT
DTSTART;TZID=Europe/Budapest:20280117T170000
DTEND;TZID=Europe/Budapest:20280117T180000
DTSTAMP:20260426T041326
CREATED:20260104T105839Z
LAST-MODIFIED:20260104T105848Z
UID:10001477-1831741200-1831744800@mikepercsifoci.hu
SUMMARY:U7 edzés
DESCRIPTION:
URL:https://mikepercsifoci.hu/esemeny/u7-edzes-3/2028-01-17/
LOCATION:Mikepércsi Hunyadi János Általános Iskola\, Nagyváradi utca 1.\, Mikepércs\, 4271\, Hungary
CATEGORIES:U7 edzések
END:VEVENT
BEGIN:VEVENT
DTSTART;TZID=Europe/Budapest:20280118T164500
DTEND;TZID=Europe/Budapest:20280118T174500
DTSTAMP:20260426T041326
CREATED:20260104T105654Z
LAST-MODIFIED:20260310T114240Z
UID:10002531-1831826700-1831830300@mikepercsifoci.hu
SUMMARY:U9 edzés
DESCRIPTION:
URL:https://mikepercsifoci.hu/esemeny/u9-edzes-3/2028-01-18/
LOCATION:Mikepércsi Sportpálya\, Sport utca 4.\, Mikepércs\, 4271\, Hungary
CATEGORIES:U9 edzések
END:VEVENT
BEGIN:VEVENT
DTSTART;TZID=Europe/Budapest:20280118T190000
DTEND;TZID=Europe/Budapest:20280118T200000
DTSTAMP:20260426T041326
CREATED:20260104T105409Z
LAST-MODIFIED:20260104T105449Z
UID:10000177-1831834800-1831838400@mikepercsifoci.hu
SUMMARY:U11 edzés
DESCRIPTION:
URL:https://mikepercsifoci.hu/esemeny/u11-edzes-3/2028-01-18/
LOCATION:Mikepércsi Hunyadi János Általános Iskola\, Nagyváradi utca 1.\, Mikepércs\, 4271\, Hungary
CATEGORIES:U11 edzések
END:VEVENT
BEGIN:VEVENT
DTSTART;TZID=Europe/Budapest:20280119T164500
DTEND;TZID=Europe/Budapest:20280119T174500
DTSTAMP:20260426T041326
CREATED:20260310T114518Z
LAST-MODIFIED:20260310T114548Z
UID:10003322-1831913100-1831916700@mikepercsifoci.hu
SUMMARY:U13 edzés
DESCRIPTION:
URL:https://mikepercsifoci.hu/esemeny/u13-edzes-2-2-2/2028-01-19/
LOCATION:Mikepércsi Sportpálya\, Sport utca 4.\, Mikepércs\, 4271\, Hungary
CATEGORIES:U13 edzések
END:VEVENT
BEGIN:VEVENT
DTSTART;TZID=Europe/Budapest:20280120T164500
DTEND;TZID=Europe/Budapest:20280120T174500
DTSTAMP:20260426T041326
CREATED:20260104T105556Z
LAST-MODIFIED:20260310T114146Z
UID:10002261-1831999500-1832003100@mikepercsifoci.hu
SUMMARY:U9 edzés
DESCRIPTION:
URL:https://mikepercsifoci.hu/esemeny/u9-edzes-2-2/2028-01-20/
LOCATION:Mikepércsi Sportpálya\, Sport utca 4.\, Mikepércs\, 4271\, Hungary
CATEGORIES:U9 edzések
END:VEVENT
BEGIN:VEVENT
DTSTART;TZID=Europe/Budapest:20280121T164500
DTEND;TZID=Europe/Budapest:20280121T174500
DTSTAMP:20260426T041326
CREATED:20260104T110102Z
LAST-MODIFIED:20260310T114423Z
UID:10002801-1832085900-1832089500@mikepercsifoci.hu
SUMMARY:U13 edzés
DESCRIPTION:
URL:https://mikepercsifoci.hu/esemeny/u13-edzes-3/2028-01-21/
LOCATION:Mikepércsi Sportpálya\, Sport utca 4.\, Mikepércs\, 4271\, Hungary
CATEGORIES:U13 edzések
END:VEVENT
BEGIN:VEVENT
DTSTART;TZID=Europe/Budapest:20280121T170000
DTEND;TZID=Europe/Budapest:20280121T180000
DTSTAMP:20260426T041326
CREATED:20260104T105755Z
LAST-MODIFIED:20260104T105806Z
UID:10001217-1832086800-1832090400@mikepercsifoci.hu
SUMMARY:U7 edzés
DESCRIPTION:
URL:https://mikepercsifoci.hu/esemeny/u7-edzes-2-2/2028-01-21/
LOCATION:Mikepércsi Hunyadi János Általános Iskola\, Nagyváradi utca 1.\, Mikepércs\, 4271\, Hungary
CATEGORIES:U7 edzések
END:VEVENT
END:VCALENDAR