BEGIN:VCALENDAR
VERSION:2.0
PRODID:-//Mikepércsi Foci - ECPv6.15.12.2//NONSGML v1.0//EN
CALSCALE:GREGORIAN
METHOD:PUBLISH
X-WR-CALNAME:Mikepércsi Foci
X-ORIGINAL-URL:https://mikepercsifoci.hu
X-WR-CALDESC:Események Mikepércsi Foci
REFRESH-INTERVAL;VALUE=DURATION:PT1H
X-Robots-Tag:noindex
X-PUBLISHED-TTL:PT1H
BEGIN:VTIMEZONE
TZID:Europe/Budapest
BEGIN:DAYLIGHT
TZOFFSETFROM:+0100
TZOFFSETTO:+0200
TZNAME:CEST
DTSTART:20270328T010000
END:DAYLIGHT
BEGIN:STANDARD
TZOFFSETFROM:+0200
TZOFFSETTO:+0100
TZNAME:CET
DTSTART:20271031T010000
END:STANDARD
BEGIN:DAYLIGHT
TZOFFSETFROM:+0100
TZOFFSETTO:+0200
TZNAME:CEST
DTSTART:20280326T010000
END:DAYLIGHT
BEGIN:STANDARD
TZOFFSETFROM:+0200
TZOFFSETTO:+0100
TZNAME:CET
DTSTART:20281029T010000
END:STANDARD
BEGIN:DAYLIGHT
TZOFFSETFROM:+0100
TZOFFSETTO:+0200
TZNAME:CEST
DTSTART:20290325T010000
END:DAYLIGHT
BEGIN:STANDARD
TZOFFSETFROM:+0200
TZOFFSETTO:+0100
TZNAME:CET
DTSTART:20291028T010000
END:STANDARD
END:VTIMEZONE
BEGIN:VEVENT
DTSTART;TZID=Europe/Budapest:20280124T164500
DTEND;TZID=Europe/Budapest:20280124T174500
DTSTAMP:20260426T055425
CREATED:20260310T114641Z
LAST-MODIFIED:20260310T114659Z
UID:10003582-1832345100-1832348700@mikepercsifoci.hu
SUMMARY:U13 edzés
DESCRIPTION:
URL:https://mikepercsifoci.hu/esemeny/u13-edzes-4/2028-01-24/
LOCATION:Mikepércsi Sportpálya\, Sport utca 4.\, Mikepércs\, 4271\, Hungary
CATEGORIES:U13 edzések
END:VEVENT
BEGIN:VEVENT
DTSTART;TZID=Europe/Budapest:20280124T170000
DTEND;TZID=Europe/Budapest:20280124T180000
DTSTAMP:20260426T055425
CREATED:20260104T105839Z
LAST-MODIFIED:20260104T105848Z
UID:10001478-1832346000-1832349600@mikepercsifoci.hu
SUMMARY:U7 edzés
DESCRIPTION:
URL:https://mikepercsifoci.hu/esemeny/u7-edzes-3/2028-01-24/
LOCATION:Mikepércsi Hunyadi János Általános Iskola\, Nagyváradi utca 1.\, Mikepércs\, 4271\, Hungary
CATEGORIES:U7 edzések
END:VEVENT
BEGIN:VEVENT
DTSTART;TZID=Europe/Budapest:20280125T164500
DTEND;TZID=Europe/Budapest:20280125T174500
DTSTAMP:20260426T055425
CREATED:20260104T105654Z
LAST-MODIFIED:20260310T114240Z
UID:10002532-1832431500-1832435100@mikepercsifoci.hu
SUMMARY:U9 edzés
DESCRIPTION:
URL:https://mikepercsifoci.hu/esemeny/u9-edzes-3/2028-01-25/
LOCATION:Mikepércsi Sportpálya\, Sport utca 4.\, Mikepércs\, 4271\, Hungary
CATEGORIES:U9 edzések
END:VEVENT
BEGIN:VEVENT
DTSTART;TZID=Europe/Budapest:20280125T190000
DTEND;TZID=Europe/Budapest:20280125T200000
DTSTAMP:20260426T055425
CREATED:20260104T105409Z
LAST-MODIFIED:20260104T105449Z
UID:10000178-1832439600-1832443200@mikepercsifoci.hu
SUMMARY:U11 edzés
DESCRIPTION:
URL:https://mikepercsifoci.hu/esemeny/u11-edzes-3/2028-01-25/
LOCATION:Mikepércsi Hunyadi János Általános Iskola\, Nagyváradi utca 1.\, Mikepércs\, 4271\, Hungary
CATEGORIES:U11 edzések
END:VEVENT
BEGIN:VEVENT
DTSTART;TZID=Europe/Budapest:20280126T164500
DTEND;TZID=Europe/Budapest:20280126T174500
DTSTAMP:20260426T055425
CREATED:20260310T114518Z
LAST-MODIFIED:20260310T114548Z
UID:10003323-1832517900-1832521500@mikepercsifoci.hu
SUMMARY:U13 edzés
DESCRIPTION:
URL:https://mikepercsifoci.hu/esemeny/u13-edzes-2-2-2/2028-01-26/
LOCATION:Mikepércsi Sportpálya\, Sport utca 4.\, Mikepércs\, 4271\, Hungary
CATEGORIES:U13 edzések
END:VEVENT
BEGIN:VEVENT
DTSTART;TZID=Europe/Budapest:20280127T164500
DTEND;TZID=Europe/Budapest:20280127T174500
DTSTAMP:20260426T055425
CREATED:20260104T105556Z
LAST-MODIFIED:20260310T114146Z
UID:10002262-1832604300-1832607900@mikepercsifoci.hu
SUMMARY:U9 edzés
DESCRIPTION:
URL:https://mikepercsifoci.hu/esemeny/u9-edzes-2-2/2028-01-27/
LOCATION:Mikepércsi Sportpálya\, Sport utca 4.\, Mikepércs\, 4271\, Hungary
CATEGORIES:U9 edzések
END:VEVENT
BEGIN:VEVENT
DTSTART;TZID=Europe/Budapest:20280128T164500
DTEND;TZID=Europe/Budapest:20280128T174500
DTSTAMP:20260426T055425
CREATED:20260104T110102Z
LAST-MODIFIED:20260310T114423Z
UID:10002802-1832690700-1832694300@mikepercsifoci.hu
SUMMARY:U13 edzés
DESCRIPTION:
URL:https://mikepercsifoci.hu/esemeny/u13-edzes-3/2028-01-28/
LOCATION:Mikepércsi Sportpálya\, Sport utca 4.\, Mikepércs\, 4271\, Hungary
CATEGORIES:U13 edzések
END:VEVENT
BEGIN:VEVENT
DTSTART;TZID=Europe/Budapest:20280128T170000
DTEND;TZID=Europe/Budapest:20280128T180000
DTSTAMP:20260426T055425
CREATED:20260104T105755Z
LAST-MODIFIED:20260104T105806Z
UID:10001218-1832691600-1832695200@mikepercsifoci.hu
SUMMARY:U7 edzés
DESCRIPTION:
URL:https://mikepercsifoci.hu/esemeny/u7-edzes-2-2/2028-01-28/
LOCATION:Mikepércsi Hunyadi János Általános Iskola\, Nagyváradi utca 1.\, Mikepércs\, 4271\, Hungary
CATEGORIES:U7 edzések
END:VEVENT
BEGIN:VEVENT
DTSTART;TZID=Europe/Budapest:20280128T180000
DTEND;TZID=Europe/Budapest:20280128T190000
DTSTAMP:20260426T055425
CREATED:20260104T105249Z
LAST-MODIFIED:20260104T105515Z
UID:10000438-1832695200-1832698800@mikepercsifoci.hu
SUMMARY:U11 edzés
DESCRIPTION:
URL:https://mikepercsifoci.hu/esemeny/u11-edzes-2-2/2028-01-28/
LOCATION:Mikepércsi Hunyadi János Általános Iskola\, Nagyváradi utca 1.\, Mikepércs\, 4271\, Hungary
CATEGORIES:U11 edzések
END:VEVENT
BEGIN:VEVENT
DTSTART;TZID=Europe/Budapest:20280131T164500
DTEND;TZID=Europe/Budapest:20280131T174500
DTSTAMP:20260426T055425
CREATED:20260310T114641Z
LAST-MODIFIED:20260310T114659Z
UID:10003583-1832949900-1832953500@mikepercsifoci.hu
SUMMARY:U13 edzés
DESCRIPTION:
URL:https://mikepercsifoci.hu/esemeny/u13-edzes-4/2028-01-31/
LOCATION:Mikepércsi Sportpálya\, Sport utca 4.\, Mikepércs\, 4271\, Hungary
CATEGORIES:U13 edzések
END:VEVENT
BEGIN:VEVENT
DTSTART;TZID=Europe/Budapest:20280131T170000
DTEND;TZID=Europe/Budapest:20280131T180000
DTSTAMP:20260426T055425
CREATED:20260104T105839Z
LAST-MODIFIED:20260104T105848Z
UID:10001479-1832950800-1832954400@mikepercsifoci.hu
SUMMARY:U7 edzés
DESCRIPTION:
URL:https://mikepercsifoci.hu/esemeny/u7-edzes-3/2028-01-31/
LOCATION:Mikepércsi Hunyadi János Általános Iskola\, Nagyváradi utca 1.\, Mikepércs\, 4271\, Hungary
CATEGORIES:U7 edzések
END:VEVENT
BEGIN:VEVENT
DTSTART;TZID=Europe/Budapest:20280201T164500
DTEND;TZID=Europe/Budapest:20280201T174500
DTSTAMP:20260426T055425
CREATED:20260104T105654Z
LAST-MODIFIED:20260310T114240Z
UID:10002533-1833036300-1833039900@mikepercsifoci.hu
SUMMARY:U9 edzés
DESCRIPTION:
URL:https://mikepercsifoci.hu/esemeny/u9-edzes-3/2028-02-01/
LOCATION:Mikepércsi Sportpálya\, Sport utca 4.\, Mikepércs\, 4271\, Hungary
CATEGORIES:U9 edzések
END:VEVENT
BEGIN:VEVENT
DTSTART;TZID=Europe/Budapest:20280201T190000
DTEND;TZID=Europe/Budapest:20280201T200000
DTSTAMP:20260426T055425
CREATED:20260104T105409Z
LAST-MODIFIED:20260104T105449Z
UID:10000179-1833044400-1833048000@mikepercsifoci.hu
SUMMARY:U11 edzés
DESCRIPTION:
URL:https://mikepercsifoci.hu/esemeny/u11-edzes-3/2028-02-01/
LOCATION:Mikepércsi Hunyadi János Általános Iskola\, Nagyváradi utca 1.\, Mikepércs\, 4271\, Hungary
CATEGORIES:U11 edzések
END:VEVENT
BEGIN:VEVENT
DTSTART;TZID=Europe/Budapest:20280202T164500
DTEND;TZID=Europe/Budapest:20280202T174500
DTSTAMP:20260426T055425
CREATED:20260310T114518Z
LAST-MODIFIED:20260310T114548Z
UID:10003324-1833122700-1833126300@mikepercsifoci.hu
SUMMARY:U13 edzés
DESCRIPTION:
URL:https://mikepercsifoci.hu/esemeny/u13-edzes-2-2-2/2028-02-02/
LOCATION:Mikepércsi Sportpálya\, Sport utca 4.\, Mikepércs\, 4271\, Hungary
CATEGORIES:U13 edzések
END:VEVENT
BEGIN:VEVENT
DTSTART;TZID=Europe/Budapest:20280203T164500
DTEND;TZID=Europe/Budapest:20280203T174500
DTSTAMP:20260426T055425
CREATED:20260104T105556Z
LAST-MODIFIED:20260310T114146Z
UID:10002263-1833209100-1833212700@mikepercsifoci.hu
SUMMARY:U9 edzés
DESCRIPTION:
URL:https://mikepercsifoci.hu/esemeny/u9-edzes-2-2/2028-02-03/
LOCATION:Mikepércsi Sportpálya\, Sport utca 4.\, Mikepércs\, 4271\, Hungary
CATEGORIES:U9 edzések
END:VEVENT
BEGIN:VEVENT
DTSTART;TZID=Europe/Budapest:20280204T164500
DTEND;TZID=Europe/Budapest:20280204T174500
DTSTAMP:20260426T055425
CREATED:20260104T110102Z
LAST-MODIFIED:20260310T114423Z
UID:10002803-1833295500-1833299100@mikepercsifoci.hu
SUMMARY:U13 edzés
DESCRIPTION:
URL:https://mikepercsifoci.hu/esemeny/u13-edzes-3/2028-02-04/
LOCATION:Mikepércsi Sportpálya\, Sport utca 4.\, Mikepércs\, 4271\, Hungary
CATEGORIES:U13 edzések
END:VEVENT
BEGIN:VEVENT
DTSTART;TZID=Europe/Budapest:20280204T170000
DTEND;TZID=Europe/Budapest:20280204T180000
DTSTAMP:20260426T055425
CREATED:20260104T105755Z
LAST-MODIFIED:20260104T105806Z
UID:10001219-1833296400-1833300000@mikepercsifoci.hu
SUMMARY:U7 edzés
DESCRIPTION:
URL:https://mikepercsifoci.hu/esemeny/u7-edzes-2-2/2028-02-04/
LOCATION:Mikepércsi Hunyadi János Általános Iskola\, Nagyváradi utca 1.\, Mikepércs\, 4271\, Hungary
CATEGORIES:U7 edzések
END:VEVENT
BEGIN:VEVENT
DTSTART;TZID=Europe/Budapest:20280204T180000
DTEND;TZID=Europe/Budapest:20280204T190000
DTSTAMP:20260426T055425
CREATED:20260104T105249Z
LAST-MODIFIED:20260104T105515Z
UID:10000439-1833300000-1833303600@mikepercsifoci.hu
SUMMARY:U11 edzés
DESCRIPTION:
URL:https://mikepercsifoci.hu/esemeny/u11-edzes-2-2/2028-02-04/
LOCATION:Mikepércsi Hunyadi János Általános Iskola\, Nagyváradi utca 1.\, Mikepércs\, 4271\, Hungary
CATEGORIES:U11 edzések
END:VEVENT
BEGIN:VEVENT
DTSTART;TZID=Europe/Budapest:20280207T164500
DTEND;TZID=Europe/Budapest:20280207T174500
DTSTAMP:20260426T055425
CREATED:20260310T114641Z
LAST-MODIFIED:20260310T114659Z
UID:10003584-1833554700-1833558300@mikepercsifoci.hu
SUMMARY:U13 edzés
DESCRIPTION:
URL:https://mikepercsifoci.hu/esemeny/u13-edzes-4/2028-02-07/
LOCATION:Mikepércsi Sportpálya\, Sport utca 4.\, Mikepércs\, 4271\, Hungary
CATEGORIES:U13 edzések
END:VEVENT
BEGIN:VEVENT
DTSTART;TZID=Europe/Budapest:20280207T170000
DTEND;TZID=Europe/Budapest:20280207T180000
DTSTAMP:20260426T055425
CREATED:20260104T105839Z
LAST-MODIFIED:20260104T105848Z
UID:10001480-1833555600-1833559200@mikepercsifoci.hu
SUMMARY:U7 edzés
DESCRIPTION:
URL:https://mikepercsifoci.hu/esemeny/u7-edzes-3/2028-02-07/
LOCATION:Mikepércsi Hunyadi János Általános Iskola\, Nagyváradi utca 1.\, Mikepércs\, 4271\, Hungary
CATEGORIES:U7 edzések
END:VEVENT
BEGIN:VEVENT
DTSTART;TZID=Europe/Budapest:20280208T164500
DTEND;TZID=Europe/Budapest:20280208T174500
DTSTAMP:20260426T055425
CREATED:20260104T105654Z
LAST-MODIFIED:20260310T114240Z
UID:10002534-1833641100-1833644700@mikepercsifoci.hu
SUMMARY:U9 edzés
DESCRIPTION:
URL:https://mikepercsifoci.hu/esemeny/u9-edzes-3/2028-02-08/
LOCATION:Mikepércsi Sportpálya\, Sport utca 4.\, Mikepércs\, 4271\, Hungary
CATEGORIES:U9 edzések
END:VEVENT
BEGIN:VEVENT
DTSTART;TZID=Europe/Budapest:20280208T190000
DTEND;TZID=Europe/Budapest:20280208T200000
DTSTAMP:20260426T055425
CREATED:20260104T105409Z
LAST-MODIFIED:20260104T105449Z
UID:10000180-1833649200-1833652800@mikepercsifoci.hu
SUMMARY:U11 edzés
DESCRIPTION:
URL:https://mikepercsifoci.hu/esemeny/u11-edzes-3/2028-02-08/
LOCATION:Mikepércsi Hunyadi János Általános Iskola\, Nagyváradi utca 1.\, Mikepércs\, 4271\, Hungary
CATEGORIES:U11 edzések
END:VEVENT
BEGIN:VEVENT
DTSTART;TZID=Europe/Budapest:20280209T164500
DTEND;TZID=Europe/Budapest:20280209T174500
DTSTAMP:20260426T055425
CREATED:20260310T114518Z
LAST-MODIFIED:20260310T114548Z
UID:10003325-1833727500-1833731100@mikepercsifoci.hu
SUMMARY:U13 edzés
DESCRIPTION:
URL:https://mikepercsifoci.hu/esemeny/u13-edzes-2-2-2/2028-02-09/
LOCATION:Mikepércsi Sportpálya\, Sport utca 4.\, Mikepércs\, 4271\, Hungary
CATEGORIES:U13 edzések
END:VEVENT
BEGIN:VEVENT
DTSTART;TZID=Europe/Budapest:20280210T164500
DTEND;TZID=Europe/Budapest:20280210T174500
DTSTAMP:20260426T055425
CREATED:20260104T105556Z
LAST-MODIFIED:20260310T114146Z
UID:10002264-1833813900-1833817500@mikepercsifoci.hu
SUMMARY:U9 edzés
DESCRIPTION:
URL:https://mikepercsifoci.hu/esemeny/u9-edzes-2-2/2028-02-10/
LOCATION:Mikepércsi Sportpálya\, Sport utca 4.\, Mikepércs\, 4271\, Hungary
CATEGORIES:U9 edzések
END:VEVENT
BEGIN:VEVENT
DTSTART;TZID=Europe/Budapest:20280211T164500
DTEND;TZID=Europe/Budapest:20280211T174500
DTSTAMP:20260426T055425
CREATED:20260104T110102Z
LAST-MODIFIED:20260310T114423Z
UID:10002804-1833900300-1833903900@mikepercsifoci.hu
SUMMARY:U13 edzés
DESCRIPTION:
URL:https://mikepercsifoci.hu/esemeny/u13-edzes-3/2028-02-11/
LOCATION:Mikepércsi Sportpálya\, Sport utca 4.\, Mikepércs\, 4271\, Hungary
CATEGORIES:U13 edzések
END:VEVENT
BEGIN:VEVENT
DTSTART;TZID=Europe/Budapest:20280211T170000
DTEND;TZID=Europe/Budapest:20280211T180000
DTSTAMP:20260426T055425
CREATED:20260104T105755Z
LAST-MODIFIED:20260104T105806Z
UID:10001220-1833901200-1833904800@mikepercsifoci.hu
SUMMARY:U7 edzés
DESCRIPTION:
URL:https://mikepercsifoci.hu/esemeny/u7-edzes-2-2/2028-02-11/
LOCATION:Mikepércsi Hunyadi János Általános Iskola\, Nagyváradi utca 1.\, Mikepércs\, 4271\, Hungary
CATEGORIES:U7 edzések
END:VEVENT
BEGIN:VEVENT
DTSTART;TZID=Europe/Budapest:20280211T180000
DTEND;TZID=Europe/Budapest:20280211T190000
DTSTAMP:20260426T055425
CREATED:20260104T105249Z
LAST-MODIFIED:20260104T105515Z
UID:10000440-1833904800-1833908400@mikepercsifoci.hu
SUMMARY:U11 edzés
DESCRIPTION:
URL:https://mikepercsifoci.hu/esemeny/u11-edzes-2-2/2028-02-11/
LOCATION:Mikepércsi Hunyadi János Általános Iskola\, Nagyváradi utca 1.\, Mikepércs\, 4271\, Hungary
CATEGORIES:U11 edzések
END:VEVENT
BEGIN:VEVENT
DTSTART;TZID=Europe/Budapest:20280214T164500
DTEND;TZID=Europe/Budapest:20280214T174500
DTSTAMP:20260426T055425
CREATED:20260310T114641Z
LAST-MODIFIED:20260310T114659Z
UID:10003585-1834159500-1834163100@mikepercsifoci.hu
SUMMARY:U13 edzés
DESCRIPTION:
URL:https://mikepercsifoci.hu/esemeny/u13-edzes-4/2028-02-14/
LOCATION:Mikepércsi Sportpálya\, Sport utca 4.\, Mikepércs\, 4271\, Hungary
CATEGORIES:U13 edzések
END:VEVENT
BEGIN:VEVENT
DTSTART;TZID=Europe/Budapest:20280214T170000
DTEND;TZID=Europe/Budapest:20280214T180000
DTSTAMP:20260426T055425
CREATED:20260104T105839Z
LAST-MODIFIED:20260104T105848Z
UID:10001481-1834160400-1834164000@mikepercsifoci.hu
SUMMARY:U7 edzés
DESCRIPTION:
URL:https://mikepercsifoci.hu/esemeny/u7-edzes-3/2028-02-14/
LOCATION:Mikepércsi Hunyadi János Általános Iskola\, Nagyváradi utca 1.\, Mikepércs\, 4271\, Hungary
CATEGORIES:U7 edzések
END:VEVENT
BEGIN:VEVENT
DTSTART;TZID=Europe/Budapest:20280215T164500
DTEND;TZID=Europe/Budapest:20280215T174500
DTSTAMP:20260426T055425
CREATED:20260104T105654Z
LAST-MODIFIED:20260310T114240Z
UID:10002535-1834245900-1834249500@mikepercsifoci.hu
SUMMARY:U9 edzés
DESCRIPTION:
URL:https://mikepercsifoci.hu/esemeny/u9-edzes-3/2028-02-15/
LOCATION:Mikepércsi Sportpálya\, Sport utca 4.\, Mikepércs\, 4271\, Hungary
CATEGORIES:U9 edzések
END:VEVENT
END:VCALENDAR