BEGIN:VCALENDAR
VERSION:2.0
PRODID:-//Mikepércsi Foci - ECPv6.15.12.2//NONSGML v1.0//EN
CALSCALE:GREGORIAN
METHOD:PUBLISH
X-ORIGINAL-URL:https://mikepercsifoci.hu
X-WR-CALDESC:Események Mikepércsi Foci
REFRESH-INTERVAL;VALUE=DURATION:PT1H
X-Robots-Tag:noindex
X-PUBLISHED-TTL:PT1H
BEGIN:VTIMEZONE
TZID:Europe/Budapest
BEGIN:DAYLIGHT
TZOFFSETFROM:+0100
TZOFFSETTO:+0200
TZNAME:CEST
DTSTART:20260329T010000
END:DAYLIGHT
BEGIN:STANDARD
TZOFFSETFROM:+0200
TZOFFSETTO:+0100
TZNAME:CET
DTSTART:20261025T010000
END:STANDARD
BEGIN:DAYLIGHT
TZOFFSETFROM:+0100
TZOFFSETTO:+0200
TZNAME:CEST
DTSTART:20270328T010000
END:DAYLIGHT
BEGIN:STANDARD
TZOFFSETFROM:+0200
TZOFFSETTO:+0100
TZNAME:CET
DTSTART:20271031T010000
END:STANDARD
BEGIN:DAYLIGHT
TZOFFSETFROM:+0100
TZOFFSETTO:+0200
TZNAME:CEST
DTSTART:20280326T010000
END:DAYLIGHT
BEGIN:STANDARD
TZOFFSETFROM:+0200
TZOFFSETTO:+0100
TZNAME:CET
DTSTART:20281029T010000
END:STANDARD
END:VTIMEZONE
BEGIN:VEVENT
DTSTART;TZID=Europe/Budapest:20270304T164500
DTEND;TZID=Europe/Budapest:20270304T174500
DTSTAMP:20260425T140338
CREATED:20260104T105556Z
LAST-MODIFIED:20260310T114146Z
UID:10002215-1804178700-1804182300@mikepercsifoci.hu
SUMMARY:U9 edzés
DESCRIPTION:
URL:https://mikepercsifoci.hu/esemeny/u9-edzes-2-2/2027-03-04/
LOCATION:Mikepércsi Sportpálya\, Sport utca 4.\, Mikepércs\, 4271\, Hungary
CATEGORIES:U9 edzések
END:VEVENT
BEGIN:VEVENT
DTSTART;TZID=Europe/Budapest:20270305T164500
DTEND;TZID=Europe/Budapest:20270305T174500
DTSTAMP:20260425T140338
CREATED:20260104T110102Z
LAST-MODIFIED:20260310T114423Z
UID:10002755-1804265100-1804268700@mikepercsifoci.hu
SUMMARY:U13 edzés
DESCRIPTION:
URL:https://mikepercsifoci.hu/esemeny/u13-edzes-3/2027-03-05/
LOCATION:Mikepércsi Sportpálya\, Sport utca 4.\, Mikepércs\, 4271\, Hungary
CATEGORIES:U13 edzések
END:VEVENT
BEGIN:VEVENT
DTSTART;TZID=Europe/Budapest:20270305T170000
DTEND;TZID=Europe/Budapest:20270305T180000
DTSTAMP:20260425T140338
CREATED:20260104T105755Z
LAST-MODIFIED:20260104T105806Z
UID:10001171-1804266000-1804269600@mikepercsifoci.hu
SUMMARY:U7 edzés
DESCRIPTION:
URL:https://mikepercsifoci.hu/esemeny/u7-edzes-2-2/2027-03-05/
LOCATION:Mikepércsi Hunyadi János Általános Iskola\, Nagyváradi utca 1.\, Mikepércs\, 4271\, Hungary
CATEGORIES:U7 edzések
END:VEVENT
BEGIN:VEVENT
DTSTART;TZID=Europe/Budapest:20270305T180000
DTEND;TZID=Europe/Budapest:20270305T190000
DTSTAMP:20260425T140338
CREATED:20260104T105249Z
LAST-MODIFIED:20260104T105515Z
UID:10000391-1804269600-1804273200@mikepercsifoci.hu
SUMMARY:U11 edzés
DESCRIPTION:
URL:https://mikepercsifoci.hu/esemeny/u11-edzes-2-2/2027-03-05/
LOCATION:Mikepércsi Hunyadi János Általános Iskola\, Nagyváradi utca 1.\, Mikepércs\, 4271\, Hungary
CATEGORIES:U11 edzések
END:VEVENT
BEGIN:VEVENT
DTSTART;TZID=Europe/Budapest:20270308T164500
DTEND;TZID=Europe/Budapest:20270308T174500
DTSTAMP:20260425T140339
CREATED:20260310T114641Z
LAST-MODIFIED:20260310T114659Z
UID:10003536-1804524300-1804527900@mikepercsifoci.hu
SUMMARY:U13 edzés
DESCRIPTION:
URL:https://mikepercsifoci.hu/esemeny/u13-edzes-4/2027-03-08/
LOCATION:Mikepércsi Sportpálya\, Sport utca 4.\, Mikepércs\, 4271\, Hungary
CATEGORIES:U13 edzések
END:VEVENT
BEGIN:VEVENT
DTSTART;TZID=Europe/Budapest:20270308T170000
DTEND;TZID=Europe/Budapest:20270308T180000
DTSTAMP:20260425T140339
CREATED:20260104T105839Z
LAST-MODIFIED:20260104T105848Z
UID:10001432-1804525200-1804528800@mikepercsifoci.hu
SUMMARY:U7 edzés
DESCRIPTION:
URL:https://mikepercsifoci.hu/esemeny/u7-edzes-3/2027-03-08/
LOCATION:Mikepércsi Hunyadi János Általános Iskola\, Nagyváradi utca 1.\, Mikepércs\, 4271\, Hungary
CATEGORIES:U7 edzések
END:VEVENT
BEGIN:VEVENT
DTSTART;TZID=Europe/Budapest:20270309T164500
DTEND;TZID=Europe/Budapest:20270309T174500
DTSTAMP:20260425T140339
CREATED:20260104T105654Z
LAST-MODIFIED:20260310T114240Z
UID:10002486-1804610700-1804614300@mikepercsifoci.hu
SUMMARY:U9 edzés
DESCRIPTION:
URL:https://mikepercsifoci.hu/esemeny/u9-edzes-3/2027-03-09/
LOCATION:Mikepércsi Sportpálya\, Sport utca 4.\, Mikepércs\, 4271\, Hungary
CATEGORIES:U9 edzések
END:VEVENT
BEGIN:VEVENT
DTSTART;TZID=Europe/Budapest:20270309T190000
DTEND;TZID=Europe/Budapest:20270309T200000
DTSTAMP:20260425T140339
CREATED:20260104T105409Z
LAST-MODIFIED:20260104T105449Z
UID:10000132-1804618800-1804622400@mikepercsifoci.hu
SUMMARY:U11 edzés
DESCRIPTION:
URL:https://mikepercsifoci.hu/esemeny/u11-edzes-3/2027-03-09/
LOCATION:Mikepércsi Hunyadi János Általános Iskola\, Nagyváradi utca 1.\, Mikepércs\, 4271\, Hungary
CATEGORIES:U11 edzések
END:VEVENT
BEGIN:VEVENT
DTSTART;TZID=Europe/Budapest:20270310T164500
DTEND;TZID=Europe/Budapest:20270310T174500
DTSTAMP:20260425T140339
CREATED:20260310T114518Z
LAST-MODIFIED:20260310T114548Z
UID:10003277-1804697100-1804700700@mikepercsifoci.hu
SUMMARY:U13 edzés
DESCRIPTION:
URL:https://mikepercsifoci.hu/esemeny/u13-edzes-2-2-2/2027-03-10/
LOCATION:Mikepércsi Sportpálya\, Sport utca 4.\, Mikepércs\, 4271\, Hungary
CATEGORIES:U13 edzések
END:VEVENT
BEGIN:VEVENT
DTSTART;TZID=Europe/Budapest:20270311T164500
DTEND;TZID=Europe/Budapest:20270311T174500
DTSTAMP:20260425T140339
CREATED:20260104T105556Z
LAST-MODIFIED:20260310T114146Z
UID:10002216-1804783500-1804787100@mikepercsifoci.hu
SUMMARY:U9 edzés
DESCRIPTION:
URL:https://mikepercsifoci.hu/esemeny/u9-edzes-2-2/2027-03-11/
LOCATION:Mikepércsi Sportpálya\, Sport utca 4.\, Mikepércs\, 4271\, Hungary
CATEGORIES:U9 edzések
END:VEVENT
BEGIN:VEVENT
DTSTART;TZID=Europe/Budapest:20270312T164500
DTEND;TZID=Europe/Budapest:20270312T174500
DTSTAMP:20260425T140339
CREATED:20260104T110102Z
LAST-MODIFIED:20260310T114423Z
UID:10002756-1804869900-1804873500@mikepercsifoci.hu
SUMMARY:U13 edzés
DESCRIPTION:
URL:https://mikepercsifoci.hu/esemeny/u13-edzes-3/2027-03-12/
LOCATION:Mikepércsi Sportpálya\, Sport utca 4.\, Mikepércs\, 4271\, Hungary
CATEGORIES:U13 edzések
END:VEVENT
BEGIN:VEVENT
DTSTART;TZID=Europe/Budapest:20270312T170000
DTEND;TZID=Europe/Budapest:20270312T180000
DTSTAMP:20260425T140339
CREATED:20260104T105755Z
LAST-MODIFIED:20260104T105806Z
UID:10001172-1804870800-1804874400@mikepercsifoci.hu
SUMMARY:U7 edzés
DESCRIPTION:
URL:https://mikepercsifoci.hu/esemeny/u7-edzes-2-2/2027-03-12/
LOCATION:Mikepércsi Hunyadi János Általános Iskola\, Nagyváradi utca 1.\, Mikepércs\, 4271\, Hungary
CATEGORIES:U7 edzések
END:VEVENT
BEGIN:VEVENT
DTSTART;TZID=Europe/Budapest:20270312T180000
DTEND;TZID=Europe/Budapest:20270312T190000
DTSTAMP:20260425T140339
CREATED:20260104T105249Z
LAST-MODIFIED:20260104T105515Z
UID:10000392-1804874400-1804878000@mikepercsifoci.hu
SUMMARY:U11 edzés
DESCRIPTION:
URL:https://mikepercsifoci.hu/esemeny/u11-edzes-2-2/2027-03-12/
LOCATION:Mikepércsi Hunyadi János Általános Iskola\, Nagyváradi utca 1.\, Mikepércs\, 4271\, Hungary
CATEGORIES:U11 edzések
END:VEVENT
BEGIN:VEVENT
DTSTART;TZID=Europe/Budapest:20270315T164500
DTEND;TZID=Europe/Budapest:20270315T174500
DTSTAMP:20260425T140339
CREATED:20260310T114641Z
LAST-MODIFIED:20260310T114659Z
UID:10003537-1805129100-1805132700@mikepercsifoci.hu
SUMMARY:U13 edzés
DESCRIPTION:
URL:https://mikepercsifoci.hu/esemeny/u13-edzes-4/2027-03-15/
LOCATION:Mikepércsi Sportpálya\, Sport utca 4.\, Mikepércs\, 4271\, Hungary
CATEGORIES:U13 edzések
END:VEVENT
BEGIN:VEVENT
DTSTART;TZID=Europe/Budapest:20270315T170000
DTEND;TZID=Europe/Budapest:20270315T180000
DTSTAMP:20260425T140339
CREATED:20260104T105839Z
LAST-MODIFIED:20260104T105848Z
UID:10001433-1805130000-1805133600@mikepercsifoci.hu
SUMMARY:U7 edzés
DESCRIPTION:
URL:https://mikepercsifoci.hu/esemeny/u7-edzes-3/2027-03-15/
LOCATION:Mikepércsi Hunyadi János Általános Iskola\, Nagyváradi utca 1.\, Mikepércs\, 4271\, Hungary
CATEGORIES:U7 edzések
END:VEVENT
BEGIN:VEVENT
DTSTART;TZID=Europe/Budapest:20270316T164500
DTEND;TZID=Europe/Budapest:20270316T174500
DTSTAMP:20260425T140339
CREATED:20260104T105654Z
LAST-MODIFIED:20260310T114240Z
UID:10002487-1805215500-1805219100@mikepercsifoci.hu
SUMMARY:U9 edzés
DESCRIPTION:
URL:https://mikepercsifoci.hu/esemeny/u9-edzes-3/2027-03-16/
LOCATION:Mikepércsi Sportpálya\, Sport utca 4.\, Mikepércs\, 4271\, Hungary
CATEGORIES:U9 edzések
END:VEVENT
BEGIN:VEVENT
DTSTART;TZID=Europe/Budapest:20270316T190000
DTEND;TZID=Europe/Budapest:20270316T200000
DTSTAMP:20260425T140339
CREATED:20260104T105409Z
LAST-MODIFIED:20260104T105449Z
UID:10000133-1805223600-1805227200@mikepercsifoci.hu
SUMMARY:U11 edzés
DESCRIPTION:
URL:https://mikepercsifoci.hu/esemeny/u11-edzes-3/2027-03-16/
LOCATION:Mikepércsi Hunyadi János Általános Iskola\, Nagyváradi utca 1.\, Mikepércs\, 4271\, Hungary
CATEGORIES:U11 edzések
END:VEVENT
BEGIN:VEVENT
DTSTART;TZID=Europe/Budapest:20270317T164500
DTEND;TZID=Europe/Budapest:20270317T174500
DTSTAMP:20260425T140339
CREATED:20260310T114518Z
LAST-MODIFIED:20260310T114548Z
UID:10003278-1805301900-1805305500@mikepercsifoci.hu
SUMMARY:U13 edzés
DESCRIPTION:
URL:https://mikepercsifoci.hu/esemeny/u13-edzes-2-2-2/2027-03-17/
LOCATION:Mikepércsi Sportpálya\, Sport utca 4.\, Mikepércs\, 4271\, Hungary
CATEGORIES:U13 edzések
END:VEVENT
BEGIN:VEVENT
DTSTART;TZID=Europe/Budapest:20270318T164500
DTEND;TZID=Europe/Budapest:20270318T174500
DTSTAMP:20260425T140339
CREATED:20260104T105556Z
LAST-MODIFIED:20260310T114146Z
UID:10002217-1805388300-1805391900@mikepercsifoci.hu
SUMMARY:U9 edzés
DESCRIPTION:
URL:https://mikepercsifoci.hu/esemeny/u9-edzes-2-2/2027-03-18/
LOCATION:Mikepércsi Sportpálya\, Sport utca 4.\, Mikepércs\, 4271\, Hungary
CATEGORIES:U9 edzések
END:VEVENT
BEGIN:VEVENT
DTSTART;TZID=Europe/Budapest:20270319T164500
DTEND;TZID=Europe/Budapest:20270319T174500
DTSTAMP:20260425T140339
CREATED:20260104T110102Z
LAST-MODIFIED:20260310T114423Z
UID:10002757-1805474700-1805478300@mikepercsifoci.hu
SUMMARY:U13 edzés
DESCRIPTION:
URL:https://mikepercsifoci.hu/esemeny/u13-edzes-3/2027-03-19/
LOCATION:Mikepércsi Sportpálya\, Sport utca 4.\, Mikepércs\, 4271\, Hungary
CATEGORIES:U13 edzések
END:VEVENT
BEGIN:VEVENT
DTSTART;TZID=Europe/Budapest:20270319T170000
DTEND;TZID=Europe/Budapest:20270319T180000
DTSTAMP:20260425T140339
CREATED:20260104T105755Z
LAST-MODIFIED:20260104T105806Z
UID:10001173-1805475600-1805479200@mikepercsifoci.hu
SUMMARY:U7 edzés
DESCRIPTION:
URL:https://mikepercsifoci.hu/esemeny/u7-edzes-2-2/2027-03-19/
LOCATION:Mikepércsi Hunyadi János Általános Iskola\, Nagyváradi utca 1.\, Mikepércs\, 4271\, Hungary
CATEGORIES:U7 edzések
END:VEVENT
BEGIN:VEVENT
DTSTART;TZID=Europe/Budapest:20270319T180000
DTEND;TZID=Europe/Budapest:20270319T190000
DTSTAMP:20260425T140339
CREATED:20260104T105249Z
LAST-MODIFIED:20260104T105515Z
UID:10000393-1805479200-1805482800@mikepercsifoci.hu
SUMMARY:U11 edzés
DESCRIPTION:
URL:https://mikepercsifoci.hu/esemeny/u11-edzes-2-2/2027-03-19/
LOCATION:Mikepércsi Hunyadi János Általános Iskola\, Nagyváradi utca 1.\, Mikepércs\, 4271\, Hungary
CATEGORIES:U11 edzések
END:VEVENT
BEGIN:VEVENT
DTSTART;TZID=Europe/Budapest:20270322T164500
DTEND;TZID=Europe/Budapest:20270322T174500
DTSTAMP:20260425T140339
CREATED:20260310T114641Z
LAST-MODIFIED:20260310T114659Z
UID:10003538-1805733900-1805737500@mikepercsifoci.hu
SUMMARY:U13 edzés
DESCRIPTION:
URL:https://mikepercsifoci.hu/esemeny/u13-edzes-4/2027-03-22/
LOCATION:Mikepércsi Sportpálya\, Sport utca 4.\, Mikepércs\, 4271\, Hungary
CATEGORIES:U13 edzések
END:VEVENT
BEGIN:VEVENT
DTSTART;TZID=Europe/Budapest:20270322T170000
DTEND;TZID=Europe/Budapest:20270322T180000
DTSTAMP:20260425T140339
CREATED:20260104T105839Z
LAST-MODIFIED:20260104T105848Z
UID:10001434-1805734800-1805738400@mikepercsifoci.hu
SUMMARY:U7 edzés
DESCRIPTION:
URL:https://mikepercsifoci.hu/esemeny/u7-edzes-3/2027-03-22/
LOCATION:Mikepércsi Hunyadi János Általános Iskola\, Nagyváradi utca 1.\, Mikepércs\, 4271\, Hungary
CATEGORIES:U7 edzések
END:VEVENT
BEGIN:VEVENT
DTSTART;TZID=Europe/Budapest:20270323T164500
DTEND;TZID=Europe/Budapest:20270323T174500
DTSTAMP:20260425T140339
CREATED:20260104T105654Z
LAST-MODIFIED:20260310T114240Z
UID:10002488-1805820300-1805823900@mikepercsifoci.hu
SUMMARY:U9 edzés
DESCRIPTION:
URL:https://mikepercsifoci.hu/esemeny/u9-edzes-3/2027-03-23/
LOCATION:Mikepércsi Sportpálya\, Sport utca 4.\, Mikepércs\, 4271\, Hungary
CATEGORIES:U9 edzések
END:VEVENT
BEGIN:VEVENT
DTSTART;TZID=Europe/Budapest:20270323T190000
DTEND;TZID=Europe/Budapest:20270323T200000
DTSTAMP:20260425T140339
CREATED:20260104T105409Z
LAST-MODIFIED:20260104T105449Z
UID:10000134-1805828400-1805832000@mikepercsifoci.hu
SUMMARY:U11 edzés
DESCRIPTION:
URL:https://mikepercsifoci.hu/esemeny/u11-edzes-3/2027-03-23/
LOCATION:Mikepércsi Hunyadi János Általános Iskola\, Nagyváradi utca 1.\, Mikepércs\, 4271\, Hungary
CATEGORIES:U11 edzések
END:VEVENT
BEGIN:VEVENT
DTSTART;TZID=Europe/Budapest:20270324T164500
DTEND;TZID=Europe/Budapest:20270324T174500
DTSTAMP:20260425T140339
CREATED:20260310T114518Z
LAST-MODIFIED:20260310T114548Z
UID:10003279-1805906700-1805910300@mikepercsifoci.hu
SUMMARY:U13 edzés
DESCRIPTION:
URL:https://mikepercsifoci.hu/esemeny/u13-edzes-2-2-2/2027-03-24/
LOCATION:Mikepércsi Sportpálya\, Sport utca 4.\, Mikepércs\, 4271\, Hungary
CATEGORIES:U13 edzések
END:VEVENT
BEGIN:VEVENT
DTSTART;TZID=Europe/Budapest:20270325T164500
DTEND;TZID=Europe/Budapest:20270325T174500
DTSTAMP:20260425T140339
CREATED:20260104T105556Z
LAST-MODIFIED:20260310T114146Z
UID:10002218-1805993100-1805996700@mikepercsifoci.hu
SUMMARY:U9 edzés
DESCRIPTION:
URL:https://mikepercsifoci.hu/esemeny/u9-edzes-2-2/2027-03-25/
LOCATION:Mikepércsi Sportpálya\, Sport utca 4.\, Mikepércs\, 4271\, Hungary
CATEGORIES:U9 edzések
END:VEVENT
BEGIN:VEVENT
DTSTART;TZID=Europe/Budapest:20270326T164500
DTEND;TZID=Europe/Budapest:20270326T174500
DTSTAMP:20260425T140339
CREATED:20260104T110102Z
LAST-MODIFIED:20260310T114423Z
UID:10002758-1806079500-1806083100@mikepercsifoci.hu
SUMMARY:U13 edzés
DESCRIPTION:
URL:https://mikepercsifoci.hu/esemeny/u13-edzes-3/2027-03-26/
LOCATION:Mikepércsi Sportpálya\, Sport utca 4.\, Mikepércs\, 4271\, Hungary
CATEGORIES:U13 edzések
END:VEVENT
BEGIN:VEVENT
DTSTART;TZID=Europe/Budapest:20270326T170000
DTEND;TZID=Europe/Budapest:20270326T180000
DTSTAMP:20260425T140339
CREATED:20260104T105755Z
LAST-MODIFIED:20260104T105806Z
UID:10001174-1806080400-1806084000@mikepercsifoci.hu
SUMMARY:U7 edzés
DESCRIPTION:
URL:https://mikepercsifoci.hu/esemeny/u7-edzes-2-2/2027-03-26/
LOCATION:Mikepércsi Hunyadi János Általános Iskola\, Nagyváradi utca 1.\, Mikepércs\, 4271\, Hungary
CATEGORIES:U7 edzések
END:VEVENT
END:VCALENDAR