BEGIN:VCALENDAR
VERSION:2.0
PRODID:-//Mikepércsi Foci - ECPv6.15.12.2//NONSGML v1.0//EN
CALSCALE:GREGORIAN
METHOD:PUBLISH
X-ORIGINAL-URL:https://mikepercsifoci.hu
X-WR-CALDESC:Események Mikepércsi Foci
REFRESH-INTERVAL;VALUE=DURATION:PT1H
X-Robots-Tag:noindex
X-PUBLISHED-TTL:PT1H
BEGIN:VTIMEZONE
TZID:Europe/Budapest
BEGIN:DAYLIGHT
TZOFFSETFROM:+0100
TZOFFSETTO:+0200
TZNAME:CEST
DTSTART:20260329T010000
END:DAYLIGHT
BEGIN:STANDARD
TZOFFSETFROM:+0200
TZOFFSETTO:+0100
TZNAME:CET
DTSTART:20261025T010000
END:STANDARD
BEGIN:DAYLIGHT
TZOFFSETFROM:+0100
TZOFFSETTO:+0200
TZNAME:CEST
DTSTART:20270328T010000
END:DAYLIGHT
BEGIN:STANDARD
TZOFFSETFROM:+0200
TZOFFSETTO:+0100
TZNAME:CET
DTSTART:20271031T010000
END:STANDARD
BEGIN:DAYLIGHT
TZOFFSETFROM:+0100
TZOFFSETTO:+0200
TZNAME:CEST
DTSTART:20280326T010000
END:DAYLIGHT
BEGIN:STANDARD
TZOFFSETFROM:+0200
TZOFFSETTO:+0100
TZNAME:CET
DTSTART:20281029T010000
END:STANDARD
END:VTIMEZONE
BEGIN:VEVENT
DTSTART;TZID=Europe/Budapest:20270419T164500
DTEND;TZID=Europe/Budapest:20270419T174500
DTSTAMP:20260425T151943
CREATED:20260310T114641Z
LAST-MODIFIED:20260310T114659Z
UID:10003542-1808153100-1808156700@mikepercsifoci.hu
SUMMARY:U13 edzés
DESCRIPTION:
URL:https://mikepercsifoci.hu/esemeny/u13-edzes-4/2027-04-19/
LOCATION:Mikepércsi Sportpálya\, Sport utca 4.\, Mikepércs\, 4271\, Hungary
CATEGORIES:U13 edzések
END:VEVENT
BEGIN:VEVENT
DTSTART;TZID=Europe/Budapest:20270419T170000
DTEND;TZID=Europe/Budapest:20270419T180000
DTSTAMP:20260425T151943
CREATED:20260104T105839Z
LAST-MODIFIED:20260104T105848Z
UID:10001438-1808154000-1808157600@mikepercsifoci.hu
SUMMARY:U7 edzés
DESCRIPTION:
URL:https://mikepercsifoci.hu/esemeny/u7-edzes-3/2027-04-19/
LOCATION:Mikepércsi Hunyadi János Általános Iskola\, Nagyváradi utca 1.\, Mikepércs\, 4271\, Hungary
CATEGORIES:U7 edzések
END:VEVENT
BEGIN:VEVENT
DTSTART;TZID=Europe/Budapest:20270420T164500
DTEND;TZID=Europe/Budapest:20270420T174500
DTSTAMP:20260425T151943
CREATED:20260104T105654Z
LAST-MODIFIED:20260310T114240Z
UID:10002492-1808239500-1808243100@mikepercsifoci.hu
SUMMARY:U9 edzés
DESCRIPTION:
URL:https://mikepercsifoci.hu/esemeny/u9-edzes-3/2027-04-20/
LOCATION:Mikepércsi Sportpálya\, Sport utca 4.\, Mikepércs\, 4271\, Hungary
CATEGORIES:U9 edzések
END:VEVENT
BEGIN:VEVENT
DTSTART;TZID=Europe/Budapest:20270420T190000
DTEND;TZID=Europe/Budapest:20270420T200000
DTSTAMP:20260425T151943
CREATED:20260104T105409Z
LAST-MODIFIED:20260104T105449Z
UID:10000138-1808247600-1808251200@mikepercsifoci.hu
SUMMARY:U11 edzés
DESCRIPTION:
URL:https://mikepercsifoci.hu/esemeny/u11-edzes-3/2027-04-20/
LOCATION:Mikepércsi Hunyadi János Általános Iskola\, Nagyváradi utca 1.\, Mikepércs\, 4271\, Hungary
CATEGORIES:U11 edzések
END:VEVENT
BEGIN:VEVENT
DTSTART;TZID=Europe/Budapest:20270421T164500
DTEND;TZID=Europe/Budapest:20270421T174500
DTSTAMP:20260425T151943
CREATED:20260310T114518Z
LAST-MODIFIED:20260310T114548Z
UID:10003283-1808325900-1808329500@mikepercsifoci.hu
SUMMARY:U13 edzés
DESCRIPTION:
URL:https://mikepercsifoci.hu/esemeny/u13-edzes-2-2-2/2027-04-21/
LOCATION:Mikepércsi Sportpálya\, Sport utca 4.\, Mikepércs\, 4271\, Hungary
CATEGORIES:U13 edzések
END:VEVENT
BEGIN:VEVENT
DTSTART;TZID=Europe/Budapest:20270422T164500
DTEND;TZID=Europe/Budapest:20270422T174500
DTSTAMP:20260425T151943
CREATED:20260104T105556Z
LAST-MODIFIED:20260310T114146Z
UID:10002222-1808412300-1808415900@mikepercsifoci.hu
SUMMARY:U9 edzés
DESCRIPTION:
URL:https://mikepercsifoci.hu/esemeny/u9-edzes-2-2/2027-04-22/
LOCATION:Mikepércsi Sportpálya\, Sport utca 4.\, Mikepércs\, 4271\, Hungary
CATEGORIES:U9 edzések
END:VEVENT
BEGIN:VEVENT
DTSTART;TZID=Europe/Budapest:20270423T164500
DTEND;TZID=Europe/Budapest:20270423T174500
DTSTAMP:20260425T151943
CREATED:20260104T110102Z
LAST-MODIFIED:20260310T114423Z
UID:10002762-1808498700-1808502300@mikepercsifoci.hu
SUMMARY:U13 edzés
DESCRIPTION:
URL:https://mikepercsifoci.hu/esemeny/u13-edzes-3/2027-04-23/
LOCATION:Mikepércsi Sportpálya\, Sport utca 4.\, Mikepércs\, 4271\, Hungary
CATEGORIES:U13 edzések
END:VEVENT
BEGIN:VEVENT
DTSTART;TZID=Europe/Budapest:20270423T170000
DTEND;TZID=Europe/Budapest:20270423T180000
DTSTAMP:20260425T151943
CREATED:20260104T105755Z
LAST-MODIFIED:20260104T105806Z
UID:10001178-1808499600-1808503200@mikepercsifoci.hu
SUMMARY:U7 edzés
DESCRIPTION:
URL:https://mikepercsifoci.hu/esemeny/u7-edzes-2-2/2027-04-23/
LOCATION:Mikepércsi Hunyadi János Általános Iskola\, Nagyváradi utca 1.\, Mikepércs\, 4271\, Hungary
CATEGORIES:U7 edzések
END:VEVENT
BEGIN:VEVENT
DTSTART;TZID=Europe/Budapest:20270423T180000
DTEND;TZID=Europe/Budapest:20270423T190000
DTSTAMP:20260425T151943
CREATED:20260104T105249Z
LAST-MODIFIED:20260104T105515Z
UID:10000398-1808503200-1808506800@mikepercsifoci.hu
SUMMARY:U11 edzés
DESCRIPTION:
URL:https://mikepercsifoci.hu/esemeny/u11-edzes-2-2/2027-04-23/
LOCATION:Mikepércsi Hunyadi János Általános Iskola\, Nagyváradi utca 1.\, Mikepércs\, 4271\, Hungary
CATEGORIES:U11 edzések
END:VEVENT
BEGIN:VEVENT
DTSTART;TZID=Europe/Budapest:20270426T164500
DTEND;TZID=Europe/Budapest:20270426T174500
DTSTAMP:20260425T151943
CREATED:20260310T114641Z
LAST-MODIFIED:20260310T114659Z
UID:10003543-1808757900-1808761500@mikepercsifoci.hu
SUMMARY:U13 edzés
DESCRIPTION:
URL:https://mikepercsifoci.hu/esemeny/u13-edzes-4/2027-04-26/
LOCATION:Mikepércsi Sportpálya\, Sport utca 4.\, Mikepércs\, 4271\, Hungary
CATEGORIES:U13 edzések
END:VEVENT
BEGIN:VEVENT
DTSTART;TZID=Europe/Budapest:20270426T170000
DTEND;TZID=Europe/Budapest:20270426T180000
DTSTAMP:20260425T151943
CREATED:20260104T105839Z
LAST-MODIFIED:20260104T105848Z
UID:10001439-1808758800-1808762400@mikepercsifoci.hu
SUMMARY:U7 edzés
DESCRIPTION:
URL:https://mikepercsifoci.hu/esemeny/u7-edzes-3/2027-04-26/
LOCATION:Mikepércsi Hunyadi János Általános Iskola\, Nagyváradi utca 1.\, Mikepércs\, 4271\, Hungary
CATEGORIES:U7 edzések
END:VEVENT
BEGIN:VEVENT
DTSTART;TZID=Europe/Budapest:20270427T164500
DTEND;TZID=Europe/Budapest:20270427T174500
DTSTAMP:20260425T151943
CREATED:20260104T105654Z
LAST-MODIFIED:20260310T114240Z
UID:10002493-1808844300-1808847900@mikepercsifoci.hu
SUMMARY:U9 edzés
DESCRIPTION:
URL:https://mikepercsifoci.hu/esemeny/u9-edzes-3/2027-04-27/
LOCATION:Mikepércsi Sportpálya\, Sport utca 4.\, Mikepércs\, 4271\, Hungary
CATEGORIES:U9 edzések
END:VEVENT
BEGIN:VEVENT
DTSTART;TZID=Europe/Budapest:20270427T190000
DTEND;TZID=Europe/Budapest:20270427T200000
DTSTAMP:20260425T151943
CREATED:20260104T105409Z
LAST-MODIFIED:20260104T105449Z
UID:10000139-1808852400-1808856000@mikepercsifoci.hu
SUMMARY:U11 edzés
DESCRIPTION:
URL:https://mikepercsifoci.hu/esemeny/u11-edzes-3/2027-04-27/
LOCATION:Mikepércsi Hunyadi János Általános Iskola\, Nagyváradi utca 1.\, Mikepércs\, 4271\, Hungary
CATEGORIES:U11 edzések
END:VEVENT
BEGIN:VEVENT
DTSTART;TZID=Europe/Budapest:20270428T164500
DTEND;TZID=Europe/Budapest:20270428T174500
DTSTAMP:20260425T151943
CREATED:20260310T114518Z
LAST-MODIFIED:20260310T114548Z
UID:10003284-1808930700-1808934300@mikepercsifoci.hu
SUMMARY:U13 edzés
DESCRIPTION:
URL:https://mikepercsifoci.hu/esemeny/u13-edzes-2-2-2/2027-04-28/
LOCATION:Mikepércsi Sportpálya\, Sport utca 4.\, Mikepércs\, 4271\, Hungary
CATEGORIES:U13 edzések
END:VEVENT
BEGIN:VEVENT
DTSTART;TZID=Europe/Budapest:20270429T164500
DTEND;TZID=Europe/Budapest:20270429T174500
DTSTAMP:20260425T151943
CREATED:20260104T105556Z
LAST-MODIFIED:20260310T114146Z
UID:10002223-1809017100-1809020700@mikepercsifoci.hu
SUMMARY:U9 edzés
DESCRIPTION:
URL:https://mikepercsifoci.hu/esemeny/u9-edzes-2-2/2027-04-29/
LOCATION:Mikepércsi Sportpálya\, Sport utca 4.\, Mikepércs\, 4271\, Hungary
CATEGORIES:U9 edzések
END:VEVENT
BEGIN:VEVENT
DTSTART;TZID=Europe/Budapest:20270430T164500
DTEND;TZID=Europe/Budapest:20270430T174500
DTSTAMP:20260425T151943
CREATED:20260104T110102Z
LAST-MODIFIED:20260310T114423Z
UID:10002763-1809103500-1809107100@mikepercsifoci.hu
SUMMARY:U13 edzés
DESCRIPTION:
URL:https://mikepercsifoci.hu/esemeny/u13-edzes-3/2027-04-30/
LOCATION:Mikepércsi Sportpálya\, Sport utca 4.\, Mikepércs\, 4271\, Hungary
CATEGORIES:U13 edzések
END:VEVENT
BEGIN:VEVENT
DTSTART;TZID=Europe/Budapest:20270430T170000
DTEND;TZID=Europe/Budapest:20270430T180000
DTSTAMP:20260425T151943
CREATED:20260104T105755Z
LAST-MODIFIED:20260104T105806Z
UID:10001179-1809104400-1809108000@mikepercsifoci.hu
SUMMARY:U7 edzés
DESCRIPTION:
URL:https://mikepercsifoci.hu/esemeny/u7-edzes-2-2/2027-04-30/
LOCATION:Mikepércsi Hunyadi János Általános Iskola\, Nagyváradi utca 1.\, Mikepércs\, 4271\, Hungary
CATEGORIES:U7 edzések
END:VEVENT
BEGIN:VEVENT
DTSTART;TZID=Europe/Budapest:20270430T180000
DTEND;TZID=Europe/Budapest:20270430T190000
DTSTAMP:20260425T151943
CREATED:20260104T105249Z
LAST-MODIFIED:20260104T105515Z
UID:10000399-1809108000-1809111600@mikepercsifoci.hu
SUMMARY:U11 edzés
DESCRIPTION:
URL:https://mikepercsifoci.hu/esemeny/u11-edzes-2-2/2027-04-30/
LOCATION:Mikepércsi Hunyadi János Általános Iskola\, Nagyváradi utca 1.\, Mikepércs\, 4271\, Hungary
CATEGORIES:U11 edzések
END:VEVENT
BEGIN:VEVENT
DTSTART;TZID=Europe/Budapest:20270503T164500
DTEND;TZID=Europe/Budapest:20270503T174500
DTSTAMP:20260425T151943
CREATED:20260310T114641Z
LAST-MODIFIED:20260310T114659Z
UID:10003544-1809362700-1809366300@mikepercsifoci.hu
SUMMARY:U13 edzés
DESCRIPTION:
URL:https://mikepercsifoci.hu/esemeny/u13-edzes-4/2027-05-03/
LOCATION:Mikepércsi Sportpálya\, Sport utca 4.\, Mikepércs\, 4271\, Hungary
CATEGORIES:U13 edzések
END:VEVENT
BEGIN:VEVENT
DTSTART;TZID=Europe/Budapest:20270503T170000
DTEND;TZID=Europe/Budapest:20270503T180000
DTSTAMP:20260425T151943
CREATED:20260104T105839Z
LAST-MODIFIED:20260104T105848Z
UID:10001440-1809363600-1809367200@mikepercsifoci.hu
SUMMARY:U7 edzés
DESCRIPTION:
URL:https://mikepercsifoci.hu/esemeny/u7-edzes-3/2027-05-03/
LOCATION:Mikepércsi Hunyadi János Általános Iskola\, Nagyváradi utca 1.\, Mikepércs\, 4271\, Hungary
CATEGORIES:U7 edzések
END:VEVENT
BEGIN:VEVENT
DTSTART;TZID=Europe/Budapest:20270504T164500
DTEND;TZID=Europe/Budapest:20270504T174500
DTSTAMP:20260425T151943
CREATED:20260104T105654Z
LAST-MODIFIED:20260310T114240Z
UID:10002494-1809449100-1809452700@mikepercsifoci.hu
SUMMARY:U9 edzés
DESCRIPTION:
URL:https://mikepercsifoci.hu/esemeny/u9-edzes-3/2027-05-04/
LOCATION:Mikepércsi Sportpálya\, Sport utca 4.\, Mikepércs\, 4271\, Hungary
CATEGORIES:U9 edzések
END:VEVENT
BEGIN:VEVENT
DTSTART;TZID=Europe/Budapest:20270504T190000
DTEND;TZID=Europe/Budapest:20270504T200000
DTSTAMP:20260425T151943
CREATED:20260104T105409Z
LAST-MODIFIED:20260104T105449Z
UID:10000140-1809457200-1809460800@mikepercsifoci.hu
SUMMARY:U11 edzés
DESCRIPTION:
URL:https://mikepercsifoci.hu/esemeny/u11-edzes-3/2027-05-04/
LOCATION:Mikepércsi Hunyadi János Általános Iskola\, Nagyváradi utca 1.\, Mikepércs\, 4271\, Hungary
CATEGORIES:U11 edzések
END:VEVENT
BEGIN:VEVENT
DTSTART;TZID=Europe/Budapest:20270505T164500
DTEND;TZID=Europe/Budapest:20270505T174500
DTSTAMP:20260425T151943
CREATED:20260310T114518Z
LAST-MODIFIED:20260310T114548Z
UID:10003285-1809535500-1809539100@mikepercsifoci.hu
SUMMARY:U13 edzés
DESCRIPTION:
URL:https://mikepercsifoci.hu/esemeny/u13-edzes-2-2-2/2027-05-05/
LOCATION:Mikepércsi Sportpálya\, Sport utca 4.\, Mikepércs\, 4271\, Hungary
CATEGORIES:U13 edzések
END:VEVENT
BEGIN:VEVENT
DTSTART;TZID=Europe/Budapest:20270506T164500
DTEND;TZID=Europe/Budapest:20270506T174500
DTSTAMP:20260425T151943
CREATED:20260104T105556Z
LAST-MODIFIED:20260310T114146Z
UID:10002224-1809621900-1809625500@mikepercsifoci.hu
SUMMARY:U9 edzés
DESCRIPTION:
URL:https://mikepercsifoci.hu/esemeny/u9-edzes-2-2/2027-05-06/
LOCATION:Mikepércsi Sportpálya\, Sport utca 4.\, Mikepércs\, 4271\, Hungary
CATEGORIES:U9 edzések
END:VEVENT
BEGIN:VEVENT
DTSTART;TZID=Europe/Budapest:20270507T164500
DTEND;TZID=Europe/Budapest:20270507T174500
DTSTAMP:20260425T151943
CREATED:20260104T110102Z
LAST-MODIFIED:20260310T114423Z
UID:10002764-1809708300-1809711900@mikepercsifoci.hu
SUMMARY:U13 edzés
DESCRIPTION:
URL:https://mikepercsifoci.hu/esemeny/u13-edzes-3/2027-05-07/
LOCATION:Mikepércsi Sportpálya\, Sport utca 4.\, Mikepércs\, 4271\, Hungary
CATEGORIES:U13 edzések
END:VEVENT
BEGIN:VEVENT
DTSTART;TZID=Europe/Budapest:20270507T170000
DTEND;TZID=Europe/Budapest:20270507T180000
DTSTAMP:20260425T151943
CREATED:20260104T105755Z
LAST-MODIFIED:20260104T105806Z
UID:10001180-1809709200-1809712800@mikepercsifoci.hu
SUMMARY:U7 edzés
DESCRIPTION:
URL:https://mikepercsifoci.hu/esemeny/u7-edzes-2-2/2027-05-07/
LOCATION:Mikepércsi Hunyadi János Általános Iskola\, Nagyváradi utca 1.\, Mikepércs\, 4271\, Hungary
CATEGORIES:U7 edzések
END:VEVENT
BEGIN:VEVENT
DTSTART;TZID=Europe/Budapest:20270507T180000
DTEND;TZID=Europe/Budapest:20270507T190000
DTSTAMP:20260425T151943
CREATED:20260104T105249Z
LAST-MODIFIED:20260104T105515Z
UID:10000400-1809712800-1809716400@mikepercsifoci.hu
SUMMARY:U11 edzés
DESCRIPTION:
URL:https://mikepercsifoci.hu/esemeny/u11-edzes-2-2/2027-05-07/
LOCATION:Mikepércsi Hunyadi János Általános Iskola\, Nagyváradi utca 1.\, Mikepércs\, 4271\, Hungary
CATEGORIES:U11 edzések
END:VEVENT
BEGIN:VEVENT
DTSTART;TZID=Europe/Budapest:20270510T164500
DTEND;TZID=Europe/Budapest:20270510T174500
DTSTAMP:20260425T151943
CREATED:20260310T114641Z
LAST-MODIFIED:20260310T114659Z
UID:10003545-1809967500-1809971100@mikepercsifoci.hu
SUMMARY:U13 edzés
DESCRIPTION:
URL:https://mikepercsifoci.hu/esemeny/u13-edzes-4/2027-05-10/
LOCATION:Mikepércsi Sportpálya\, Sport utca 4.\, Mikepércs\, 4271\, Hungary
CATEGORIES:U13 edzések
END:VEVENT
BEGIN:VEVENT
DTSTART;TZID=Europe/Budapest:20270510T170000
DTEND;TZID=Europe/Budapest:20270510T180000
DTSTAMP:20260425T151943
CREATED:20260104T105839Z
LAST-MODIFIED:20260104T105848Z
UID:10001441-1809968400-1809972000@mikepercsifoci.hu
SUMMARY:U7 edzés
DESCRIPTION:
URL:https://mikepercsifoci.hu/esemeny/u7-edzes-3/2027-05-10/
LOCATION:Mikepércsi Hunyadi János Általános Iskola\, Nagyváradi utca 1.\, Mikepércs\, 4271\, Hungary
CATEGORIES:U7 edzések
END:VEVENT
BEGIN:VEVENT
DTSTART;TZID=Europe/Budapest:20270511T164500
DTEND;TZID=Europe/Budapest:20270511T174500
DTSTAMP:20260425T151943
CREATED:20260104T105654Z
LAST-MODIFIED:20260310T114240Z
UID:10002495-1810053900-1810057500@mikepercsifoci.hu
SUMMARY:U9 edzés
DESCRIPTION:
URL:https://mikepercsifoci.hu/esemeny/u9-edzes-3/2027-05-11/
LOCATION:Mikepércsi Sportpálya\, Sport utca 4.\, Mikepércs\, 4271\, Hungary
CATEGORIES:U9 edzések
END:VEVENT
END:VCALENDAR