BEGIN:VCALENDAR
VERSION:2.0
PRODID:-//Mikepércsi Foci - ECPv6.15.12.2//NONSGML v1.0//EN
CALSCALE:GREGORIAN
METHOD:PUBLISH
X-ORIGINAL-URL:https://mikepercsifoci.hu
X-WR-CALDESC:Események Mikepércsi Foci
REFRESH-INTERVAL;VALUE=DURATION:PT1H
X-Robots-Tag:noindex
X-PUBLISHED-TTL:PT1H
BEGIN:VTIMEZONE
TZID:Europe/Budapest
BEGIN:DAYLIGHT
TZOFFSETFROM:+0100
TZOFFSETTO:+0200
TZNAME:CEST
DTSTART:20260329T010000
END:DAYLIGHT
BEGIN:STANDARD
TZOFFSETFROM:+0200
TZOFFSETTO:+0100
TZNAME:CET
DTSTART:20261025T010000
END:STANDARD
BEGIN:DAYLIGHT
TZOFFSETFROM:+0100
TZOFFSETTO:+0200
TZNAME:CEST
DTSTART:20270328T010000
END:DAYLIGHT
BEGIN:STANDARD
TZOFFSETFROM:+0200
TZOFFSETTO:+0100
TZNAME:CET
DTSTART:20271031T010000
END:STANDARD
BEGIN:DAYLIGHT
TZOFFSETFROM:+0100
TZOFFSETTO:+0200
TZNAME:CEST
DTSTART:20280326T010000
END:DAYLIGHT
BEGIN:STANDARD
TZOFFSETFROM:+0200
TZOFFSETTO:+0100
TZNAME:CET
DTSTART:20281029T010000
END:STANDARD
END:VTIMEZONE
BEGIN:VEVENT
DTSTART;TZID=Europe/Budapest:20270816T164500
DTEND;TZID=Europe/Budapest:20270816T174500
DTSTAMP:20260425T231704
CREATED:20260310T114641Z
LAST-MODIFIED:20260310T114659Z
UID:10003559-1818434700-1818438300@mikepercsifoci.hu
SUMMARY:U13 edzés
DESCRIPTION:
URL:https://mikepercsifoci.hu/esemeny/u13-edzes-4/2027-08-16/
LOCATION:Mikepércsi Sportpálya\, Sport utca 4.\, Mikepércs\, 4271\, Hungary
CATEGORIES:U13 edzések
END:VEVENT
BEGIN:VEVENT
DTSTART;TZID=Europe/Budapest:20270816T170000
DTEND;TZID=Europe/Budapest:20270816T180000
DTSTAMP:20260425T231704
CREATED:20260104T105839Z
LAST-MODIFIED:20260104T105848Z
UID:10001455-1818435600-1818439200@mikepercsifoci.hu
SUMMARY:U7 edzés
DESCRIPTION:
URL:https://mikepercsifoci.hu/esemeny/u7-edzes-3/2027-08-16/
LOCATION:Mikepércsi Hunyadi János Általános Iskola\, Nagyváradi utca 1.\, Mikepércs\, 4271\, Hungary
CATEGORIES:U7 edzések
END:VEVENT
BEGIN:VEVENT
DTSTART;TZID=Europe/Budapest:20270817T164500
DTEND;TZID=Europe/Budapest:20270817T174500
DTSTAMP:20260425T231704
CREATED:20260104T105654Z
LAST-MODIFIED:20260310T114240Z
UID:10002509-1818521100-1818524700@mikepercsifoci.hu
SUMMARY:U9 edzés
DESCRIPTION:
URL:https://mikepercsifoci.hu/esemeny/u9-edzes-3/2027-08-17/
LOCATION:Mikepércsi Sportpálya\, Sport utca 4.\, Mikepércs\, 4271\, Hungary
CATEGORIES:U9 edzések
END:VEVENT
BEGIN:VEVENT
DTSTART;TZID=Europe/Budapest:20270817T190000
DTEND;TZID=Europe/Budapest:20270817T200000
DTSTAMP:20260425T231704
CREATED:20260104T105409Z
LAST-MODIFIED:20260104T105449Z
UID:10000155-1818529200-1818532800@mikepercsifoci.hu
SUMMARY:U11 edzés
DESCRIPTION:
URL:https://mikepercsifoci.hu/esemeny/u11-edzes-3/2027-08-17/
LOCATION:Mikepércsi Hunyadi János Általános Iskola\, Nagyváradi utca 1.\, Mikepércs\, 4271\, Hungary
CATEGORIES:U11 edzések
END:VEVENT
BEGIN:VEVENT
DTSTART;TZID=Europe/Budapest:20270818T164500
DTEND;TZID=Europe/Budapest:20270818T174500
DTSTAMP:20260425T231704
CREATED:20260310T114518Z
LAST-MODIFIED:20260310T114548Z
UID:10003300-1818607500-1818611100@mikepercsifoci.hu
SUMMARY:U13 edzés
DESCRIPTION:
URL:https://mikepercsifoci.hu/esemeny/u13-edzes-2-2-2/2027-08-18/
LOCATION:Mikepércsi Sportpálya\, Sport utca 4.\, Mikepércs\, 4271\, Hungary
CATEGORIES:U13 edzések
END:VEVENT
BEGIN:VEVENT
DTSTART;TZID=Europe/Budapest:20270819T164500
DTEND;TZID=Europe/Budapest:20270819T174500
DTSTAMP:20260425T231704
CREATED:20260104T105556Z
LAST-MODIFIED:20260310T114146Z
UID:10002239-1818693900-1818697500@mikepercsifoci.hu
SUMMARY:U9 edzés
DESCRIPTION:
URL:https://mikepercsifoci.hu/esemeny/u9-edzes-2-2/2027-08-19/
LOCATION:Mikepércsi Sportpálya\, Sport utca 4.\, Mikepércs\, 4271\, Hungary
CATEGORIES:U9 edzések
END:VEVENT
BEGIN:VEVENT
DTSTART;TZID=Europe/Budapest:20270820T164500
DTEND;TZID=Europe/Budapest:20270820T174500
DTSTAMP:20260425T231704
CREATED:20260104T110102Z
LAST-MODIFIED:20260310T114423Z
UID:10002779-1818780300-1818783900@mikepercsifoci.hu
SUMMARY:U13 edzés
DESCRIPTION:
URL:https://mikepercsifoci.hu/esemeny/u13-edzes-3/2027-08-20/
LOCATION:Mikepércsi Sportpálya\, Sport utca 4.\, Mikepércs\, 4271\, Hungary
CATEGORIES:U13 edzések
END:VEVENT
BEGIN:VEVENT
DTSTART;TZID=Europe/Budapest:20270820T170000
DTEND;TZID=Europe/Budapest:20270820T180000
DTSTAMP:20260425T231704
CREATED:20260104T105755Z
LAST-MODIFIED:20260104T105806Z
UID:10001195-1818781200-1818784800@mikepercsifoci.hu
SUMMARY:U7 edzés
DESCRIPTION:
URL:https://mikepercsifoci.hu/esemeny/u7-edzes-2-2/2027-08-20/
LOCATION:Mikepércsi Hunyadi János Általános Iskola\, Nagyváradi utca 1.\, Mikepércs\, 4271\, Hungary
CATEGORIES:U7 edzések
END:VEVENT
BEGIN:VEVENT
DTSTART;TZID=Europe/Budapest:20270820T180000
DTEND;TZID=Europe/Budapest:20270820T190000
DTSTAMP:20260425T231704
CREATED:20260104T105249Z
LAST-MODIFIED:20260104T105515Z
UID:10000415-1818784800-1818788400@mikepercsifoci.hu
SUMMARY:U11 edzés
DESCRIPTION:
URL:https://mikepercsifoci.hu/esemeny/u11-edzes-2-2/2027-08-20/
LOCATION:Mikepércsi Hunyadi János Általános Iskola\, Nagyváradi utca 1.\, Mikepércs\, 4271\, Hungary
CATEGORIES:U11 edzések
END:VEVENT
BEGIN:VEVENT
DTSTART;TZID=Europe/Budapest:20270823T164500
DTEND;TZID=Europe/Budapest:20270823T174500
DTSTAMP:20260425T231704
CREATED:20260310T114641Z
LAST-MODIFIED:20260310T114659Z
UID:10003560-1819039500-1819043100@mikepercsifoci.hu
SUMMARY:U13 edzés
DESCRIPTION:
URL:https://mikepercsifoci.hu/esemeny/u13-edzes-4/2027-08-23/
LOCATION:Mikepércsi Sportpálya\, Sport utca 4.\, Mikepércs\, 4271\, Hungary
CATEGORIES:U13 edzések
END:VEVENT
BEGIN:VEVENT
DTSTART;TZID=Europe/Budapest:20270823T170000
DTEND;TZID=Europe/Budapest:20270823T180000
DTSTAMP:20260425T231704
CREATED:20260104T105839Z
LAST-MODIFIED:20260104T105848Z
UID:10001456-1819040400-1819044000@mikepercsifoci.hu
SUMMARY:U7 edzés
DESCRIPTION:
URL:https://mikepercsifoci.hu/esemeny/u7-edzes-3/2027-08-23/
LOCATION:Mikepércsi Hunyadi János Általános Iskola\, Nagyváradi utca 1.\, Mikepércs\, 4271\, Hungary
CATEGORIES:U7 edzések
END:VEVENT
BEGIN:VEVENT
DTSTART;TZID=Europe/Budapest:20270824T164500
DTEND;TZID=Europe/Budapest:20270824T174500
DTSTAMP:20260425T231704
CREATED:20260104T105654Z
LAST-MODIFIED:20260310T114240Z
UID:10002510-1819125900-1819129500@mikepercsifoci.hu
SUMMARY:U9 edzés
DESCRIPTION:
URL:https://mikepercsifoci.hu/esemeny/u9-edzes-3/2027-08-24/
LOCATION:Mikepércsi Sportpálya\, Sport utca 4.\, Mikepércs\, 4271\, Hungary
CATEGORIES:U9 edzések
END:VEVENT
BEGIN:VEVENT
DTSTART;TZID=Europe/Budapest:20270824T190000
DTEND;TZID=Europe/Budapest:20270824T200000
DTSTAMP:20260425T231704
CREATED:20260104T105409Z
LAST-MODIFIED:20260104T105449Z
UID:10000156-1819134000-1819137600@mikepercsifoci.hu
SUMMARY:U11 edzés
DESCRIPTION:
URL:https://mikepercsifoci.hu/esemeny/u11-edzes-3/2027-08-24/
LOCATION:Mikepércsi Hunyadi János Általános Iskola\, Nagyváradi utca 1.\, Mikepércs\, 4271\, Hungary
CATEGORIES:U11 edzések
END:VEVENT
BEGIN:VEVENT
DTSTART;TZID=Europe/Budapest:20270825T164500
DTEND;TZID=Europe/Budapest:20270825T174500
DTSTAMP:20260425T231704
CREATED:20260310T114518Z
LAST-MODIFIED:20260310T114548Z
UID:10003301-1819212300-1819215900@mikepercsifoci.hu
SUMMARY:U13 edzés
DESCRIPTION:
URL:https://mikepercsifoci.hu/esemeny/u13-edzes-2-2-2/2027-08-25/
LOCATION:Mikepércsi Sportpálya\, Sport utca 4.\, Mikepércs\, 4271\, Hungary
CATEGORIES:U13 edzések
END:VEVENT
BEGIN:VEVENT
DTSTART;TZID=Europe/Budapest:20270826T164500
DTEND;TZID=Europe/Budapest:20270826T174500
DTSTAMP:20260425T231704
CREATED:20260104T105556Z
LAST-MODIFIED:20260310T114146Z
UID:10002240-1819298700-1819302300@mikepercsifoci.hu
SUMMARY:U9 edzés
DESCRIPTION:
URL:https://mikepercsifoci.hu/esemeny/u9-edzes-2-2/2027-08-26/
LOCATION:Mikepércsi Sportpálya\, Sport utca 4.\, Mikepércs\, 4271\, Hungary
CATEGORIES:U9 edzések
END:VEVENT
BEGIN:VEVENT
DTSTART;TZID=Europe/Budapest:20270827T164500
DTEND;TZID=Europe/Budapest:20270827T174500
DTSTAMP:20260425T231704
CREATED:20260104T110102Z
LAST-MODIFIED:20260310T114423Z
UID:10002780-1819385100-1819388700@mikepercsifoci.hu
SUMMARY:U13 edzés
DESCRIPTION:
URL:https://mikepercsifoci.hu/esemeny/u13-edzes-3/2027-08-27/
LOCATION:Mikepércsi Sportpálya\, Sport utca 4.\, Mikepércs\, 4271\, Hungary
CATEGORIES:U13 edzések
END:VEVENT
BEGIN:VEVENT
DTSTART;TZID=Europe/Budapest:20270827T170000
DTEND;TZID=Europe/Budapest:20270827T180000
DTSTAMP:20260425T231704
CREATED:20260104T105755Z
LAST-MODIFIED:20260104T105806Z
UID:10001196-1819386000-1819389600@mikepercsifoci.hu
SUMMARY:U7 edzés
DESCRIPTION:
URL:https://mikepercsifoci.hu/esemeny/u7-edzes-2-2/2027-08-27/
LOCATION:Mikepércsi Hunyadi János Általános Iskola\, Nagyváradi utca 1.\, Mikepércs\, 4271\, Hungary
CATEGORIES:U7 edzések
END:VEVENT
BEGIN:VEVENT
DTSTART;TZID=Europe/Budapest:20270827T180000
DTEND;TZID=Europe/Budapest:20270827T190000
DTSTAMP:20260425T231704
CREATED:20260104T105249Z
LAST-MODIFIED:20260104T105515Z
UID:10000416-1819389600-1819393200@mikepercsifoci.hu
SUMMARY:U11 edzés
DESCRIPTION:
URL:https://mikepercsifoci.hu/esemeny/u11-edzes-2-2/2027-08-27/
LOCATION:Mikepércsi Hunyadi János Általános Iskola\, Nagyváradi utca 1.\, Mikepércs\, 4271\, Hungary
CATEGORIES:U11 edzések
END:VEVENT
BEGIN:VEVENT
DTSTART;TZID=Europe/Budapest:20270830T164500
DTEND;TZID=Europe/Budapest:20270830T174500
DTSTAMP:20260425T231704
CREATED:20260310T114641Z
LAST-MODIFIED:20260310T114659Z
UID:10003561-1819644300-1819647900@mikepercsifoci.hu
SUMMARY:U13 edzés
DESCRIPTION:
URL:https://mikepercsifoci.hu/esemeny/u13-edzes-4/2027-08-30/
LOCATION:Mikepércsi Sportpálya\, Sport utca 4.\, Mikepércs\, 4271\, Hungary
CATEGORIES:U13 edzések
END:VEVENT
BEGIN:VEVENT
DTSTART;TZID=Europe/Budapest:20270830T170000
DTEND;TZID=Europe/Budapest:20270830T180000
DTSTAMP:20260425T231704
CREATED:20260104T105839Z
LAST-MODIFIED:20260104T105848Z
UID:10001457-1819645200-1819648800@mikepercsifoci.hu
SUMMARY:U7 edzés
DESCRIPTION:
URL:https://mikepercsifoci.hu/esemeny/u7-edzes-3/2027-08-30/
LOCATION:Mikepércsi Hunyadi János Általános Iskola\, Nagyváradi utca 1.\, Mikepércs\, 4271\, Hungary
CATEGORIES:U7 edzések
END:VEVENT
BEGIN:VEVENT
DTSTART;TZID=Europe/Budapest:20270831T164500
DTEND;TZID=Europe/Budapest:20270831T174500
DTSTAMP:20260425T231704
CREATED:20260104T105654Z
LAST-MODIFIED:20260310T114240Z
UID:10002511-1819730700-1819734300@mikepercsifoci.hu
SUMMARY:U9 edzés
DESCRIPTION:
URL:https://mikepercsifoci.hu/esemeny/u9-edzes-3/2027-08-31/
LOCATION:Mikepércsi Sportpálya\, Sport utca 4.\, Mikepércs\, 4271\, Hungary
CATEGORIES:U9 edzések
END:VEVENT
BEGIN:VEVENT
DTSTART;TZID=Europe/Budapest:20270831T190000
DTEND;TZID=Europe/Budapest:20270831T200000
DTSTAMP:20260425T231704
CREATED:20260104T105409Z
LAST-MODIFIED:20260104T105449Z
UID:10000157-1819738800-1819742400@mikepercsifoci.hu
SUMMARY:U11 edzés
DESCRIPTION:
URL:https://mikepercsifoci.hu/esemeny/u11-edzes-3/2027-08-31/
LOCATION:Mikepércsi Hunyadi János Általános Iskola\, Nagyváradi utca 1.\, Mikepércs\, 4271\, Hungary
CATEGORIES:U11 edzések
END:VEVENT
BEGIN:VEVENT
DTSTART;TZID=Europe/Budapest:20270901T164500
DTEND;TZID=Europe/Budapest:20270901T174500
DTSTAMP:20260425T231704
CREATED:20260310T114518Z
LAST-MODIFIED:20260310T114548Z
UID:10003302-1819817100-1819820700@mikepercsifoci.hu
SUMMARY:U13 edzés
DESCRIPTION:
URL:https://mikepercsifoci.hu/esemeny/u13-edzes-2-2-2/2027-09-01/
LOCATION:Mikepércsi Sportpálya\, Sport utca 4.\, Mikepércs\, 4271\, Hungary
CATEGORIES:U13 edzések
END:VEVENT
BEGIN:VEVENT
DTSTART;TZID=Europe/Budapest:20270902T164500
DTEND;TZID=Europe/Budapest:20270902T174500
DTSTAMP:20260425T231704
CREATED:20260104T105556Z
LAST-MODIFIED:20260310T114146Z
UID:10002241-1819903500-1819907100@mikepercsifoci.hu
SUMMARY:U9 edzés
DESCRIPTION:
URL:https://mikepercsifoci.hu/esemeny/u9-edzes-2-2/2027-09-02/
LOCATION:Mikepércsi Sportpálya\, Sport utca 4.\, Mikepércs\, 4271\, Hungary
CATEGORIES:U9 edzések
END:VEVENT
BEGIN:VEVENT
DTSTART;TZID=Europe/Budapest:20270903T164500
DTEND;TZID=Europe/Budapest:20270903T174500
DTSTAMP:20260425T231704
CREATED:20260104T110102Z
LAST-MODIFIED:20260310T114423Z
UID:10002781-1819989900-1819993500@mikepercsifoci.hu
SUMMARY:U13 edzés
DESCRIPTION:
URL:https://mikepercsifoci.hu/esemeny/u13-edzes-3/2027-09-03/
LOCATION:Mikepércsi Sportpálya\, Sport utca 4.\, Mikepércs\, 4271\, Hungary
CATEGORIES:U13 edzések
END:VEVENT
BEGIN:VEVENT
DTSTART;TZID=Europe/Budapest:20270903T170000
DTEND;TZID=Europe/Budapest:20270903T180000
DTSTAMP:20260425T231704
CREATED:20260104T105755Z
LAST-MODIFIED:20260104T105806Z
UID:10001197-1819990800-1819994400@mikepercsifoci.hu
SUMMARY:U7 edzés
DESCRIPTION:
URL:https://mikepercsifoci.hu/esemeny/u7-edzes-2-2/2027-09-03/
LOCATION:Mikepércsi Hunyadi János Általános Iskola\, Nagyváradi utca 1.\, Mikepércs\, 4271\, Hungary
CATEGORIES:U7 edzések
END:VEVENT
BEGIN:VEVENT
DTSTART;TZID=Europe/Budapest:20270903T180000
DTEND;TZID=Europe/Budapest:20270903T190000
DTSTAMP:20260425T231704
CREATED:20260104T105249Z
LAST-MODIFIED:20260104T105515Z
UID:10000417-1819994400-1819998000@mikepercsifoci.hu
SUMMARY:U11 edzés
DESCRIPTION:
URL:https://mikepercsifoci.hu/esemeny/u11-edzes-2-2/2027-09-03/
LOCATION:Mikepércsi Hunyadi János Általános Iskola\, Nagyváradi utca 1.\, Mikepércs\, 4271\, Hungary
CATEGORIES:U11 edzések
END:VEVENT
BEGIN:VEVENT
DTSTART;TZID=Europe/Budapest:20270906T164500
DTEND;TZID=Europe/Budapest:20270906T174500
DTSTAMP:20260425T231704
CREATED:20260310T114641Z
LAST-MODIFIED:20260310T114659Z
UID:10003562-1820249100-1820252700@mikepercsifoci.hu
SUMMARY:U13 edzés
DESCRIPTION:
URL:https://mikepercsifoci.hu/esemeny/u13-edzes-4/2027-09-06/
LOCATION:Mikepércsi Sportpálya\, Sport utca 4.\, Mikepércs\, 4271\, Hungary
CATEGORIES:U13 edzések
END:VEVENT
BEGIN:VEVENT
DTSTART;TZID=Europe/Budapest:20270906T170000
DTEND;TZID=Europe/Budapest:20270906T180000
DTSTAMP:20260425T231704
CREATED:20260104T105839Z
LAST-MODIFIED:20260104T105848Z
UID:10001458-1820250000-1820253600@mikepercsifoci.hu
SUMMARY:U7 edzés
DESCRIPTION:
URL:https://mikepercsifoci.hu/esemeny/u7-edzes-3/2027-09-06/
LOCATION:Mikepércsi Hunyadi János Általános Iskola\, Nagyváradi utca 1.\, Mikepércs\, 4271\, Hungary
CATEGORIES:U7 edzések
END:VEVENT
BEGIN:VEVENT
DTSTART;TZID=Europe/Budapest:20270907T164500
DTEND;TZID=Europe/Budapest:20270907T174500
DTSTAMP:20260425T231704
CREATED:20260104T105654Z
LAST-MODIFIED:20260310T114240Z
UID:10002512-1820335500-1820339100@mikepercsifoci.hu
SUMMARY:U9 edzés
DESCRIPTION:
URL:https://mikepercsifoci.hu/esemeny/u9-edzes-3/2027-09-07/
LOCATION:Mikepércsi Sportpálya\, Sport utca 4.\, Mikepércs\, 4271\, Hungary
CATEGORIES:U9 edzések
END:VEVENT
END:VCALENDAR