BEGIN:VCALENDAR
VERSION:2.0
PRODID:-//Mikepércsi Foci - ECPv6.15.12.2//NONSGML v1.0//EN
CALSCALE:GREGORIAN
METHOD:PUBLISH
X-ORIGINAL-URL:https://mikepercsifoci.hu
X-WR-CALDESC:Események Mikepércsi Foci
REFRESH-INTERVAL;VALUE=DURATION:PT1H
X-Robots-Tag:noindex
X-PUBLISHED-TTL:PT1H
BEGIN:VTIMEZONE
TZID:Europe/Budapest
BEGIN:DAYLIGHT
TZOFFSETFROM:+0100
TZOFFSETTO:+0200
TZNAME:CEST
DTSTART:20260329T010000
END:DAYLIGHT
BEGIN:STANDARD
TZOFFSETFROM:+0200
TZOFFSETTO:+0100
TZNAME:CET
DTSTART:20261025T010000
END:STANDARD
BEGIN:DAYLIGHT
TZOFFSETFROM:+0100
TZOFFSETTO:+0200
TZNAME:CEST
DTSTART:20270328T010000
END:DAYLIGHT
BEGIN:STANDARD
TZOFFSETFROM:+0200
TZOFFSETTO:+0100
TZNAME:CET
DTSTART:20271031T010000
END:STANDARD
BEGIN:DAYLIGHT
TZOFFSETFROM:+0100
TZOFFSETTO:+0200
TZNAME:CEST
DTSTART:20280326T010000
END:DAYLIGHT
BEGIN:STANDARD
TZOFFSETFROM:+0200
TZOFFSETTO:+0100
TZNAME:CET
DTSTART:20281029T010000
END:STANDARD
END:VTIMEZONE
BEGIN:VEVENT
DTSTART;TZID=Europe/Budapest:20270830T164500
DTEND;TZID=Europe/Budapest:20270830T174500
DTSTAMP:20260425T231706
CREATED:20260310T114641Z
LAST-MODIFIED:20260310T114659Z
UID:10003561-1819644300-1819647900@mikepercsifoci.hu
SUMMARY:U13 edzés
DESCRIPTION:
URL:https://mikepercsifoci.hu/esemeny/u13-edzes-4/2027-08-30/
LOCATION:Mikepércsi Sportpálya\, Sport utca 4.\, Mikepércs\, 4271\, Hungary
CATEGORIES:U13 edzések
END:VEVENT
BEGIN:VEVENT
DTSTART;TZID=Europe/Budapest:20270830T170000
DTEND;TZID=Europe/Budapest:20270830T180000
DTSTAMP:20260425T231706
CREATED:20260104T105839Z
LAST-MODIFIED:20260104T105848Z
UID:10001457-1819645200-1819648800@mikepercsifoci.hu
SUMMARY:U7 edzés
DESCRIPTION:
URL:https://mikepercsifoci.hu/esemeny/u7-edzes-3/2027-08-30/
LOCATION:Mikepércsi Hunyadi János Általános Iskola\, Nagyváradi utca 1.\, Mikepércs\, 4271\, Hungary
CATEGORIES:U7 edzések
END:VEVENT
BEGIN:VEVENT
DTSTART;TZID=Europe/Budapest:20270831T164500
DTEND;TZID=Europe/Budapest:20270831T174500
DTSTAMP:20260425T231706
CREATED:20260104T105654Z
LAST-MODIFIED:20260310T114240Z
UID:10002511-1819730700-1819734300@mikepercsifoci.hu
SUMMARY:U9 edzés
DESCRIPTION:
URL:https://mikepercsifoci.hu/esemeny/u9-edzes-3/2027-08-31/
LOCATION:Mikepércsi Sportpálya\, Sport utca 4.\, Mikepércs\, 4271\, Hungary
CATEGORIES:U9 edzések
END:VEVENT
BEGIN:VEVENT
DTSTART;TZID=Europe/Budapest:20270831T190000
DTEND;TZID=Europe/Budapest:20270831T200000
DTSTAMP:20260425T231706
CREATED:20260104T105409Z
LAST-MODIFIED:20260104T105449Z
UID:10000157-1819738800-1819742400@mikepercsifoci.hu
SUMMARY:U11 edzés
DESCRIPTION:
URL:https://mikepercsifoci.hu/esemeny/u11-edzes-3/2027-08-31/
LOCATION:Mikepércsi Hunyadi János Általános Iskola\, Nagyváradi utca 1.\, Mikepércs\, 4271\, Hungary
CATEGORIES:U11 edzések
END:VEVENT
BEGIN:VEVENT
DTSTART;TZID=Europe/Budapest:20270901T164500
DTEND;TZID=Europe/Budapest:20270901T174500
DTSTAMP:20260425T231706
CREATED:20260310T114518Z
LAST-MODIFIED:20260310T114548Z
UID:10003302-1819817100-1819820700@mikepercsifoci.hu
SUMMARY:U13 edzés
DESCRIPTION:
URL:https://mikepercsifoci.hu/esemeny/u13-edzes-2-2-2/2027-09-01/
LOCATION:Mikepércsi Sportpálya\, Sport utca 4.\, Mikepércs\, 4271\, Hungary
CATEGORIES:U13 edzések
END:VEVENT
BEGIN:VEVENT
DTSTART;TZID=Europe/Budapest:20270902T164500
DTEND;TZID=Europe/Budapest:20270902T174500
DTSTAMP:20260425T231706
CREATED:20260104T105556Z
LAST-MODIFIED:20260310T114146Z
UID:10002241-1819903500-1819907100@mikepercsifoci.hu
SUMMARY:U9 edzés
DESCRIPTION:
URL:https://mikepercsifoci.hu/esemeny/u9-edzes-2-2/2027-09-02/
LOCATION:Mikepércsi Sportpálya\, Sport utca 4.\, Mikepércs\, 4271\, Hungary
CATEGORIES:U9 edzések
END:VEVENT
BEGIN:VEVENT
DTSTART;TZID=Europe/Budapest:20270903T164500
DTEND;TZID=Europe/Budapest:20270903T174500
DTSTAMP:20260425T231706
CREATED:20260104T110102Z
LAST-MODIFIED:20260310T114423Z
UID:10002781-1819989900-1819993500@mikepercsifoci.hu
SUMMARY:U13 edzés
DESCRIPTION:
URL:https://mikepercsifoci.hu/esemeny/u13-edzes-3/2027-09-03/
LOCATION:Mikepércsi Sportpálya\, Sport utca 4.\, Mikepércs\, 4271\, Hungary
CATEGORIES:U13 edzések
END:VEVENT
BEGIN:VEVENT
DTSTART;TZID=Europe/Budapest:20270903T170000
DTEND;TZID=Europe/Budapest:20270903T180000
DTSTAMP:20260425T231706
CREATED:20260104T105755Z
LAST-MODIFIED:20260104T105806Z
UID:10001197-1819990800-1819994400@mikepercsifoci.hu
SUMMARY:U7 edzés
DESCRIPTION:
URL:https://mikepercsifoci.hu/esemeny/u7-edzes-2-2/2027-09-03/
LOCATION:Mikepércsi Hunyadi János Általános Iskola\, Nagyváradi utca 1.\, Mikepércs\, 4271\, Hungary
CATEGORIES:U7 edzések
END:VEVENT
BEGIN:VEVENT
DTSTART;TZID=Europe/Budapest:20270903T180000
DTEND;TZID=Europe/Budapest:20270903T190000
DTSTAMP:20260425T231706
CREATED:20260104T105249Z
LAST-MODIFIED:20260104T105515Z
UID:10000417-1819994400-1819998000@mikepercsifoci.hu
SUMMARY:U11 edzés
DESCRIPTION:
URL:https://mikepercsifoci.hu/esemeny/u11-edzes-2-2/2027-09-03/
LOCATION:Mikepércsi Hunyadi János Általános Iskola\, Nagyváradi utca 1.\, Mikepércs\, 4271\, Hungary
CATEGORIES:U11 edzések
END:VEVENT
BEGIN:VEVENT
DTSTART;TZID=Europe/Budapest:20270906T164500
DTEND;TZID=Europe/Budapest:20270906T174500
DTSTAMP:20260425T231706
CREATED:20260310T114641Z
LAST-MODIFIED:20260310T114659Z
UID:10003562-1820249100-1820252700@mikepercsifoci.hu
SUMMARY:U13 edzés
DESCRIPTION:
URL:https://mikepercsifoci.hu/esemeny/u13-edzes-4/2027-09-06/
LOCATION:Mikepércsi Sportpálya\, Sport utca 4.\, Mikepércs\, 4271\, Hungary
CATEGORIES:U13 edzések
END:VEVENT
BEGIN:VEVENT
DTSTART;TZID=Europe/Budapest:20270906T170000
DTEND;TZID=Europe/Budapest:20270906T180000
DTSTAMP:20260425T231706
CREATED:20260104T105839Z
LAST-MODIFIED:20260104T105848Z
UID:10001458-1820250000-1820253600@mikepercsifoci.hu
SUMMARY:U7 edzés
DESCRIPTION:
URL:https://mikepercsifoci.hu/esemeny/u7-edzes-3/2027-09-06/
LOCATION:Mikepércsi Hunyadi János Általános Iskola\, Nagyváradi utca 1.\, Mikepércs\, 4271\, Hungary
CATEGORIES:U7 edzések
END:VEVENT
BEGIN:VEVENT
DTSTART;TZID=Europe/Budapest:20270907T164500
DTEND;TZID=Europe/Budapest:20270907T174500
DTSTAMP:20260425T231706
CREATED:20260104T105654Z
LAST-MODIFIED:20260310T114240Z
UID:10002512-1820335500-1820339100@mikepercsifoci.hu
SUMMARY:U9 edzés
DESCRIPTION:
URL:https://mikepercsifoci.hu/esemeny/u9-edzes-3/2027-09-07/
LOCATION:Mikepércsi Sportpálya\, Sport utca 4.\, Mikepércs\, 4271\, Hungary
CATEGORIES:U9 edzések
END:VEVENT
BEGIN:VEVENT
DTSTART;TZID=Europe/Budapest:20270907T190000
DTEND;TZID=Europe/Budapest:20270907T200000
DTSTAMP:20260425T231706
CREATED:20260104T105409Z
LAST-MODIFIED:20260104T105449Z
UID:10000158-1820343600-1820347200@mikepercsifoci.hu
SUMMARY:U11 edzés
DESCRIPTION:
URL:https://mikepercsifoci.hu/esemeny/u11-edzes-3/2027-09-07/
LOCATION:Mikepércsi Hunyadi János Általános Iskola\, Nagyváradi utca 1.\, Mikepércs\, 4271\, Hungary
CATEGORIES:U11 edzések
END:VEVENT
BEGIN:VEVENT
DTSTART;TZID=Europe/Budapest:20270908T164500
DTEND;TZID=Europe/Budapest:20270908T174500
DTSTAMP:20260425T231706
CREATED:20260310T114518Z
LAST-MODIFIED:20260310T114548Z
UID:10003303-1820421900-1820425500@mikepercsifoci.hu
SUMMARY:U13 edzés
DESCRIPTION:
URL:https://mikepercsifoci.hu/esemeny/u13-edzes-2-2-2/2027-09-08/
LOCATION:Mikepércsi Sportpálya\, Sport utca 4.\, Mikepércs\, 4271\, Hungary
CATEGORIES:U13 edzések
END:VEVENT
BEGIN:VEVENT
DTSTART;TZID=Europe/Budapest:20270909T164500
DTEND;TZID=Europe/Budapest:20270909T174500
DTSTAMP:20260425T231706
CREATED:20260104T105556Z
LAST-MODIFIED:20260310T114146Z
UID:10002242-1820508300-1820511900@mikepercsifoci.hu
SUMMARY:U9 edzés
DESCRIPTION:
URL:https://mikepercsifoci.hu/esemeny/u9-edzes-2-2/2027-09-09/
LOCATION:Mikepércsi Sportpálya\, Sport utca 4.\, Mikepércs\, 4271\, Hungary
CATEGORIES:U9 edzések
END:VEVENT
BEGIN:VEVENT
DTSTART;TZID=Europe/Budapest:20270910T164500
DTEND;TZID=Europe/Budapest:20270910T174500
DTSTAMP:20260425T231706
CREATED:20260104T110102Z
LAST-MODIFIED:20260310T114423Z
UID:10002782-1820594700-1820598300@mikepercsifoci.hu
SUMMARY:U13 edzés
DESCRIPTION:
URL:https://mikepercsifoci.hu/esemeny/u13-edzes-3/2027-09-10/
LOCATION:Mikepércsi Sportpálya\, Sport utca 4.\, Mikepércs\, 4271\, Hungary
CATEGORIES:U13 edzések
END:VEVENT
BEGIN:VEVENT
DTSTART;TZID=Europe/Budapest:20270910T170000
DTEND;TZID=Europe/Budapest:20270910T180000
DTSTAMP:20260425T231706
CREATED:20260104T105755Z
LAST-MODIFIED:20260104T105806Z
UID:10001198-1820595600-1820599200@mikepercsifoci.hu
SUMMARY:U7 edzés
DESCRIPTION:
URL:https://mikepercsifoci.hu/esemeny/u7-edzes-2-2/2027-09-10/
LOCATION:Mikepércsi Hunyadi János Általános Iskola\, Nagyváradi utca 1.\, Mikepércs\, 4271\, Hungary
CATEGORIES:U7 edzések
END:VEVENT
BEGIN:VEVENT
DTSTART;TZID=Europe/Budapest:20270910T180000
DTEND;TZID=Europe/Budapest:20270910T190000
DTSTAMP:20260425T231706
CREATED:20260104T105249Z
LAST-MODIFIED:20260104T105515Z
UID:10000418-1820599200-1820602800@mikepercsifoci.hu
SUMMARY:U11 edzés
DESCRIPTION:
URL:https://mikepercsifoci.hu/esemeny/u11-edzes-2-2/2027-09-10/
LOCATION:Mikepércsi Hunyadi János Általános Iskola\, Nagyváradi utca 1.\, Mikepércs\, 4271\, Hungary
CATEGORIES:U11 edzések
END:VEVENT
BEGIN:VEVENT
DTSTART;TZID=Europe/Budapest:20270913T164500
DTEND;TZID=Europe/Budapest:20270913T174500
DTSTAMP:20260425T231706
CREATED:20260310T114641Z
LAST-MODIFIED:20260310T114659Z
UID:10003563-1820853900-1820857500@mikepercsifoci.hu
SUMMARY:U13 edzés
DESCRIPTION:
URL:https://mikepercsifoci.hu/esemeny/u13-edzes-4/2027-09-13/
LOCATION:Mikepércsi Sportpálya\, Sport utca 4.\, Mikepércs\, 4271\, Hungary
CATEGORIES:U13 edzések
END:VEVENT
BEGIN:VEVENT
DTSTART;TZID=Europe/Budapest:20270913T170000
DTEND;TZID=Europe/Budapest:20270913T180000
DTSTAMP:20260425T231706
CREATED:20260104T105839Z
LAST-MODIFIED:20260104T105848Z
UID:10001459-1820854800-1820858400@mikepercsifoci.hu
SUMMARY:U7 edzés
DESCRIPTION:
URL:https://mikepercsifoci.hu/esemeny/u7-edzes-3/2027-09-13/
LOCATION:Mikepércsi Hunyadi János Általános Iskola\, Nagyváradi utca 1.\, Mikepércs\, 4271\, Hungary
CATEGORIES:U7 edzések
END:VEVENT
BEGIN:VEVENT
DTSTART;TZID=Europe/Budapest:20270914T164500
DTEND;TZID=Europe/Budapest:20270914T174500
DTSTAMP:20260425T231706
CREATED:20260104T105654Z
LAST-MODIFIED:20260310T114240Z
UID:10002513-1820940300-1820943900@mikepercsifoci.hu
SUMMARY:U9 edzés
DESCRIPTION:
URL:https://mikepercsifoci.hu/esemeny/u9-edzes-3/2027-09-14/
LOCATION:Mikepércsi Sportpálya\, Sport utca 4.\, Mikepércs\, 4271\, Hungary
CATEGORIES:U9 edzések
END:VEVENT
BEGIN:VEVENT
DTSTART;TZID=Europe/Budapest:20270914T190000
DTEND;TZID=Europe/Budapest:20270914T200000
DTSTAMP:20260425T231706
CREATED:20260104T105409Z
LAST-MODIFIED:20260104T105449Z
UID:10000159-1820948400-1820952000@mikepercsifoci.hu
SUMMARY:U11 edzés
DESCRIPTION:
URL:https://mikepercsifoci.hu/esemeny/u11-edzes-3/2027-09-14/
LOCATION:Mikepércsi Hunyadi János Általános Iskola\, Nagyváradi utca 1.\, Mikepércs\, 4271\, Hungary
CATEGORIES:U11 edzések
END:VEVENT
BEGIN:VEVENT
DTSTART;TZID=Europe/Budapest:20270915T164500
DTEND;TZID=Europe/Budapest:20270915T174500
DTSTAMP:20260425T231706
CREATED:20260310T114518Z
LAST-MODIFIED:20260310T114548Z
UID:10003304-1821026700-1821030300@mikepercsifoci.hu
SUMMARY:U13 edzés
DESCRIPTION:
URL:https://mikepercsifoci.hu/esemeny/u13-edzes-2-2-2/2027-09-15/
LOCATION:Mikepércsi Sportpálya\, Sport utca 4.\, Mikepércs\, 4271\, Hungary
CATEGORIES:U13 edzések
END:VEVENT
BEGIN:VEVENT
DTSTART;TZID=Europe/Budapest:20270916T164500
DTEND;TZID=Europe/Budapest:20270916T174500
DTSTAMP:20260425T231706
CREATED:20260104T105556Z
LAST-MODIFIED:20260310T114146Z
UID:10002243-1821113100-1821116700@mikepercsifoci.hu
SUMMARY:U9 edzés
DESCRIPTION:
URL:https://mikepercsifoci.hu/esemeny/u9-edzes-2-2/2027-09-16/
LOCATION:Mikepércsi Sportpálya\, Sport utca 4.\, Mikepércs\, 4271\, Hungary
CATEGORIES:U9 edzések
END:VEVENT
BEGIN:VEVENT
DTSTART;TZID=Europe/Budapest:20270917T164500
DTEND;TZID=Europe/Budapest:20270917T174500
DTSTAMP:20260425T231706
CREATED:20260104T110102Z
LAST-MODIFIED:20260310T114423Z
UID:10002783-1821199500-1821203100@mikepercsifoci.hu
SUMMARY:U13 edzés
DESCRIPTION:
URL:https://mikepercsifoci.hu/esemeny/u13-edzes-3/2027-09-17/
LOCATION:Mikepércsi Sportpálya\, Sport utca 4.\, Mikepércs\, 4271\, Hungary
CATEGORIES:U13 edzések
END:VEVENT
BEGIN:VEVENT
DTSTART;TZID=Europe/Budapest:20270917T170000
DTEND;TZID=Europe/Budapest:20270917T180000
DTSTAMP:20260425T231706
CREATED:20260104T105755Z
LAST-MODIFIED:20260104T105806Z
UID:10001199-1821200400-1821204000@mikepercsifoci.hu
SUMMARY:U7 edzés
DESCRIPTION:
URL:https://mikepercsifoci.hu/esemeny/u7-edzes-2-2/2027-09-17/
LOCATION:Mikepércsi Hunyadi János Általános Iskola\, Nagyváradi utca 1.\, Mikepércs\, 4271\, Hungary
CATEGORIES:U7 edzések
END:VEVENT
BEGIN:VEVENT
DTSTART;TZID=Europe/Budapest:20270917T180000
DTEND;TZID=Europe/Budapest:20270917T190000
DTSTAMP:20260425T231706
CREATED:20260104T105249Z
LAST-MODIFIED:20260104T105515Z
UID:10000419-1821204000-1821207600@mikepercsifoci.hu
SUMMARY:U11 edzés
DESCRIPTION:
URL:https://mikepercsifoci.hu/esemeny/u11-edzes-2-2/2027-09-17/
LOCATION:Mikepércsi Hunyadi János Általános Iskola\, Nagyváradi utca 1.\, Mikepércs\, 4271\, Hungary
CATEGORIES:U11 edzések
END:VEVENT
BEGIN:VEVENT
DTSTART;TZID=Europe/Budapest:20270920T164500
DTEND;TZID=Europe/Budapest:20270920T174500
DTSTAMP:20260425T231706
CREATED:20260310T114641Z
LAST-MODIFIED:20260310T114659Z
UID:10003564-1821458700-1821462300@mikepercsifoci.hu
SUMMARY:U13 edzés
DESCRIPTION:
URL:https://mikepercsifoci.hu/esemeny/u13-edzes-4/2027-09-20/
LOCATION:Mikepércsi Sportpálya\, Sport utca 4.\, Mikepércs\, 4271\, Hungary
CATEGORIES:U13 edzések
END:VEVENT
BEGIN:VEVENT
DTSTART;TZID=Europe/Budapest:20270920T170000
DTEND;TZID=Europe/Budapest:20270920T180000
DTSTAMP:20260425T231706
CREATED:20260104T105839Z
LAST-MODIFIED:20260104T105848Z
UID:10001460-1821459600-1821463200@mikepercsifoci.hu
SUMMARY:U7 edzés
DESCRIPTION:
URL:https://mikepercsifoci.hu/esemeny/u7-edzes-3/2027-09-20/
LOCATION:Mikepércsi Hunyadi János Általános Iskola\, Nagyváradi utca 1.\, Mikepércs\, 4271\, Hungary
CATEGORIES:U7 edzések
END:VEVENT
BEGIN:VEVENT
DTSTART;TZID=Europe/Budapest:20270921T164500
DTEND;TZID=Europe/Budapest:20270921T174500
DTSTAMP:20260425T231706
CREATED:20260104T105654Z
LAST-MODIFIED:20260310T114240Z
UID:10002514-1821545100-1821548700@mikepercsifoci.hu
SUMMARY:U9 edzés
DESCRIPTION:
URL:https://mikepercsifoci.hu/esemeny/u9-edzes-3/2027-09-21/
LOCATION:Mikepércsi Sportpálya\, Sport utca 4.\, Mikepércs\, 4271\, Hungary
CATEGORIES:U9 edzések
END:VEVENT
END:VCALENDAR