BEGIN:VCALENDAR
VERSION:2.0
PRODID:-//Mikepércsi Foci - ECPv6.15.12.2//NONSGML v1.0//EN
CALSCALE:GREGORIAN
METHOD:PUBLISH
X-ORIGINAL-URL:https://mikepercsifoci.hu
X-WR-CALDESC:Események Mikepércsi Foci
REFRESH-INTERVAL;VALUE=DURATION:PT1H
X-Robots-Tag:noindex
X-PUBLISHED-TTL:PT1H
BEGIN:VTIMEZONE
TZID:Europe/Budapest
BEGIN:DAYLIGHT
TZOFFSETFROM:+0100
TZOFFSETTO:+0200
TZNAME:CEST
DTSTART:20260329T010000
END:DAYLIGHT
BEGIN:STANDARD
TZOFFSETFROM:+0200
TZOFFSETTO:+0100
TZNAME:CET
DTSTART:20261025T010000
END:STANDARD
BEGIN:DAYLIGHT
TZOFFSETFROM:+0100
TZOFFSETTO:+0200
TZNAME:CEST
DTSTART:20270328T010000
END:DAYLIGHT
BEGIN:STANDARD
TZOFFSETFROM:+0200
TZOFFSETTO:+0100
TZNAME:CET
DTSTART:20271031T010000
END:STANDARD
BEGIN:DAYLIGHT
TZOFFSETFROM:+0100
TZOFFSETTO:+0200
TZNAME:CEST
DTSTART:20280326T010000
END:DAYLIGHT
BEGIN:STANDARD
TZOFFSETFROM:+0200
TZOFFSETTO:+0100
TZNAME:CET
DTSTART:20281029T010000
END:STANDARD
END:VTIMEZONE
BEGIN:VEVENT
DTSTART;TZID=Europe/Budapest:20270928T164500
DTEND;TZID=Europe/Budapest:20270928T174500
DTSTAMP:20260425T235430
CREATED:20260104T105654Z
LAST-MODIFIED:20260310T114240Z
UID:10002515-1822149900-1822153500@mikepercsifoci.hu
SUMMARY:U9 edzés
DESCRIPTION:
URL:https://mikepercsifoci.hu/esemeny/u9-edzes-3/2027-09-28/
LOCATION:Mikepércsi Sportpálya\, Sport utca 4.\, Mikepércs\, 4271\, Hungary
CATEGORIES:U9 edzések
END:VEVENT
BEGIN:VEVENT
DTSTART;TZID=Europe/Budapest:20270928T190000
DTEND;TZID=Europe/Budapest:20270928T200000
DTSTAMP:20260425T235430
CREATED:20260104T105409Z
LAST-MODIFIED:20260104T105449Z
UID:10000161-1822158000-1822161600@mikepercsifoci.hu
SUMMARY:U11 edzés
DESCRIPTION:
URL:https://mikepercsifoci.hu/esemeny/u11-edzes-3/2027-09-28/
LOCATION:Mikepércsi Hunyadi János Általános Iskola\, Nagyváradi utca 1.\, Mikepércs\, 4271\, Hungary
CATEGORIES:U11 edzések
END:VEVENT
BEGIN:VEVENT
DTSTART;TZID=Europe/Budapest:20270929T164500
DTEND;TZID=Europe/Budapest:20270929T174500
DTSTAMP:20260425T235430
CREATED:20260310T114518Z
LAST-MODIFIED:20260310T114548Z
UID:10003306-1822236300-1822239900@mikepercsifoci.hu
SUMMARY:U13 edzés
DESCRIPTION:
URL:https://mikepercsifoci.hu/esemeny/u13-edzes-2-2-2/2027-09-29/
LOCATION:Mikepércsi Sportpálya\, Sport utca 4.\, Mikepércs\, 4271\, Hungary
CATEGORIES:U13 edzések
END:VEVENT
BEGIN:VEVENT
DTSTART;TZID=Europe/Budapest:20270930T164500
DTEND;TZID=Europe/Budapest:20270930T174500
DTSTAMP:20260425T235430
CREATED:20260104T105556Z
LAST-MODIFIED:20260310T114146Z
UID:10002245-1822322700-1822326300@mikepercsifoci.hu
SUMMARY:U9 edzés
DESCRIPTION:
URL:https://mikepercsifoci.hu/esemeny/u9-edzes-2-2/2027-09-30/
LOCATION:Mikepércsi Sportpálya\, Sport utca 4.\, Mikepércs\, 4271\, Hungary
CATEGORIES:U9 edzések
END:VEVENT
BEGIN:VEVENT
DTSTART;TZID=Europe/Budapest:20271001T164500
DTEND;TZID=Europe/Budapest:20271001T174500
DTSTAMP:20260425T235430
CREATED:20260104T110102Z
LAST-MODIFIED:20260310T114423Z
UID:10002785-1822409100-1822412700@mikepercsifoci.hu
SUMMARY:U13 edzés
DESCRIPTION:
URL:https://mikepercsifoci.hu/esemeny/u13-edzes-3/2027-10-01/
LOCATION:Mikepércsi Sportpálya\, Sport utca 4.\, Mikepércs\, 4271\, Hungary
CATEGORIES:U13 edzések
END:VEVENT
BEGIN:VEVENT
DTSTART;TZID=Europe/Budapest:20271001T170000
DTEND;TZID=Europe/Budapest:20271001T180000
DTSTAMP:20260425T235430
CREATED:20260104T105755Z
LAST-MODIFIED:20260104T105806Z
UID:10001201-1822410000-1822413600@mikepercsifoci.hu
SUMMARY:U7 edzés
DESCRIPTION:
URL:https://mikepercsifoci.hu/esemeny/u7-edzes-2-2/2027-10-01/
LOCATION:Mikepércsi Hunyadi János Általános Iskola\, Nagyváradi utca 1.\, Mikepércs\, 4271\, Hungary
CATEGORIES:U7 edzések
END:VEVENT
BEGIN:VEVENT
DTSTART;TZID=Europe/Budapest:20271001T180000
DTEND;TZID=Europe/Budapest:20271001T190000
DTSTAMP:20260425T235430
CREATED:20260104T105249Z
LAST-MODIFIED:20260104T105515Z
UID:10000421-1822413600-1822417200@mikepercsifoci.hu
SUMMARY:U11 edzés
DESCRIPTION:
URL:https://mikepercsifoci.hu/esemeny/u11-edzes-2-2/2027-10-01/
LOCATION:Mikepércsi Hunyadi János Általános Iskola\, Nagyváradi utca 1.\, Mikepércs\, 4271\, Hungary
CATEGORIES:U11 edzések
END:VEVENT
BEGIN:VEVENT
DTSTART;TZID=Europe/Budapest:20271004T164500
DTEND;TZID=Europe/Budapest:20271004T174500
DTSTAMP:20260425T235430
CREATED:20260310T114641Z
LAST-MODIFIED:20260310T114659Z
UID:10003566-1822668300-1822671900@mikepercsifoci.hu
SUMMARY:U13 edzés
DESCRIPTION:
URL:https://mikepercsifoci.hu/esemeny/u13-edzes-4/2027-10-04/
LOCATION:Mikepércsi Sportpálya\, Sport utca 4.\, Mikepércs\, 4271\, Hungary
CATEGORIES:U13 edzések
END:VEVENT
BEGIN:VEVENT
DTSTART;TZID=Europe/Budapest:20271004T170000
DTEND;TZID=Europe/Budapest:20271004T180000
DTSTAMP:20260425T235430
CREATED:20260104T105839Z
LAST-MODIFIED:20260104T105848Z
UID:10001462-1822669200-1822672800@mikepercsifoci.hu
SUMMARY:U7 edzés
DESCRIPTION:
URL:https://mikepercsifoci.hu/esemeny/u7-edzes-3/2027-10-04/
LOCATION:Mikepércsi Hunyadi János Általános Iskola\, Nagyváradi utca 1.\, Mikepércs\, 4271\, Hungary
CATEGORIES:U7 edzések
END:VEVENT
BEGIN:VEVENT
DTSTART;TZID=Europe/Budapest:20271005T164500
DTEND;TZID=Europe/Budapest:20271005T174500
DTSTAMP:20260425T235430
CREATED:20260104T105654Z
LAST-MODIFIED:20260310T114240Z
UID:10002516-1822754700-1822758300@mikepercsifoci.hu
SUMMARY:U9 edzés
DESCRIPTION:
URL:https://mikepercsifoci.hu/esemeny/u9-edzes-3/2027-10-05/
LOCATION:Mikepércsi Sportpálya\, Sport utca 4.\, Mikepércs\, 4271\, Hungary
CATEGORIES:U9 edzések
END:VEVENT
BEGIN:VEVENT
DTSTART;TZID=Europe/Budapest:20271005T190000
DTEND;TZID=Europe/Budapest:20271005T200000
DTSTAMP:20260425T235430
CREATED:20260104T105409Z
LAST-MODIFIED:20260104T105449Z
UID:10000162-1822762800-1822766400@mikepercsifoci.hu
SUMMARY:U11 edzés
DESCRIPTION:
URL:https://mikepercsifoci.hu/esemeny/u11-edzes-3/2027-10-05/
LOCATION:Mikepércsi Hunyadi János Általános Iskola\, Nagyváradi utca 1.\, Mikepércs\, 4271\, Hungary
CATEGORIES:U11 edzések
END:VEVENT
BEGIN:VEVENT
DTSTART;TZID=Europe/Budapest:20271006T164500
DTEND;TZID=Europe/Budapest:20271006T174500
DTSTAMP:20260425T235430
CREATED:20260310T114518Z
LAST-MODIFIED:20260310T114548Z
UID:10003307-1822841100-1822844700@mikepercsifoci.hu
SUMMARY:U13 edzés
DESCRIPTION:
URL:https://mikepercsifoci.hu/esemeny/u13-edzes-2-2-2/2027-10-06/
LOCATION:Mikepércsi Sportpálya\, Sport utca 4.\, Mikepércs\, 4271\, Hungary
CATEGORIES:U13 edzések
END:VEVENT
BEGIN:VEVENT
DTSTART;TZID=Europe/Budapest:20271007T164500
DTEND;TZID=Europe/Budapest:20271007T174500
DTSTAMP:20260425T235430
CREATED:20260104T105556Z
LAST-MODIFIED:20260310T114146Z
UID:10002246-1822927500-1822931100@mikepercsifoci.hu
SUMMARY:U9 edzés
DESCRIPTION:
URL:https://mikepercsifoci.hu/esemeny/u9-edzes-2-2/2027-10-07/
LOCATION:Mikepércsi Sportpálya\, Sport utca 4.\, Mikepércs\, 4271\, Hungary
CATEGORIES:U9 edzések
END:VEVENT
BEGIN:VEVENT
DTSTART;TZID=Europe/Budapest:20271008T164500
DTEND;TZID=Europe/Budapest:20271008T174500
DTSTAMP:20260425T235430
CREATED:20260104T110102Z
LAST-MODIFIED:20260310T114423Z
UID:10002786-1823013900-1823017500@mikepercsifoci.hu
SUMMARY:U13 edzés
DESCRIPTION:
URL:https://mikepercsifoci.hu/esemeny/u13-edzes-3/2027-10-08/
LOCATION:Mikepércsi Sportpálya\, Sport utca 4.\, Mikepércs\, 4271\, Hungary
CATEGORIES:U13 edzések
END:VEVENT
BEGIN:VEVENT
DTSTART;TZID=Europe/Budapest:20271008T170000
DTEND;TZID=Europe/Budapest:20271008T180000
DTSTAMP:20260425T235430
CREATED:20260104T105755Z
LAST-MODIFIED:20260104T105806Z
UID:10001202-1823014800-1823018400@mikepercsifoci.hu
SUMMARY:U7 edzés
DESCRIPTION:
URL:https://mikepercsifoci.hu/esemeny/u7-edzes-2-2/2027-10-08/
LOCATION:Mikepércsi Hunyadi János Általános Iskola\, Nagyváradi utca 1.\, Mikepércs\, 4271\, Hungary
CATEGORIES:U7 edzések
END:VEVENT
BEGIN:VEVENT
DTSTART;TZID=Europe/Budapest:20271008T180000
DTEND;TZID=Europe/Budapest:20271008T190000
DTSTAMP:20260425T235430
CREATED:20260104T105249Z
LAST-MODIFIED:20260104T105515Z
UID:10000422-1823018400-1823022000@mikepercsifoci.hu
SUMMARY:U11 edzés
DESCRIPTION:
URL:https://mikepercsifoci.hu/esemeny/u11-edzes-2-2/2027-10-08/
LOCATION:Mikepércsi Hunyadi János Általános Iskola\, Nagyváradi utca 1.\, Mikepércs\, 4271\, Hungary
CATEGORIES:U11 edzések
END:VEVENT
BEGIN:VEVENT
DTSTART;TZID=Europe/Budapest:20271011T164500
DTEND;TZID=Europe/Budapest:20271011T174500
DTSTAMP:20260425T235430
CREATED:20260310T114641Z
LAST-MODIFIED:20260310T114659Z
UID:10003567-1823273100-1823276700@mikepercsifoci.hu
SUMMARY:U13 edzés
DESCRIPTION:
URL:https://mikepercsifoci.hu/esemeny/u13-edzes-4/2027-10-11/
LOCATION:Mikepércsi Sportpálya\, Sport utca 4.\, Mikepércs\, 4271\, Hungary
CATEGORIES:U13 edzések
END:VEVENT
BEGIN:VEVENT
DTSTART;TZID=Europe/Budapest:20271011T170000
DTEND;TZID=Europe/Budapest:20271011T180000
DTSTAMP:20260425T235430
CREATED:20260104T105839Z
LAST-MODIFIED:20260104T105848Z
UID:10001463-1823274000-1823277600@mikepercsifoci.hu
SUMMARY:U7 edzés
DESCRIPTION:
URL:https://mikepercsifoci.hu/esemeny/u7-edzes-3/2027-10-11/
LOCATION:Mikepércsi Hunyadi János Általános Iskola\, Nagyváradi utca 1.\, Mikepércs\, 4271\, Hungary
CATEGORIES:U7 edzések
END:VEVENT
BEGIN:VEVENT
DTSTART;TZID=Europe/Budapest:20271012T164500
DTEND;TZID=Europe/Budapest:20271012T174500
DTSTAMP:20260425T235430
CREATED:20260104T105654Z
LAST-MODIFIED:20260310T114240Z
UID:10002517-1823359500-1823363100@mikepercsifoci.hu
SUMMARY:U9 edzés
DESCRIPTION:
URL:https://mikepercsifoci.hu/esemeny/u9-edzes-3/2027-10-12/
LOCATION:Mikepércsi Sportpálya\, Sport utca 4.\, Mikepércs\, 4271\, Hungary
CATEGORIES:U9 edzések
END:VEVENT
BEGIN:VEVENT
DTSTART;TZID=Europe/Budapest:20271012T190000
DTEND;TZID=Europe/Budapest:20271012T200000
DTSTAMP:20260425T235430
CREATED:20260104T105409Z
LAST-MODIFIED:20260104T105449Z
UID:10000163-1823367600-1823371200@mikepercsifoci.hu
SUMMARY:U11 edzés
DESCRIPTION:
URL:https://mikepercsifoci.hu/esemeny/u11-edzes-3/2027-10-12/
LOCATION:Mikepércsi Hunyadi János Általános Iskola\, Nagyváradi utca 1.\, Mikepércs\, 4271\, Hungary
CATEGORIES:U11 edzések
END:VEVENT
BEGIN:VEVENT
DTSTART;TZID=Europe/Budapest:20271013T164500
DTEND;TZID=Europe/Budapest:20271013T174500
DTSTAMP:20260425T235430
CREATED:20260310T114518Z
LAST-MODIFIED:20260310T114548Z
UID:10003308-1823445900-1823449500@mikepercsifoci.hu
SUMMARY:U13 edzés
DESCRIPTION:
URL:https://mikepercsifoci.hu/esemeny/u13-edzes-2-2-2/2027-10-13/
LOCATION:Mikepércsi Sportpálya\, Sport utca 4.\, Mikepércs\, 4271\, Hungary
CATEGORIES:U13 edzések
END:VEVENT
BEGIN:VEVENT
DTSTART;TZID=Europe/Budapest:20271014T164500
DTEND;TZID=Europe/Budapest:20271014T174500
DTSTAMP:20260425T235430
CREATED:20260104T105556Z
LAST-MODIFIED:20260310T114146Z
UID:10002247-1823532300-1823535900@mikepercsifoci.hu
SUMMARY:U9 edzés
DESCRIPTION:
URL:https://mikepercsifoci.hu/esemeny/u9-edzes-2-2/2027-10-14/
LOCATION:Mikepércsi Sportpálya\, Sport utca 4.\, Mikepércs\, 4271\, Hungary
CATEGORIES:U9 edzések
END:VEVENT
BEGIN:VEVENT
DTSTART;TZID=Europe/Budapest:20271015T164500
DTEND;TZID=Europe/Budapest:20271015T174500
DTSTAMP:20260425T235430
CREATED:20260104T110102Z
LAST-MODIFIED:20260310T114423Z
UID:10002787-1823618700-1823622300@mikepercsifoci.hu
SUMMARY:U13 edzés
DESCRIPTION:
URL:https://mikepercsifoci.hu/esemeny/u13-edzes-3/2027-10-15/
LOCATION:Mikepércsi Sportpálya\, Sport utca 4.\, Mikepércs\, 4271\, Hungary
CATEGORIES:U13 edzések
END:VEVENT
BEGIN:VEVENT
DTSTART;TZID=Europe/Budapest:20271015T170000
DTEND;TZID=Europe/Budapest:20271015T180000
DTSTAMP:20260425T235430
CREATED:20260104T105755Z
LAST-MODIFIED:20260104T105806Z
UID:10001203-1823619600-1823623200@mikepercsifoci.hu
SUMMARY:U7 edzés
DESCRIPTION:
URL:https://mikepercsifoci.hu/esemeny/u7-edzes-2-2/2027-10-15/
LOCATION:Mikepércsi Hunyadi János Általános Iskola\, Nagyváradi utca 1.\, Mikepércs\, 4271\, Hungary
CATEGORIES:U7 edzések
END:VEVENT
BEGIN:VEVENT
DTSTART;TZID=Europe/Budapest:20271015T180000
DTEND;TZID=Europe/Budapest:20271015T190000
DTSTAMP:20260425T235430
CREATED:20260104T105249Z
LAST-MODIFIED:20260104T105515Z
UID:10000423-1823623200-1823626800@mikepercsifoci.hu
SUMMARY:U11 edzés
DESCRIPTION:
URL:https://mikepercsifoci.hu/esemeny/u11-edzes-2-2/2027-10-15/
LOCATION:Mikepércsi Hunyadi János Általános Iskola\, Nagyváradi utca 1.\, Mikepércs\, 4271\, Hungary
CATEGORIES:U11 edzések
END:VEVENT
BEGIN:VEVENT
DTSTART;TZID=Europe/Budapest:20271018T164500
DTEND;TZID=Europe/Budapest:20271018T174500
DTSTAMP:20260425T235430
CREATED:20260310T114641Z
LAST-MODIFIED:20260310T114659Z
UID:10003568-1823877900-1823881500@mikepercsifoci.hu
SUMMARY:U13 edzés
DESCRIPTION:
URL:https://mikepercsifoci.hu/esemeny/u13-edzes-4/2027-10-18/
LOCATION:Mikepércsi Sportpálya\, Sport utca 4.\, Mikepércs\, 4271\, Hungary
CATEGORIES:U13 edzések
END:VEVENT
BEGIN:VEVENT
DTSTART;TZID=Europe/Budapest:20271018T170000
DTEND;TZID=Europe/Budapest:20271018T180000
DTSTAMP:20260425T235430
CREATED:20260104T105839Z
LAST-MODIFIED:20260104T105848Z
UID:10001464-1823878800-1823882400@mikepercsifoci.hu
SUMMARY:U7 edzés
DESCRIPTION:
URL:https://mikepercsifoci.hu/esemeny/u7-edzes-3/2027-10-18/
LOCATION:Mikepércsi Hunyadi János Általános Iskola\, Nagyváradi utca 1.\, Mikepércs\, 4271\, Hungary
CATEGORIES:U7 edzések
END:VEVENT
BEGIN:VEVENT
DTSTART;TZID=Europe/Budapest:20271019T164500
DTEND;TZID=Europe/Budapest:20271019T174500
DTSTAMP:20260425T235430
CREATED:20260104T105654Z
LAST-MODIFIED:20260310T114240Z
UID:10002518-1823964300-1823967900@mikepercsifoci.hu
SUMMARY:U9 edzés
DESCRIPTION:
URL:https://mikepercsifoci.hu/esemeny/u9-edzes-3/2027-10-19/
LOCATION:Mikepércsi Sportpálya\, Sport utca 4.\, Mikepércs\, 4271\, Hungary
CATEGORIES:U9 edzések
END:VEVENT
BEGIN:VEVENT
DTSTART;TZID=Europe/Budapest:20271019T190000
DTEND;TZID=Europe/Budapest:20271019T200000
DTSTAMP:20260425T235430
CREATED:20260104T105409Z
LAST-MODIFIED:20260104T105449Z
UID:10000164-1823972400-1823976000@mikepercsifoci.hu
SUMMARY:U11 edzés
DESCRIPTION:
URL:https://mikepercsifoci.hu/esemeny/u11-edzes-3/2027-10-19/
LOCATION:Mikepércsi Hunyadi János Általános Iskola\, Nagyváradi utca 1.\, Mikepércs\, 4271\, Hungary
CATEGORIES:U11 edzések
END:VEVENT
BEGIN:VEVENT
DTSTART;TZID=Europe/Budapest:20271020T164500
DTEND;TZID=Europe/Budapest:20271020T174500
DTSTAMP:20260425T235430
CREATED:20260310T114518Z
LAST-MODIFIED:20260310T114548Z
UID:10003309-1824050700-1824054300@mikepercsifoci.hu
SUMMARY:U13 edzés
DESCRIPTION:
URL:https://mikepercsifoci.hu/esemeny/u13-edzes-2-2-2/2027-10-20/
LOCATION:Mikepércsi Sportpálya\, Sport utca 4.\, Mikepércs\, 4271\, Hungary
CATEGORIES:U13 edzések
END:VEVENT
END:VCALENDAR