BEGIN:VCALENDAR
VERSION:2.0
PRODID:-//Mikepércsi Foci - ECPv6.15.12.2//NONSGML v1.0//EN
CALSCALE:GREGORIAN
METHOD:PUBLISH
X-ORIGINAL-URL:https://mikepercsifoci.hu
X-WR-CALDESC:Események Mikepércsi Foci
REFRESH-INTERVAL;VALUE=DURATION:PT1H
X-Robots-Tag:noindex
X-PUBLISHED-TTL:PT1H
BEGIN:VTIMEZONE
TZID:Europe/Budapest
BEGIN:DAYLIGHT
TZOFFSETFROM:+0100
TZOFFSETTO:+0200
TZNAME:CEST
DTSTART:20260329T010000
END:DAYLIGHT
BEGIN:STANDARD
TZOFFSETFROM:+0200
TZOFFSETTO:+0100
TZNAME:CET
DTSTART:20261025T010000
END:STANDARD
BEGIN:DAYLIGHT
TZOFFSETFROM:+0100
TZOFFSETTO:+0200
TZNAME:CEST
DTSTART:20270328T010000
END:DAYLIGHT
BEGIN:STANDARD
TZOFFSETFROM:+0200
TZOFFSETTO:+0100
TZNAME:CET
DTSTART:20271031T010000
END:STANDARD
BEGIN:DAYLIGHT
TZOFFSETFROM:+0100
TZOFFSETTO:+0200
TZNAME:CEST
DTSTART:20280326T010000
END:DAYLIGHT
BEGIN:STANDARD
TZOFFSETFROM:+0200
TZOFFSETTO:+0100
TZNAME:CET
DTSTART:20281029T010000
END:STANDARD
END:VTIMEZONE
BEGIN:VEVENT
DTSTART;TZID=Europe/Budapest:20271108T164500
DTEND;TZID=Europe/Budapest:20271108T174500
DTSTAMP:20260426T025919
CREATED:20260310T114641Z
LAST-MODIFIED:20260310T114659Z
UID:10003571-1825692300-1825695900@mikepercsifoci.hu
SUMMARY:U13 edzés
DESCRIPTION:
URL:https://mikepercsifoci.hu/esemeny/u13-edzes-4/2027-11-08/
LOCATION:Mikepércsi Sportpálya\, Sport utca 4.\, Mikepércs\, 4271\, Hungary
CATEGORIES:U13 edzések
END:VEVENT
BEGIN:VEVENT
DTSTART;TZID=Europe/Budapest:20271108T170000
DTEND;TZID=Europe/Budapest:20271108T180000
DTSTAMP:20260426T025919
CREATED:20260104T105839Z
LAST-MODIFIED:20260104T105848Z
UID:10001467-1825693200-1825696800@mikepercsifoci.hu
SUMMARY:U7 edzés
DESCRIPTION:
URL:https://mikepercsifoci.hu/esemeny/u7-edzes-3/2027-11-08/
LOCATION:Mikepércsi Hunyadi János Általános Iskola\, Nagyváradi utca 1.\, Mikepércs\, 4271\, Hungary
CATEGORIES:U7 edzések
END:VEVENT
BEGIN:VEVENT
DTSTART;TZID=Europe/Budapest:20271109T164500
DTEND;TZID=Europe/Budapest:20271109T174500
DTSTAMP:20260426T025919
CREATED:20260104T105654Z
LAST-MODIFIED:20260310T114240Z
UID:10002521-1825778700-1825782300@mikepercsifoci.hu
SUMMARY:U9 edzés
DESCRIPTION:
URL:https://mikepercsifoci.hu/esemeny/u9-edzes-3/2027-11-09/
LOCATION:Mikepércsi Sportpálya\, Sport utca 4.\, Mikepércs\, 4271\, Hungary
CATEGORIES:U9 edzések
END:VEVENT
BEGIN:VEVENT
DTSTART;TZID=Europe/Budapest:20271109T190000
DTEND;TZID=Europe/Budapest:20271109T200000
DTSTAMP:20260426T025919
CREATED:20260104T105409Z
LAST-MODIFIED:20260104T105449Z
UID:10000167-1825786800-1825790400@mikepercsifoci.hu
SUMMARY:U11 edzés
DESCRIPTION:
URL:https://mikepercsifoci.hu/esemeny/u11-edzes-3/2027-11-09/
LOCATION:Mikepércsi Hunyadi János Általános Iskola\, Nagyváradi utca 1.\, Mikepércs\, 4271\, Hungary
CATEGORIES:U11 edzések
END:VEVENT
BEGIN:VEVENT
DTSTART;TZID=Europe/Budapest:20271110T164500
DTEND;TZID=Europe/Budapest:20271110T174500
DTSTAMP:20260426T025919
CREATED:20260310T114518Z
LAST-MODIFIED:20260310T114548Z
UID:10003312-1825865100-1825868700@mikepercsifoci.hu
SUMMARY:U13 edzés
DESCRIPTION:
URL:https://mikepercsifoci.hu/esemeny/u13-edzes-2-2-2/2027-11-10/
LOCATION:Mikepércsi Sportpálya\, Sport utca 4.\, Mikepércs\, 4271\, Hungary
CATEGORIES:U13 edzések
END:VEVENT
BEGIN:VEVENT
DTSTART;TZID=Europe/Budapest:20271111T164500
DTEND;TZID=Europe/Budapest:20271111T174500
DTSTAMP:20260426T025919
CREATED:20260104T105556Z
LAST-MODIFIED:20260310T114146Z
UID:10002251-1825951500-1825955100@mikepercsifoci.hu
SUMMARY:U9 edzés
DESCRIPTION:
URL:https://mikepercsifoci.hu/esemeny/u9-edzes-2-2/2027-11-11/
LOCATION:Mikepércsi Sportpálya\, Sport utca 4.\, Mikepércs\, 4271\, Hungary
CATEGORIES:U9 edzések
END:VEVENT
BEGIN:VEVENT
DTSTART;TZID=Europe/Budapest:20271112T164500
DTEND;TZID=Europe/Budapest:20271112T174500
DTSTAMP:20260426T025919
CREATED:20260104T110102Z
LAST-MODIFIED:20260310T114423Z
UID:10002791-1826037900-1826041500@mikepercsifoci.hu
SUMMARY:U13 edzés
DESCRIPTION:
URL:https://mikepercsifoci.hu/esemeny/u13-edzes-3/2027-11-12/
LOCATION:Mikepércsi Sportpálya\, Sport utca 4.\, Mikepércs\, 4271\, Hungary
CATEGORIES:U13 edzések
END:VEVENT
BEGIN:VEVENT
DTSTART;TZID=Europe/Budapest:20271112T170000
DTEND;TZID=Europe/Budapest:20271112T180000
DTSTAMP:20260426T025919
CREATED:20260104T105755Z
LAST-MODIFIED:20260104T105806Z
UID:10001207-1826038800-1826042400@mikepercsifoci.hu
SUMMARY:U7 edzés
DESCRIPTION:
URL:https://mikepercsifoci.hu/esemeny/u7-edzes-2-2/2027-11-12/
LOCATION:Mikepércsi Hunyadi János Általános Iskola\, Nagyváradi utca 1.\, Mikepércs\, 4271\, Hungary
CATEGORIES:U7 edzések
END:VEVENT
BEGIN:VEVENT
DTSTART;TZID=Europe/Budapest:20271112T180000
DTEND;TZID=Europe/Budapest:20271112T190000
DTSTAMP:20260426T025919
CREATED:20260104T105249Z
LAST-MODIFIED:20260104T105515Z
UID:10000427-1826042400-1826046000@mikepercsifoci.hu
SUMMARY:U11 edzés
DESCRIPTION:
URL:https://mikepercsifoci.hu/esemeny/u11-edzes-2-2/2027-11-12/
LOCATION:Mikepércsi Hunyadi János Általános Iskola\, Nagyváradi utca 1.\, Mikepércs\, 4271\, Hungary
CATEGORIES:U11 edzések
END:VEVENT
BEGIN:VEVENT
DTSTART;TZID=Europe/Budapest:20271115T164500
DTEND;TZID=Europe/Budapest:20271115T174500
DTSTAMP:20260426T025919
CREATED:20260310T114641Z
LAST-MODIFIED:20260310T114659Z
UID:10003572-1826297100-1826300700@mikepercsifoci.hu
SUMMARY:U13 edzés
DESCRIPTION:
URL:https://mikepercsifoci.hu/esemeny/u13-edzes-4/2027-11-15/
LOCATION:Mikepércsi Sportpálya\, Sport utca 4.\, Mikepércs\, 4271\, Hungary
CATEGORIES:U13 edzések
END:VEVENT
BEGIN:VEVENT
DTSTART;TZID=Europe/Budapest:20271115T170000
DTEND;TZID=Europe/Budapest:20271115T180000
DTSTAMP:20260426T025919
CREATED:20260104T105839Z
LAST-MODIFIED:20260104T105848Z
UID:10001468-1826298000-1826301600@mikepercsifoci.hu
SUMMARY:U7 edzés
DESCRIPTION:
URL:https://mikepercsifoci.hu/esemeny/u7-edzes-3/2027-11-15/
LOCATION:Mikepércsi Hunyadi János Általános Iskola\, Nagyváradi utca 1.\, Mikepércs\, 4271\, Hungary
CATEGORIES:U7 edzések
END:VEVENT
BEGIN:VEVENT
DTSTART;TZID=Europe/Budapest:20271116T164500
DTEND;TZID=Europe/Budapest:20271116T174500
DTSTAMP:20260426T025919
CREATED:20260104T105654Z
LAST-MODIFIED:20260310T114240Z
UID:10002522-1826383500-1826387100@mikepercsifoci.hu
SUMMARY:U9 edzés
DESCRIPTION:
URL:https://mikepercsifoci.hu/esemeny/u9-edzes-3/2027-11-16/
LOCATION:Mikepércsi Sportpálya\, Sport utca 4.\, Mikepércs\, 4271\, Hungary
CATEGORIES:U9 edzések
END:VEVENT
BEGIN:VEVENT
DTSTART;TZID=Europe/Budapest:20271116T190000
DTEND;TZID=Europe/Budapest:20271116T200000
DTSTAMP:20260426T025919
CREATED:20260104T105409Z
LAST-MODIFIED:20260104T105449Z
UID:10000168-1826391600-1826395200@mikepercsifoci.hu
SUMMARY:U11 edzés
DESCRIPTION:
URL:https://mikepercsifoci.hu/esemeny/u11-edzes-3/2027-11-16/
LOCATION:Mikepércsi Hunyadi János Általános Iskola\, Nagyváradi utca 1.\, Mikepércs\, 4271\, Hungary
CATEGORIES:U11 edzések
END:VEVENT
BEGIN:VEVENT
DTSTART;TZID=Europe/Budapest:20271117T164500
DTEND;TZID=Europe/Budapest:20271117T174500
DTSTAMP:20260426T025919
CREATED:20260310T114518Z
LAST-MODIFIED:20260310T114548Z
UID:10003313-1826469900-1826473500@mikepercsifoci.hu
SUMMARY:U13 edzés
DESCRIPTION:
URL:https://mikepercsifoci.hu/esemeny/u13-edzes-2-2-2/2027-11-17/
LOCATION:Mikepércsi Sportpálya\, Sport utca 4.\, Mikepércs\, 4271\, Hungary
CATEGORIES:U13 edzések
END:VEVENT
BEGIN:VEVENT
DTSTART;TZID=Europe/Budapest:20271118T164500
DTEND;TZID=Europe/Budapest:20271118T174500
DTSTAMP:20260426T025919
CREATED:20260104T105556Z
LAST-MODIFIED:20260310T114146Z
UID:10002252-1826556300-1826559900@mikepercsifoci.hu
SUMMARY:U9 edzés
DESCRIPTION:
URL:https://mikepercsifoci.hu/esemeny/u9-edzes-2-2/2027-11-18/
LOCATION:Mikepércsi Sportpálya\, Sport utca 4.\, Mikepércs\, 4271\, Hungary
CATEGORIES:U9 edzések
END:VEVENT
BEGIN:VEVENT
DTSTART;TZID=Europe/Budapest:20271119T164500
DTEND;TZID=Europe/Budapest:20271119T174500
DTSTAMP:20260426T025919
CREATED:20260104T110102Z
LAST-MODIFIED:20260310T114423Z
UID:10002792-1826642700-1826646300@mikepercsifoci.hu
SUMMARY:U13 edzés
DESCRIPTION:
URL:https://mikepercsifoci.hu/esemeny/u13-edzes-3/2027-11-19/
LOCATION:Mikepércsi Sportpálya\, Sport utca 4.\, Mikepércs\, 4271\, Hungary
CATEGORIES:U13 edzések
END:VEVENT
BEGIN:VEVENT
DTSTART;TZID=Europe/Budapest:20271119T170000
DTEND;TZID=Europe/Budapest:20271119T180000
DTSTAMP:20260426T025919
CREATED:20260104T105755Z
LAST-MODIFIED:20260104T105806Z
UID:10001208-1826643600-1826647200@mikepercsifoci.hu
SUMMARY:U7 edzés
DESCRIPTION:
URL:https://mikepercsifoci.hu/esemeny/u7-edzes-2-2/2027-11-19/
LOCATION:Mikepércsi Hunyadi János Általános Iskola\, Nagyváradi utca 1.\, Mikepércs\, 4271\, Hungary
CATEGORIES:U7 edzések
END:VEVENT
BEGIN:VEVENT
DTSTART;TZID=Europe/Budapest:20271119T180000
DTEND;TZID=Europe/Budapest:20271119T190000
DTSTAMP:20260426T025919
CREATED:20260104T105249Z
LAST-MODIFIED:20260104T105515Z
UID:10000428-1826647200-1826650800@mikepercsifoci.hu
SUMMARY:U11 edzés
DESCRIPTION:
URL:https://mikepercsifoci.hu/esemeny/u11-edzes-2-2/2027-11-19/
LOCATION:Mikepércsi Hunyadi János Általános Iskola\, Nagyváradi utca 1.\, Mikepércs\, 4271\, Hungary
CATEGORIES:U11 edzések
END:VEVENT
BEGIN:VEVENT
DTSTART;TZID=Europe/Budapest:20271122T164500
DTEND;TZID=Europe/Budapest:20271122T174500
DTSTAMP:20260426T025919
CREATED:20260310T114641Z
LAST-MODIFIED:20260310T114659Z
UID:10003573-1826901900-1826905500@mikepercsifoci.hu
SUMMARY:U13 edzés
DESCRIPTION:
URL:https://mikepercsifoci.hu/esemeny/u13-edzes-4/2027-11-22/
LOCATION:Mikepércsi Sportpálya\, Sport utca 4.\, Mikepércs\, 4271\, Hungary
CATEGORIES:U13 edzések
END:VEVENT
BEGIN:VEVENT
DTSTART;TZID=Europe/Budapest:20271122T170000
DTEND;TZID=Europe/Budapest:20271122T180000
DTSTAMP:20260426T025919
CREATED:20260104T105839Z
LAST-MODIFIED:20260104T105848Z
UID:10001469-1826902800-1826906400@mikepercsifoci.hu
SUMMARY:U7 edzés
DESCRIPTION:
URL:https://mikepercsifoci.hu/esemeny/u7-edzes-3/2027-11-22/
LOCATION:Mikepércsi Hunyadi János Általános Iskola\, Nagyváradi utca 1.\, Mikepércs\, 4271\, Hungary
CATEGORIES:U7 edzések
END:VEVENT
BEGIN:VEVENT
DTSTART;TZID=Europe/Budapest:20271123T164500
DTEND;TZID=Europe/Budapest:20271123T174500
DTSTAMP:20260426T025919
CREATED:20260104T105654Z
LAST-MODIFIED:20260310T114240Z
UID:10002523-1826988300-1826991900@mikepercsifoci.hu
SUMMARY:U9 edzés
DESCRIPTION:
URL:https://mikepercsifoci.hu/esemeny/u9-edzes-3/2027-11-23/
LOCATION:Mikepércsi Sportpálya\, Sport utca 4.\, Mikepércs\, 4271\, Hungary
CATEGORIES:U9 edzések
END:VEVENT
BEGIN:VEVENT
DTSTART;TZID=Europe/Budapest:20271123T190000
DTEND;TZID=Europe/Budapest:20271123T200000
DTSTAMP:20260426T025919
CREATED:20260104T105409Z
LAST-MODIFIED:20260104T105449Z
UID:10000169-1826996400-1827000000@mikepercsifoci.hu
SUMMARY:U11 edzés
DESCRIPTION:
URL:https://mikepercsifoci.hu/esemeny/u11-edzes-3/2027-11-23/
LOCATION:Mikepércsi Hunyadi János Általános Iskola\, Nagyváradi utca 1.\, Mikepércs\, 4271\, Hungary
CATEGORIES:U11 edzések
END:VEVENT
BEGIN:VEVENT
DTSTART;TZID=Europe/Budapest:20271124T164500
DTEND;TZID=Europe/Budapest:20271124T174500
DTSTAMP:20260426T025919
CREATED:20260310T114518Z
LAST-MODIFIED:20260310T114548Z
UID:10003314-1827074700-1827078300@mikepercsifoci.hu
SUMMARY:U13 edzés
DESCRIPTION:
URL:https://mikepercsifoci.hu/esemeny/u13-edzes-2-2-2/2027-11-24/
LOCATION:Mikepércsi Sportpálya\, Sport utca 4.\, Mikepércs\, 4271\, Hungary
CATEGORIES:U13 edzések
END:VEVENT
BEGIN:VEVENT
DTSTART;TZID=Europe/Budapest:20271125T164500
DTEND;TZID=Europe/Budapest:20271125T174500
DTSTAMP:20260426T025919
CREATED:20260104T105556Z
LAST-MODIFIED:20260310T114146Z
UID:10002253-1827161100-1827164700@mikepercsifoci.hu
SUMMARY:U9 edzés
DESCRIPTION:
URL:https://mikepercsifoci.hu/esemeny/u9-edzes-2-2/2027-11-25/
LOCATION:Mikepércsi Sportpálya\, Sport utca 4.\, Mikepércs\, 4271\, Hungary
CATEGORIES:U9 edzések
END:VEVENT
BEGIN:VEVENT
DTSTART;TZID=Europe/Budapest:20271126T164500
DTEND;TZID=Europe/Budapest:20271126T174500
DTSTAMP:20260426T025919
CREATED:20260104T110102Z
LAST-MODIFIED:20260310T114423Z
UID:10002793-1827247500-1827251100@mikepercsifoci.hu
SUMMARY:U13 edzés
DESCRIPTION:
URL:https://mikepercsifoci.hu/esemeny/u13-edzes-3/2027-11-26/
LOCATION:Mikepércsi Sportpálya\, Sport utca 4.\, Mikepércs\, 4271\, Hungary
CATEGORIES:U13 edzések
END:VEVENT
BEGIN:VEVENT
DTSTART;TZID=Europe/Budapest:20271126T170000
DTEND;TZID=Europe/Budapest:20271126T180000
DTSTAMP:20260426T025919
CREATED:20260104T105755Z
LAST-MODIFIED:20260104T105806Z
UID:10001209-1827248400-1827252000@mikepercsifoci.hu
SUMMARY:U7 edzés
DESCRIPTION:
URL:https://mikepercsifoci.hu/esemeny/u7-edzes-2-2/2027-11-26/
LOCATION:Mikepércsi Hunyadi János Általános Iskola\, Nagyváradi utca 1.\, Mikepércs\, 4271\, Hungary
CATEGORIES:U7 edzések
END:VEVENT
BEGIN:VEVENT
DTSTART;TZID=Europe/Budapest:20271126T180000
DTEND;TZID=Europe/Budapest:20271126T190000
DTSTAMP:20260426T025919
CREATED:20260104T105249Z
LAST-MODIFIED:20260104T105515Z
UID:10000429-1827252000-1827255600@mikepercsifoci.hu
SUMMARY:U11 edzés
DESCRIPTION:
URL:https://mikepercsifoci.hu/esemeny/u11-edzes-2-2/2027-11-26/
LOCATION:Mikepércsi Hunyadi János Általános Iskola\, Nagyváradi utca 1.\, Mikepércs\, 4271\, Hungary
CATEGORIES:U11 edzések
END:VEVENT
BEGIN:VEVENT
DTSTART;TZID=Europe/Budapest:20271129T164500
DTEND;TZID=Europe/Budapest:20271129T174500
DTSTAMP:20260426T025919
CREATED:20260310T114641Z
LAST-MODIFIED:20260310T114659Z
UID:10003574-1827506700-1827510300@mikepercsifoci.hu
SUMMARY:U13 edzés
DESCRIPTION:
URL:https://mikepercsifoci.hu/esemeny/u13-edzes-4/2027-11-29/
LOCATION:Mikepércsi Sportpálya\, Sport utca 4.\, Mikepércs\, 4271\, Hungary
CATEGORIES:U13 edzések
END:VEVENT
BEGIN:VEVENT
DTSTART;TZID=Europe/Budapest:20271129T170000
DTEND;TZID=Europe/Budapest:20271129T180000
DTSTAMP:20260426T025919
CREATED:20260104T105839Z
LAST-MODIFIED:20260104T105848Z
UID:10001470-1827507600-1827511200@mikepercsifoci.hu
SUMMARY:U7 edzés
DESCRIPTION:
URL:https://mikepercsifoci.hu/esemeny/u7-edzes-3/2027-11-29/
LOCATION:Mikepércsi Hunyadi János Általános Iskola\, Nagyváradi utca 1.\, Mikepércs\, 4271\, Hungary
CATEGORIES:U7 edzések
END:VEVENT
BEGIN:VEVENT
DTSTART;TZID=Europe/Budapest:20271130T164500
DTEND;TZID=Europe/Budapest:20271130T174500
DTSTAMP:20260426T025919
CREATED:20260104T105654Z
LAST-MODIFIED:20260310T114240Z
UID:10002524-1827593100-1827596700@mikepercsifoci.hu
SUMMARY:U9 edzés
DESCRIPTION:
URL:https://mikepercsifoci.hu/esemeny/u9-edzes-3/2027-11-30/
LOCATION:Mikepércsi Sportpálya\, Sport utca 4.\, Mikepércs\, 4271\, Hungary
CATEGORIES:U9 edzések
END:VEVENT
END:VCALENDAR