BEGIN:VCALENDAR
VERSION:2.0
PRODID:-//Mikepércsi Foci - ECPv6.15.12.2//NONSGML v1.0//EN
CALSCALE:GREGORIAN
METHOD:PUBLISH
X-ORIGINAL-URL:https://mikepercsifoci.hu
X-WR-CALDESC:Események Mikepércsi Foci
REFRESH-INTERVAL;VALUE=DURATION:PT1H
X-Robots-Tag:noindex
X-PUBLISHED-TTL:PT1H
BEGIN:VTIMEZONE
TZID:Europe/Budapest
BEGIN:DAYLIGHT
TZOFFSETFROM:+0100
TZOFFSETTO:+0200
TZNAME:CEST
DTSTART:20260329T010000
END:DAYLIGHT
BEGIN:STANDARD
TZOFFSETFROM:+0200
TZOFFSETTO:+0100
TZNAME:CET
DTSTART:20261025T010000
END:STANDARD
BEGIN:DAYLIGHT
TZOFFSETFROM:+0100
TZOFFSETTO:+0200
TZNAME:CEST
DTSTART:20270328T010000
END:DAYLIGHT
BEGIN:STANDARD
TZOFFSETFROM:+0200
TZOFFSETTO:+0100
TZNAME:CET
DTSTART:20271031T010000
END:STANDARD
BEGIN:DAYLIGHT
TZOFFSETFROM:+0100
TZOFFSETTO:+0200
TZNAME:CEST
DTSTART:20280326T010000
END:DAYLIGHT
BEGIN:STANDARD
TZOFFSETFROM:+0200
TZOFFSETTO:+0100
TZNAME:CET
DTSTART:20281029T010000
END:STANDARD
END:VTIMEZONE
BEGIN:VEVENT
DTSTART;TZID=Europe/Budapest:20270610T164500
DTEND;TZID=Europe/Budapest:20270610T174500
DTSTAMP:20260425T143503
CREATED:20260104T105556Z
LAST-MODIFIED:20260310T114146Z
UID:10002229-1812645900-1812649500@mikepercsifoci.hu
SUMMARY:U9 edzés
DESCRIPTION:
URL:https://mikepercsifoci.hu/esemeny/u9-edzes-2-2/2027-06-10/
LOCATION:Mikepércsi Sportpálya\, Sport utca 4.\, Mikepércs\, 4271\, Hungary
CATEGORIES:U9 edzések
END:VEVENT
BEGIN:VEVENT
DTSTART;TZID=Europe/Budapest:20270611T164500
DTEND;TZID=Europe/Budapest:20270611T174500
DTSTAMP:20260425T143503
CREATED:20260104T110102Z
LAST-MODIFIED:20260310T114423Z
UID:10002769-1812732300-1812735900@mikepercsifoci.hu
SUMMARY:U13 edzés
DESCRIPTION:
URL:https://mikepercsifoci.hu/esemeny/u13-edzes-3/2027-06-11/
LOCATION:Mikepércsi Sportpálya\, Sport utca 4.\, Mikepércs\, 4271\, Hungary
CATEGORIES:U13 edzések
END:VEVENT
BEGIN:VEVENT
DTSTART;TZID=Europe/Budapest:20270611T170000
DTEND;TZID=Europe/Budapest:20270611T180000
DTSTAMP:20260425T143503
CREATED:20260104T105755Z
LAST-MODIFIED:20260104T105806Z
UID:10001185-1812733200-1812736800@mikepercsifoci.hu
SUMMARY:U7 edzés
DESCRIPTION:
URL:https://mikepercsifoci.hu/esemeny/u7-edzes-2-2/2027-06-11/
LOCATION:Mikepércsi Hunyadi János Általános Iskola\, Nagyváradi utca 1.\, Mikepércs\, 4271\, Hungary
CATEGORIES:U7 edzések
END:VEVENT
BEGIN:VEVENT
DTSTART;TZID=Europe/Budapest:20270611T180000
DTEND;TZID=Europe/Budapest:20270611T190000
DTSTAMP:20260425T143503
CREATED:20260104T105249Z
LAST-MODIFIED:20260104T105515Z
UID:10000405-1812736800-1812740400@mikepercsifoci.hu
SUMMARY:U11 edzés
DESCRIPTION:
URL:https://mikepercsifoci.hu/esemeny/u11-edzes-2-2/2027-06-11/
LOCATION:Mikepércsi Hunyadi János Általános Iskola\, Nagyváradi utca 1.\, Mikepércs\, 4271\, Hungary
CATEGORIES:U11 edzések
END:VEVENT
BEGIN:VEVENT
DTSTART;TZID=Europe/Budapest:20270614T164500
DTEND;TZID=Europe/Budapest:20270614T174500
DTSTAMP:20260425T143503
CREATED:20260310T114641Z
LAST-MODIFIED:20260310T114659Z
UID:10003550-1812991500-1812995100@mikepercsifoci.hu
SUMMARY:U13 edzés
DESCRIPTION:
URL:https://mikepercsifoci.hu/esemeny/u13-edzes-4/2027-06-14/
LOCATION:Mikepércsi Sportpálya\, Sport utca 4.\, Mikepércs\, 4271\, Hungary
CATEGORIES:U13 edzések
END:VEVENT
BEGIN:VEVENT
DTSTART;TZID=Europe/Budapest:20270614T170000
DTEND;TZID=Europe/Budapest:20270614T180000
DTSTAMP:20260425T143503
CREATED:20260104T105839Z
LAST-MODIFIED:20260104T105848Z
UID:10001446-1812992400-1812996000@mikepercsifoci.hu
SUMMARY:U7 edzés
DESCRIPTION:
URL:https://mikepercsifoci.hu/esemeny/u7-edzes-3/2027-06-14/
LOCATION:Mikepércsi Hunyadi János Általános Iskola\, Nagyváradi utca 1.\, Mikepércs\, 4271\, Hungary
CATEGORIES:U7 edzések
END:VEVENT
BEGIN:VEVENT
DTSTART;TZID=Europe/Budapest:20270615T164500
DTEND;TZID=Europe/Budapest:20270615T174500
DTSTAMP:20260425T143503
CREATED:20260104T105654Z
LAST-MODIFIED:20260310T114240Z
UID:10002500-1813077900-1813081500@mikepercsifoci.hu
SUMMARY:U9 edzés
DESCRIPTION:
URL:https://mikepercsifoci.hu/esemeny/u9-edzes-3/2027-06-15/
LOCATION:Mikepércsi Sportpálya\, Sport utca 4.\, Mikepércs\, 4271\, Hungary
CATEGORIES:U9 edzések
END:VEVENT
BEGIN:VEVENT
DTSTART;TZID=Europe/Budapest:20270615T190000
DTEND;TZID=Europe/Budapest:20270615T200000
DTSTAMP:20260425T143503
CREATED:20260104T105409Z
LAST-MODIFIED:20260104T105449Z
UID:10000146-1813086000-1813089600@mikepercsifoci.hu
SUMMARY:U11 edzés
DESCRIPTION:
URL:https://mikepercsifoci.hu/esemeny/u11-edzes-3/2027-06-15/
LOCATION:Mikepércsi Hunyadi János Általános Iskola\, Nagyváradi utca 1.\, Mikepércs\, 4271\, Hungary
CATEGORIES:U11 edzések
END:VEVENT
BEGIN:VEVENT
DTSTART;TZID=Europe/Budapest:20270616T164500
DTEND;TZID=Europe/Budapest:20270616T174500
DTSTAMP:20260425T143503
CREATED:20260310T114518Z
LAST-MODIFIED:20260310T114548Z
UID:10003291-1813164300-1813167900@mikepercsifoci.hu
SUMMARY:U13 edzés
DESCRIPTION:
URL:https://mikepercsifoci.hu/esemeny/u13-edzes-2-2-2/2027-06-16/
LOCATION:Mikepércsi Sportpálya\, Sport utca 4.\, Mikepércs\, 4271\, Hungary
CATEGORIES:U13 edzések
END:VEVENT
BEGIN:VEVENT
DTSTART;TZID=Europe/Budapest:20270617T164500
DTEND;TZID=Europe/Budapest:20270617T174500
DTSTAMP:20260425T143503
CREATED:20260104T105556Z
LAST-MODIFIED:20260310T114146Z
UID:10002230-1813250700-1813254300@mikepercsifoci.hu
SUMMARY:U9 edzés
DESCRIPTION:
URL:https://mikepercsifoci.hu/esemeny/u9-edzes-2-2/2027-06-17/
LOCATION:Mikepércsi Sportpálya\, Sport utca 4.\, Mikepércs\, 4271\, Hungary
CATEGORIES:U9 edzések
END:VEVENT
BEGIN:VEVENT
DTSTART;TZID=Europe/Budapest:20270618T164500
DTEND;TZID=Europe/Budapest:20270618T174500
DTSTAMP:20260425T143503
CREATED:20260104T110102Z
LAST-MODIFIED:20260310T114423Z
UID:10002770-1813337100-1813340700@mikepercsifoci.hu
SUMMARY:U13 edzés
DESCRIPTION:
URL:https://mikepercsifoci.hu/esemeny/u13-edzes-3/2027-06-18/
LOCATION:Mikepércsi Sportpálya\, Sport utca 4.\, Mikepércs\, 4271\, Hungary
CATEGORIES:U13 edzések
END:VEVENT
BEGIN:VEVENT
DTSTART;TZID=Europe/Budapest:20270618T170000
DTEND;TZID=Europe/Budapest:20270618T180000
DTSTAMP:20260425T143503
CREATED:20260104T105755Z
LAST-MODIFIED:20260104T105806Z
UID:10001186-1813338000-1813341600@mikepercsifoci.hu
SUMMARY:U7 edzés
DESCRIPTION:
URL:https://mikepercsifoci.hu/esemeny/u7-edzes-2-2/2027-06-18/
LOCATION:Mikepércsi Hunyadi János Általános Iskola\, Nagyváradi utca 1.\, Mikepércs\, 4271\, Hungary
CATEGORIES:U7 edzések
END:VEVENT
BEGIN:VEVENT
DTSTART;TZID=Europe/Budapest:20270618T180000
DTEND;TZID=Europe/Budapest:20270618T190000
DTSTAMP:20260425T143503
CREATED:20260104T105249Z
LAST-MODIFIED:20260104T105515Z
UID:10000406-1813341600-1813345200@mikepercsifoci.hu
SUMMARY:U11 edzés
DESCRIPTION:
URL:https://mikepercsifoci.hu/esemeny/u11-edzes-2-2/2027-06-18/
LOCATION:Mikepércsi Hunyadi János Általános Iskola\, Nagyváradi utca 1.\, Mikepércs\, 4271\, Hungary
CATEGORIES:U11 edzések
END:VEVENT
BEGIN:VEVENT
DTSTART;TZID=Europe/Budapest:20270621T164500
DTEND;TZID=Europe/Budapest:20270621T174500
DTSTAMP:20260425T143503
CREATED:20260310T114641Z
LAST-MODIFIED:20260310T114659Z
UID:10003551-1813596300-1813599900@mikepercsifoci.hu
SUMMARY:U13 edzés
DESCRIPTION:
URL:https://mikepercsifoci.hu/esemeny/u13-edzes-4/2027-06-21/
LOCATION:Mikepércsi Sportpálya\, Sport utca 4.\, Mikepércs\, 4271\, Hungary
CATEGORIES:U13 edzések
END:VEVENT
BEGIN:VEVENT
DTSTART;TZID=Europe/Budapest:20270621T170000
DTEND;TZID=Europe/Budapest:20270621T180000
DTSTAMP:20260425T143503
CREATED:20260104T105839Z
LAST-MODIFIED:20260104T105848Z
UID:10001447-1813597200-1813600800@mikepercsifoci.hu
SUMMARY:U7 edzés
DESCRIPTION:
URL:https://mikepercsifoci.hu/esemeny/u7-edzes-3/2027-06-21/
LOCATION:Mikepércsi Hunyadi János Általános Iskola\, Nagyváradi utca 1.\, Mikepércs\, 4271\, Hungary
CATEGORIES:U7 edzések
END:VEVENT
BEGIN:VEVENT
DTSTART;TZID=Europe/Budapest:20270622T164500
DTEND;TZID=Europe/Budapest:20270622T174500
DTSTAMP:20260425T143503
CREATED:20260104T105654Z
LAST-MODIFIED:20260310T114240Z
UID:10002501-1813682700-1813686300@mikepercsifoci.hu
SUMMARY:U9 edzés
DESCRIPTION:
URL:https://mikepercsifoci.hu/esemeny/u9-edzes-3/2027-06-22/
LOCATION:Mikepércsi Sportpálya\, Sport utca 4.\, Mikepércs\, 4271\, Hungary
CATEGORIES:U9 edzések
END:VEVENT
BEGIN:VEVENT
DTSTART;TZID=Europe/Budapest:20270622T190000
DTEND;TZID=Europe/Budapest:20270622T200000
DTSTAMP:20260425T143503
CREATED:20260104T105409Z
LAST-MODIFIED:20260104T105449Z
UID:10000147-1813690800-1813694400@mikepercsifoci.hu
SUMMARY:U11 edzés
DESCRIPTION:
URL:https://mikepercsifoci.hu/esemeny/u11-edzes-3/2027-06-22/
LOCATION:Mikepércsi Hunyadi János Általános Iskola\, Nagyváradi utca 1.\, Mikepércs\, 4271\, Hungary
CATEGORIES:U11 edzések
END:VEVENT
BEGIN:VEVENT
DTSTART;TZID=Europe/Budapest:20270623T164500
DTEND;TZID=Europe/Budapest:20270623T174500
DTSTAMP:20260425T143503
CREATED:20260310T114518Z
LAST-MODIFIED:20260310T114548Z
UID:10003292-1813769100-1813772700@mikepercsifoci.hu
SUMMARY:U13 edzés
DESCRIPTION:
URL:https://mikepercsifoci.hu/esemeny/u13-edzes-2-2-2/2027-06-23/
LOCATION:Mikepércsi Sportpálya\, Sport utca 4.\, Mikepércs\, 4271\, Hungary
CATEGORIES:U13 edzések
END:VEVENT
BEGIN:VEVENT
DTSTART;TZID=Europe/Budapest:20270624T164500
DTEND;TZID=Europe/Budapest:20270624T174500
DTSTAMP:20260425T143503
CREATED:20260104T105556Z
LAST-MODIFIED:20260310T114146Z
UID:10002231-1813855500-1813859100@mikepercsifoci.hu
SUMMARY:U9 edzés
DESCRIPTION:
URL:https://mikepercsifoci.hu/esemeny/u9-edzes-2-2/2027-06-24/
LOCATION:Mikepércsi Sportpálya\, Sport utca 4.\, Mikepércs\, 4271\, Hungary
CATEGORIES:U9 edzések
END:VEVENT
BEGIN:VEVENT
DTSTART;TZID=Europe/Budapest:20270625T164500
DTEND;TZID=Europe/Budapest:20270625T174500
DTSTAMP:20260425T143503
CREATED:20260104T110102Z
LAST-MODIFIED:20260310T114423Z
UID:10002771-1813941900-1813945500@mikepercsifoci.hu
SUMMARY:U13 edzés
DESCRIPTION:
URL:https://mikepercsifoci.hu/esemeny/u13-edzes-3/2027-06-25/
LOCATION:Mikepércsi Sportpálya\, Sport utca 4.\, Mikepércs\, 4271\, Hungary
CATEGORIES:U13 edzések
END:VEVENT
BEGIN:VEVENT
DTSTART;TZID=Europe/Budapest:20270625T170000
DTEND;TZID=Europe/Budapest:20270625T180000
DTSTAMP:20260425T143503
CREATED:20260104T105755Z
LAST-MODIFIED:20260104T105806Z
UID:10001187-1813942800-1813946400@mikepercsifoci.hu
SUMMARY:U7 edzés
DESCRIPTION:
URL:https://mikepercsifoci.hu/esemeny/u7-edzes-2-2/2027-06-25/
LOCATION:Mikepércsi Hunyadi János Általános Iskola\, Nagyváradi utca 1.\, Mikepércs\, 4271\, Hungary
CATEGORIES:U7 edzések
END:VEVENT
BEGIN:VEVENT
DTSTART;TZID=Europe/Budapest:20270625T180000
DTEND;TZID=Europe/Budapest:20270625T190000
DTSTAMP:20260425T143503
CREATED:20260104T105249Z
LAST-MODIFIED:20260104T105515Z
UID:10000407-1813946400-1813950000@mikepercsifoci.hu
SUMMARY:U11 edzés
DESCRIPTION:
URL:https://mikepercsifoci.hu/esemeny/u11-edzes-2-2/2027-06-25/
LOCATION:Mikepércsi Hunyadi János Általános Iskola\, Nagyváradi utca 1.\, Mikepércs\, 4271\, Hungary
CATEGORIES:U11 edzések
END:VEVENT
BEGIN:VEVENT
DTSTART;TZID=Europe/Budapest:20270628T164500
DTEND;TZID=Europe/Budapest:20270628T174500
DTSTAMP:20260425T143503
CREATED:20260310T114641Z
LAST-MODIFIED:20260310T114659Z
UID:10003552-1814201100-1814204700@mikepercsifoci.hu
SUMMARY:U13 edzés
DESCRIPTION:
URL:https://mikepercsifoci.hu/esemeny/u13-edzes-4/2027-06-28/
LOCATION:Mikepércsi Sportpálya\, Sport utca 4.\, Mikepércs\, 4271\, Hungary
CATEGORIES:U13 edzések
END:VEVENT
BEGIN:VEVENT
DTSTART;TZID=Europe/Budapest:20270628T170000
DTEND;TZID=Europe/Budapest:20270628T180000
DTSTAMP:20260425T143503
CREATED:20260104T105839Z
LAST-MODIFIED:20260104T105848Z
UID:10001448-1814202000-1814205600@mikepercsifoci.hu
SUMMARY:U7 edzés
DESCRIPTION:
URL:https://mikepercsifoci.hu/esemeny/u7-edzes-3/2027-06-28/
LOCATION:Mikepércsi Hunyadi János Általános Iskola\, Nagyváradi utca 1.\, Mikepércs\, 4271\, Hungary
CATEGORIES:U7 edzések
END:VEVENT
BEGIN:VEVENT
DTSTART;TZID=Europe/Budapest:20270629T164500
DTEND;TZID=Europe/Budapest:20270629T174500
DTSTAMP:20260425T143503
CREATED:20260104T105654Z
LAST-MODIFIED:20260310T114240Z
UID:10002502-1814287500-1814291100@mikepercsifoci.hu
SUMMARY:U9 edzés
DESCRIPTION:
URL:https://mikepercsifoci.hu/esemeny/u9-edzes-3/2027-06-29/
LOCATION:Mikepércsi Sportpálya\, Sport utca 4.\, Mikepércs\, 4271\, Hungary
CATEGORIES:U9 edzések
END:VEVENT
BEGIN:VEVENT
DTSTART;TZID=Europe/Budapest:20270629T190000
DTEND;TZID=Europe/Budapest:20270629T200000
DTSTAMP:20260425T143503
CREATED:20260104T105409Z
LAST-MODIFIED:20260104T105449Z
UID:10000148-1814295600-1814299200@mikepercsifoci.hu
SUMMARY:U11 edzés
DESCRIPTION:
URL:https://mikepercsifoci.hu/esemeny/u11-edzes-3/2027-06-29/
LOCATION:Mikepércsi Hunyadi János Általános Iskola\, Nagyváradi utca 1.\, Mikepércs\, 4271\, Hungary
CATEGORIES:U11 edzések
END:VEVENT
BEGIN:VEVENT
DTSTART;TZID=Europe/Budapest:20270630T164500
DTEND;TZID=Europe/Budapest:20270630T174500
DTSTAMP:20260425T143503
CREATED:20260310T114518Z
LAST-MODIFIED:20260310T114548Z
UID:10003293-1814373900-1814377500@mikepercsifoci.hu
SUMMARY:U13 edzés
DESCRIPTION:
URL:https://mikepercsifoci.hu/esemeny/u13-edzes-2-2-2/2027-06-30/
LOCATION:Mikepércsi Sportpálya\, Sport utca 4.\, Mikepércs\, 4271\, Hungary
CATEGORIES:U13 edzések
END:VEVENT
BEGIN:VEVENT
DTSTART;TZID=Europe/Budapest:20270701T164500
DTEND;TZID=Europe/Budapest:20270701T174500
DTSTAMP:20260425T143503
CREATED:20260104T105556Z
LAST-MODIFIED:20260310T114146Z
UID:10002232-1814460300-1814463900@mikepercsifoci.hu
SUMMARY:U9 edzés
DESCRIPTION:
URL:https://mikepercsifoci.hu/esemeny/u9-edzes-2-2/2027-07-01/
LOCATION:Mikepércsi Sportpálya\, Sport utca 4.\, Mikepércs\, 4271\, Hungary
CATEGORIES:U9 edzések
END:VEVENT
BEGIN:VEVENT
DTSTART;TZID=Europe/Budapest:20270702T164500
DTEND;TZID=Europe/Budapest:20270702T174500
DTSTAMP:20260425T143503
CREATED:20260104T110102Z
LAST-MODIFIED:20260310T114423Z
UID:10002772-1814546700-1814550300@mikepercsifoci.hu
SUMMARY:U13 edzés
DESCRIPTION:
URL:https://mikepercsifoci.hu/esemeny/u13-edzes-3/2027-07-02/
LOCATION:Mikepércsi Sportpálya\, Sport utca 4.\, Mikepércs\, 4271\, Hungary
CATEGORIES:U13 edzések
END:VEVENT
BEGIN:VEVENT
DTSTART;TZID=Europe/Budapest:20270702T170000
DTEND;TZID=Europe/Budapest:20270702T180000
DTSTAMP:20260425T143503
CREATED:20260104T105755Z
LAST-MODIFIED:20260104T105806Z
UID:10001188-1814547600-1814551200@mikepercsifoci.hu
SUMMARY:U7 edzés
DESCRIPTION:
URL:https://mikepercsifoci.hu/esemeny/u7-edzes-2-2/2027-07-02/
LOCATION:Mikepércsi Hunyadi János Általános Iskola\, Nagyváradi utca 1.\, Mikepércs\, 4271\, Hungary
CATEGORIES:U7 edzések
END:VEVENT
END:VCALENDAR