BEGIN:VCALENDAR
VERSION:2.0
PRODID:-//Mikepércsi Foci - ECPv6.15.12.2//NONSGML v1.0//EN
CALSCALE:GREGORIAN
METHOD:PUBLISH
X-ORIGINAL-URL:https://mikepercsifoci.hu
X-WR-CALDESC:Események Mikepércsi Foci
REFRESH-INTERVAL;VALUE=DURATION:PT1H
X-Robots-Tag:noindex
X-PUBLISHED-TTL:PT1H
BEGIN:VTIMEZONE
TZID:Europe/Budapest
BEGIN:DAYLIGHT
TZOFFSETFROM:+0100
TZOFFSETTO:+0200
TZNAME:CEST
DTSTART:20250330T010000
END:DAYLIGHT
BEGIN:STANDARD
TZOFFSETFROM:+0200
TZOFFSETTO:+0100
TZNAME:CET
DTSTART:20251026T010000
END:STANDARD
BEGIN:DAYLIGHT
TZOFFSETFROM:+0100
TZOFFSETTO:+0200
TZNAME:CEST
DTSTART:20260329T010000
END:DAYLIGHT
BEGIN:STANDARD
TZOFFSETFROM:+0200
TZOFFSETTO:+0100
TZNAME:CET
DTSTART:20261025T010000
END:STANDARD
BEGIN:DAYLIGHT
TZOFFSETFROM:+0100
TZOFFSETTO:+0200
TZNAME:CEST
DTSTART:20270328T010000
END:DAYLIGHT
BEGIN:STANDARD
TZOFFSETFROM:+0200
TZOFFSETTO:+0100
TZNAME:CET
DTSTART:20271031T010000
END:STANDARD
BEGIN:DAYLIGHT
TZOFFSETFROM:+0100
TZOFFSETTO:+0200
TZNAME:CEST
DTSTART:20280326T010000
END:DAYLIGHT
BEGIN:STANDARD
TZOFFSETFROM:+0200
TZOFFSETTO:+0100
TZNAME:CET
DTSTART:20281029T010000
END:STANDARD
END:VTIMEZONE
BEGIN:VEVENT
DTSTART;TZID=Europe/Budapest:20261123T170000
DTEND;TZID=Europe/Budapest:20261123T180000
DTSTAMP:20260425T151651
CREATED:20260104T105839Z
LAST-MODIFIED:20260104T105848Z
UID:10001417-1795453200-1795456800@mikepercsifoci.hu
SUMMARY:U7 edzés
DESCRIPTION:
URL:https://mikepercsifoci.hu/esemeny/u7-edzes-3/2026-11-23/
LOCATION:Mikepércsi Hunyadi János Általános Iskola\, Nagyváradi utca 1.\, Mikepércs\, 4271\, Hungary
CATEGORIES:U7 edzések
END:VEVENT
BEGIN:VEVENT
DTSTART;TZID=Europe/Budapest:20261124T190000
DTEND;TZID=Europe/Budapest:20261124T200000
DTSTAMP:20260425T151651
CREATED:20260104T105409Z
LAST-MODIFIED:20260104T105449Z
UID:10000117-1795546800-1795550400@mikepercsifoci.hu
SUMMARY:U11 edzés
DESCRIPTION:
URL:https://mikepercsifoci.hu/esemeny/u11-edzes-3/2026-11-24/
LOCATION:Mikepércsi Hunyadi János Általános Iskola\, Nagyváradi utca 1.\, Mikepércs\, 4271\, Hungary
CATEGORIES:U11 edzések
END:VEVENT
BEGIN:VEVENT
DTSTART;TZID=Europe/Budapest:20261127T170000
DTEND;TZID=Europe/Budapest:20261127T180000
DTSTAMP:20260425T151651
CREATED:20260104T105755Z
LAST-MODIFIED:20260104T105806Z
UID:10001157-1795798800-1795802400@mikepercsifoci.hu
SUMMARY:U7 edzés
DESCRIPTION:
URL:https://mikepercsifoci.hu/esemeny/u7-edzes-2-2/2026-11-27/
LOCATION:Mikepércsi Hunyadi János Általános Iskola\, Nagyváradi utca 1.\, Mikepércs\, 4271\, Hungary
CATEGORIES:U7 edzések
END:VEVENT
BEGIN:VEVENT
DTSTART;TZID=Europe/Budapest:20261127T180000
DTEND;TZID=Europe/Budapest:20261127T190000
DTSTAMP:20260425T151651
CREATED:20260104T105249Z
LAST-MODIFIED:20260104T105515Z
UID:10000377-1795802400-1795806000@mikepercsifoci.hu
SUMMARY:U11 edzés
DESCRIPTION:
URL:https://mikepercsifoci.hu/esemeny/u11-edzes-2-2/2026-11-27/
LOCATION:Mikepércsi Hunyadi János Általános Iskola\, Nagyváradi utca 1.\, Mikepércs\, 4271\, Hungary
CATEGORIES:U11 edzések
END:VEVENT
BEGIN:VEVENT
DTSTART;TZID=Europe/Budapest:20261130T170000
DTEND;TZID=Europe/Budapest:20261130T180000
DTSTAMP:20260425T151651
CREATED:20260104T105839Z
LAST-MODIFIED:20260104T105848Z
UID:10001418-1796058000-1796061600@mikepercsifoci.hu
SUMMARY:U7 edzés
DESCRIPTION:
URL:https://mikepercsifoci.hu/esemeny/u7-edzes-3/2026-11-30/
LOCATION:Mikepércsi Hunyadi János Általános Iskola\, Nagyváradi utca 1.\, Mikepércs\, 4271\, Hungary
CATEGORIES:U7 edzések
END:VEVENT
BEGIN:VEVENT
DTSTART;TZID=Europe/Budapest:20261201T190000
DTEND;TZID=Europe/Budapest:20261201T200000
DTSTAMP:20260425T151651
CREATED:20260104T105409Z
LAST-MODIFIED:20260104T105449Z
UID:10000118-1796151600-1796155200@mikepercsifoci.hu
SUMMARY:U11 edzés
DESCRIPTION:
URL:https://mikepercsifoci.hu/esemeny/u11-edzes-3/2026-12-01/
LOCATION:Mikepércsi Hunyadi János Általános Iskola\, Nagyváradi utca 1.\, Mikepércs\, 4271\, Hungary
CATEGORIES:U11 edzések
END:VEVENT
BEGIN:VEVENT
DTSTART;TZID=Europe/Budapest:20261204T170000
DTEND;TZID=Europe/Budapest:20261204T180000
DTSTAMP:20260425T151651
CREATED:20260104T105755Z
LAST-MODIFIED:20260104T105806Z
UID:10001158-1796403600-1796407200@mikepercsifoci.hu
SUMMARY:U7 edzés
DESCRIPTION:
URL:https://mikepercsifoci.hu/esemeny/u7-edzes-2-2/2026-12-04/
LOCATION:Mikepércsi Hunyadi János Általános Iskola\, Nagyváradi utca 1.\, Mikepércs\, 4271\, Hungary
CATEGORIES:U7 edzések
END:VEVENT
BEGIN:VEVENT
DTSTART;TZID=Europe/Budapest:20261204T180000
DTEND;TZID=Europe/Budapest:20261204T190000
DTSTAMP:20260425T151651
CREATED:20260104T105249Z
LAST-MODIFIED:20260104T105515Z
UID:10000378-1796407200-1796410800@mikepercsifoci.hu
SUMMARY:U11 edzés
DESCRIPTION:
URL:https://mikepercsifoci.hu/esemeny/u11-edzes-2-2/2026-12-04/
LOCATION:Mikepércsi Hunyadi János Általános Iskola\, Nagyváradi utca 1.\, Mikepércs\, 4271\, Hungary
CATEGORIES:U11 edzések
END:VEVENT
BEGIN:VEVENT
DTSTART;TZID=Europe/Budapest:20261207T170000
DTEND;TZID=Europe/Budapest:20261207T180000
DTSTAMP:20260425T151651
CREATED:20260104T105839Z
LAST-MODIFIED:20260104T105848Z
UID:10001419-1796662800-1796666400@mikepercsifoci.hu
SUMMARY:U7 edzés
DESCRIPTION:
URL:https://mikepercsifoci.hu/esemeny/u7-edzes-3/2026-12-07/
LOCATION:Mikepércsi Hunyadi János Általános Iskola\, Nagyváradi utca 1.\, Mikepércs\, 4271\, Hungary
CATEGORIES:U7 edzések
END:VEVENT
BEGIN:VEVENT
DTSTART;TZID=Europe/Budapest:20261208T190000
DTEND;TZID=Europe/Budapest:20261208T200000
DTSTAMP:20260425T151651
CREATED:20260104T105409Z
LAST-MODIFIED:20260104T105449Z
UID:10000119-1796756400-1796760000@mikepercsifoci.hu
SUMMARY:U11 edzés
DESCRIPTION:
URL:https://mikepercsifoci.hu/esemeny/u11-edzes-3/2026-12-08/
LOCATION:Mikepércsi Hunyadi János Általános Iskola\, Nagyváradi utca 1.\, Mikepércs\, 4271\, Hungary
CATEGORIES:U11 edzések
END:VEVENT
BEGIN:VEVENT
DTSTART;TZID=Europe/Budapest:20261211T170000
DTEND;TZID=Europe/Budapest:20261211T180000
DTSTAMP:20260425T151651
CREATED:20260104T105755Z
LAST-MODIFIED:20260104T105806Z
UID:10001159-1797008400-1797012000@mikepercsifoci.hu
SUMMARY:U7 edzés
DESCRIPTION:
URL:https://mikepercsifoci.hu/esemeny/u7-edzes-2-2/2026-12-11/
LOCATION:Mikepércsi Hunyadi János Általános Iskola\, Nagyváradi utca 1.\, Mikepércs\, 4271\, Hungary
CATEGORIES:U7 edzések
END:VEVENT
BEGIN:VEVENT
DTSTART;TZID=Europe/Budapest:20261211T180000
DTEND;TZID=Europe/Budapest:20261211T190000
DTSTAMP:20260425T151651
CREATED:20260104T105249Z
LAST-MODIFIED:20260104T105515Z
UID:10000379-1797012000-1797015600@mikepercsifoci.hu
SUMMARY:U11 edzés
DESCRIPTION:
URL:https://mikepercsifoci.hu/esemeny/u11-edzes-2-2/2026-12-11/
LOCATION:Mikepércsi Hunyadi János Általános Iskola\, Nagyváradi utca 1.\, Mikepércs\, 4271\, Hungary
CATEGORIES:U11 edzések
END:VEVENT
BEGIN:VEVENT
DTSTART;TZID=Europe/Budapest:20261214T170000
DTEND;TZID=Europe/Budapest:20261214T180000
DTSTAMP:20260425T151651
CREATED:20260104T105839Z
LAST-MODIFIED:20260104T105848Z
UID:10001420-1797267600-1797271200@mikepercsifoci.hu
SUMMARY:U7 edzés
DESCRIPTION:
URL:https://mikepercsifoci.hu/esemeny/u7-edzes-3/2026-12-14/
LOCATION:Mikepércsi Hunyadi János Általános Iskola\, Nagyváradi utca 1.\, Mikepércs\, 4271\, Hungary
CATEGORIES:U7 edzések
END:VEVENT
BEGIN:VEVENT
DTSTART;TZID=Europe/Budapest:20261215T190000
DTEND;TZID=Europe/Budapest:20261215T200000
DTSTAMP:20260425T151651
CREATED:20260104T105409Z
LAST-MODIFIED:20260104T105449Z
UID:10000120-1797361200-1797364800@mikepercsifoci.hu
SUMMARY:U11 edzés
DESCRIPTION:
URL:https://mikepercsifoci.hu/esemeny/u11-edzes-3/2026-12-15/
LOCATION:Mikepércsi Hunyadi János Általános Iskola\, Nagyváradi utca 1.\, Mikepércs\, 4271\, Hungary
CATEGORIES:U11 edzések
END:VEVENT
BEGIN:VEVENT
DTSTART;TZID=Europe/Budapest:20261218T170000
DTEND;TZID=Europe/Budapest:20261218T180000
DTSTAMP:20260425T151651
CREATED:20260104T105755Z
LAST-MODIFIED:20260104T105806Z
UID:10001160-1797613200-1797616800@mikepercsifoci.hu
SUMMARY:U7 edzés
DESCRIPTION:
URL:https://mikepercsifoci.hu/esemeny/u7-edzes-2-2/2026-12-18/
LOCATION:Mikepércsi Hunyadi János Általános Iskola\, Nagyváradi utca 1.\, Mikepércs\, 4271\, Hungary
CATEGORIES:U7 edzések
END:VEVENT
BEGIN:VEVENT
DTSTART;TZID=Europe/Budapest:20261218T180000
DTEND;TZID=Europe/Budapest:20261218T190000
DTSTAMP:20260425T151651
CREATED:20260104T105249Z
LAST-MODIFIED:20260104T105515Z
UID:10000380-1797616800-1797620400@mikepercsifoci.hu
SUMMARY:U11 edzés
DESCRIPTION:
URL:https://mikepercsifoci.hu/esemeny/u11-edzes-2-2/2026-12-18/
LOCATION:Mikepércsi Hunyadi János Általános Iskola\, Nagyváradi utca 1.\, Mikepércs\, 4271\, Hungary
CATEGORIES:U11 edzések
END:VEVENT
BEGIN:VEVENT
DTSTART;TZID=Europe/Budapest:20261221T170000
DTEND;TZID=Europe/Budapest:20261221T180000
DTSTAMP:20260425T151651
CREATED:20260104T105839Z
LAST-MODIFIED:20260104T105848Z
UID:10001421-1797872400-1797876000@mikepercsifoci.hu
SUMMARY:U7 edzés
DESCRIPTION:
URL:https://mikepercsifoci.hu/esemeny/u7-edzes-3/2026-12-21/
LOCATION:Mikepércsi Hunyadi János Általános Iskola\, Nagyváradi utca 1.\, Mikepércs\, 4271\, Hungary
CATEGORIES:U7 edzések
END:VEVENT
BEGIN:VEVENT
DTSTART;TZID=Europe/Budapest:20261222T190000
DTEND;TZID=Europe/Budapest:20261222T200000
DTSTAMP:20260425T151651
CREATED:20260104T105409Z
LAST-MODIFIED:20260104T105449Z
UID:10000121-1797966000-1797969600@mikepercsifoci.hu
SUMMARY:U11 edzés
DESCRIPTION:
URL:https://mikepercsifoci.hu/esemeny/u11-edzes-3/2026-12-22/
LOCATION:Mikepércsi Hunyadi János Általános Iskola\, Nagyváradi utca 1.\, Mikepércs\, 4271\, Hungary
CATEGORIES:U11 edzések
END:VEVENT
BEGIN:VEVENT
DTSTART;TZID=Europe/Budapest:20261225T170000
DTEND;TZID=Europe/Budapest:20261225T180000
DTSTAMP:20260425T151651
CREATED:20260104T105755Z
LAST-MODIFIED:20260104T105806Z
UID:10001161-1798218000-1798221600@mikepercsifoci.hu
SUMMARY:U7 edzés
DESCRIPTION:
URL:https://mikepercsifoci.hu/esemeny/u7-edzes-2-2/2026-12-25/
LOCATION:Mikepércsi Hunyadi János Általános Iskola\, Nagyváradi utca 1.\, Mikepércs\, 4271\, Hungary
CATEGORIES:U7 edzések
END:VEVENT
BEGIN:VEVENT
DTSTART;TZID=Europe/Budapest:20261225T180000
DTEND;TZID=Europe/Budapest:20261225T190000
DTSTAMP:20260425T151651
CREATED:20260104T105249Z
LAST-MODIFIED:20260104T105515Z
UID:10000381-1798221600-1798225200@mikepercsifoci.hu
SUMMARY:U11 edzés
DESCRIPTION:
URL:https://mikepercsifoci.hu/esemeny/u11-edzes-2-2/2026-12-25/
LOCATION:Mikepércsi Hunyadi János Általános Iskola\, Nagyváradi utca 1.\, Mikepércs\, 4271\, Hungary
CATEGORIES:U11 edzések
END:VEVENT
BEGIN:VEVENT
DTSTART;TZID=Europe/Budapest:20261228T170000
DTEND;TZID=Europe/Budapest:20261228T180000
DTSTAMP:20260425T151651
CREATED:20260104T105839Z
LAST-MODIFIED:20260104T105848Z
UID:10001422-1798477200-1798480800@mikepercsifoci.hu
SUMMARY:U7 edzés
DESCRIPTION:
URL:https://mikepercsifoci.hu/esemeny/u7-edzes-3/2026-12-28/
LOCATION:Mikepércsi Hunyadi János Általános Iskola\, Nagyváradi utca 1.\, Mikepércs\, 4271\, Hungary
CATEGORIES:U7 edzések
END:VEVENT
BEGIN:VEVENT
DTSTART;TZID=Europe/Budapest:20261229T190000
DTEND;TZID=Europe/Budapest:20261229T200000
DTSTAMP:20260425T151651
CREATED:20260104T105409Z
LAST-MODIFIED:20260104T105449Z
UID:10000122-1798570800-1798574400@mikepercsifoci.hu
SUMMARY:U11 edzés
DESCRIPTION:
URL:https://mikepercsifoci.hu/esemeny/u11-edzes-3/2026-12-29/
LOCATION:Mikepércsi Hunyadi János Általános Iskola\, Nagyváradi utca 1.\, Mikepércs\, 4271\, Hungary
CATEGORIES:U11 edzések
END:VEVENT
BEGIN:VEVENT
DTSTART;TZID=Europe/Budapest:20270101T170000
DTEND;TZID=Europe/Budapest:20270101T180000
DTSTAMP:20260425T151651
CREATED:20260104T105755Z
LAST-MODIFIED:20260104T105806Z
UID:10001162-1798822800-1798826400@mikepercsifoci.hu
SUMMARY:U7 edzés
DESCRIPTION:
URL:https://mikepercsifoci.hu/esemeny/u7-edzes-2-2/2027-01-01/
LOCATION:Mikepércsi Hunyadi János Általános Iskola\, Nagyváradi utca 1.\, Mikepércs\, 4271\, Hungary
CATEGORIES:U7 edzések
END:VEVENT
BEGIN:VEVENT
DTSTART;TZID=Europe/Budapest:20270101T180000
DTEND;TZID=Europe/Budapest:20270101T190000
DTSTAMP:20260425T151651
CREATED:20260104T105249Z
LAST-MODIFIED:20260104T105515Z
UID:10000382-1798826400-1798830000@mikepercsifoci.hu
SUMMARY:U11 edzés
DESCRIPTION:
URL:https://mikepercsifoci.hu/esemeny/u11-edzes-2-2/2027-01-01/
LOCATION:Mikepércsi Hunyadi János Általános Iskola\, Nagyváradi utca 1.\, Mikepércs\, 4271\, Hungary
CATEGORIES:U11 edzések
END:VEVENT
BEGIN:VEVENT
DTSTART;TZID=Europe/Budapest:20270104T170000
DTEND;TZID=Europe/Budapest:20270104T180000
DTSTAMP:20260425T151651
CREATED:20260104T105839Z
LAST-MODIFIED:20260104T105848Z
UID:10001423-1799082000-1799085600@mikepercsifoci.hu
SUMMARY:U7 edzés
DESCRIPTION:
URL:https://mikepercsifoci.hu/esemeny/u7-edzes-3/2027-01-04/
LOCATION:Mikepércsi Hunyadi János Általános Iskola\, Nagyváradi utca 1.\, Mikepércs\, 4271\, Hungary
CATEGORIES:U7 edzések
END:VEVENT
BEGIN:VEVENT
DTSTART;TZID=Europe/Budapest:20270105T190000
DTEND;TZID=Europe/Budapest:20270105T200000
DTSTAMP:20260425T151651
CREATED:20260104T105409Z
LAST-MODIFIED:20260104T105449Z
UID:10000123-1799175600-1799179200@mikepercsifoci.hu
SUMMARY:U11 edzés
DESCRIPTION:
URL:https://mikepercsifoci.hu/esemeny/u11-edzes-3/2027-01-05/
LOCATION:Mikepércsi Hunyadi János Általános Iskola\, Nagyváradi utca 1.\, Mikepércs\, 4271\, Hungary
CATEGORIES:U11 edzések
END:VEVENT
BEGIN:VEVENT
DTSTART;TZID=Europe/Budapest:20270108T170000
DTEND;TZID=Europe/Budapest:20270108T180000
DTSTAMP:20260425T151651
CREATED:20260104T105755Z
LAST-MODIFIED:20260104T105806Z
UID:10001163-1799427600-1799431200@mikepercsifoci.hu
SUMMARY:U7 edzés
DESCRIPTION:
URL:https://mikepercsifoci.hu/esemeny/u7-edzes-2-2/2027-01-08/
LOCATION:Mikepércsi Hunyadi János Általános Iskola\, Nagyváradi utca 1.\, Mikepércs\, 4271\, Hungary
CATEGORIES:U7 edzések
END:VEVENT
BEGIN:VEVENT
DTSTART;TZID=Europe/Budapest:20270108T180000
DTEND;TZID=Europe/Budapest:20270108T190000
DTSTAMP:20260425T151651
CREATED:20260104T105249Z
LAST-MODIFIED:20260104T105515Z
UID:10000383-1799431200-1799434800@mikepercsifoci.hu
SUMMARY:U11 edzés
DESCRIPTION:
URL:https://mikepercsifoci.hu/esemeny/u11-edzes-2-2/2027-01-08/
LOCATION:Mikepércsi Hunyadi János Általános Iskola\, Nagyváradi utca 1.\, Mikepércs\, 4271\, Hungary
CATEGORIES:U11 edzések
END:VEVENT
BEGIN:VEVENT
DTSTART;TZID=Europe/Budapest:20270111T170000
DTEND;TZID=Europe/Budapest:20270111T180000
DTSTAMP:20260425T151651
CREATED:20260104T105839Z
LAST-MODIFIED:20260104T105848Z
UID:10001424-1799686800-1799690400@mikepercsifoci.hu
SUMMARY:U7 edzés
DESCRIPTION:
URL:https://mikepercsifoci.hu/esemeny/u7-edzes-3/2027-01-11/
LOCATION:Mikepércsi Hunyadi János Általános Iskola\, Nagyváradi utca 1.\, Mikepércs\, 4271\, Hungary
CATEGORIES:U7 edzések
END:VEVENT
BEGIN:VEVENT
DTSTART;TZID=Europe/Budapest:20270112T190000
DTEND;TZID=Europe/Budapest:20270112T200000
DTSTAMP:20260425T151651
CREATED:20260104T105409Z
LAST-MODIFIED:20260104T105449Z
UID:10000124-1799780400-1799784000@mikepercsifoci.hu
SUMMARY:U11 edzés
DESCRIPTION:
URL:https://mikepercsifoci.hu/esemeny/u11-edzes-3/2027-01-12/
LOCATION:Mikepércsi Hunyadi János Általános Iskola\, Nagyváradi utca 1.\, Mikepércs\, 4271\, Hungary
CATEGORIES:U11 edzések
END:VEVENT
END:VCALENDAR