BEGIN:VCALENDAR
VERSION:2.0
PRODID:-//Mikepércsi Foci - ECPv6.15.12.2//NONSGML v1.0//EN
CALSCALE:GREGORIAN
METHOD:PUBLISH
X-WR-CALNAME:Mikepércsi Foci
X-ORIGINAL-URL:https://mikepercsifoci.hu
X-WR-CALDESC:Események Mikepércsi Foci
REFRESH-INTERVAL;VALUE=DURATION:PT1H
X-Robots-Tag:noindex
X-PUBLISHED-TTL:PT1H
BEGIN:VTIMEZONE
TZID:Europe/Budapest
BEGIN:DAYLIGHT
TZOFFSETFROM:+0100
TZOFFSETTO:+0200
TZNAME:CEST
DTSTART:20260329T010000
END:DAYLIGHT
BEGIN:STANDARD
TZOFFSETFROM:+0200
TZOFFSETTO:+0100
TZNAME:CET
DTSTART:20261025T010000
END:STANDARD
BEGIN:DAYLIGHT
TZOFFSETFROM:+0100
TZOFFSETTO:+0200
TZNAME:CEST
DTSTART:20270328T010000
END:DAYLIGHT
BEGIN:STANDARD
TZOFFSETFROM:+0200
TZOFFSETTO:+0100
TZNAME:CET
DTSTART:20271031T010000
END:STANDARD
BEGIN:DAYLIGHT
TZOFFSETFROM:+0100
TZOFFSETTO:+0200
TZNAME:CEST
DTSTART:20280326T010000
END:DAYLIGHT
BEGIN:STANDARD
TZOFFSETFROM:+0200
TZOFFSETTO:+0100
TZNAME:CET
DTSTART:20281029T010000
END:STANDARD
END:VTIMEZONE
BEGIN:VEVENT
DTSTART;TZID=Europe/Budapest:20270125T170000
DTEND;TZID=Europe/Budapest:20270125T180000
DTSTAMP:20260425T193350
CREATED:20260104T105839Z
LAST-MODIFIED:20260104T105848Z
UID:10001426-1800896400-1800900000@mikepercsifoci.hu
SUMMARY:U7 edzés
DESCRIPTION:
URL:https://mikepercsifoci.hu/esemeny/u7-edzes-3/2027-01-25/
LOCATION:Mikepércsi Hunyadi János Általános Iskola\, Nagyváradi utca 1.\, Mikepércs\, 4271\, Hungary
CATEGORIES:U7 edzések
END:VEVENT
BEGIN:VEVENT
DTSTART;TZID=Europe/Budapest:20270126T190000
DTEND;TZID=Europe/Budapest:20270126T200000
DTSTAMP:20260425T193350
CREATED:20260104T105409Z
LAST-MODIFIED:20260104T105449Z
UID:10000126-1800990000-1800993600@mikepercsifoci.hu
SUMMARY:U11 edzés
DESCRIPTION:
URL:https://mikepercsifoci.hu/esemeny/u11-edzes-3/2027-01-26/
LOCATION:Mikepércsi Hunyadi János Általános Iskola\, Nagyváradi utca 1.\, Mikepércs\, 4271\, Hungary
CATEGORIES:U11 edzések
END:VEVENT
BEGIN:VEVENT
DTSTART;TZID=Europe/Budapest:20270129T170000
DTEND;TZID=Europe/Budapest:20270129T180000
DTSTAMP:20260425T193350
CREATED:20260104T105755Z
LAST-MODIFIED:20260104T105806Z
UID:10001166-1801242000-1801245600@mikepercsifoci.hu
SUMMARY:U7 edzés
DESCRIPTION:
URL:https://mikepercsifoci.hu/esemeny/u7-edzes-2-2/2027-01-29/
LOCATION:Mikepércsi Hunyadi János Általános Iskola\, Nagyváradi utca 1.\, Mikepércs\, 4271\, Hungary
CATEGORIES:U7 edzések
END:VEVENT
BEGIN:VEVENT
DTSTART;TZID=Europe/Budapest:20270129T180000
DTEND;TZID=Europe/Budapest:20270129T190000
DTSTAMP:20260425T193350
CREATED:20260104T105249Z
LAST-MODIFIED:20260104T105515Z
UID:10000386-1801245600-1801249200@mikepercsifoci.hu
SUMMARY:U11 edzés
DESCRIPTION:
URL:https://mikepercsifoci.hu/esemeny/u11-edzes-2-2/2027-01-29/
LOCATION:Mikepércsi Hunyadi János Általános Iskola\, Nagyváradi utca 1.\, Mikepércs\, 4271\, Hungary
CATEGORIES:U11 edzések
END:VEVENT
BEGIN:VEVENT
DTSTART;TZID=Europe/Budapest:20270201T170000
DTEND;TZID=Europe/Budapest:20270201T180000
DTSTAMP:20260425T193350
CREATED:20260104T105839Z
LAST-MODIFIED:20260104T105848Z
UID:10001427-1801501200-1801504800@mikepercsifoci.hu
SUMMARY:U7 edzés
DESCRIPTION:
URL:https://mikepercsifoci.hu/esemeny/u7-edzes-3/2027-02-01/
LOCATION:Mikepércsi Hunyadi János Általános Iskola\, Nagyváradi utca 1.\, Mikepércs\, 4271\, Hungary
CATEGORIES:U7 edzések
END:VEVENT
BEGIN:VEVENT
DTSTART;TZID=Europe/Budapest:20270202T190000
DTEND;TZID=Europe/Budapest:20270202T200000
DTSTAMP:20260425T193350
CREATED:20260104T105409Z
LAST-MODIFIED:20260104T105449Z
UID:10000127-1801594800-1801598400@mikepercsifoci.hu
SUMMARY:U11 edzés
DESCRIPTION:
URL:https://mikepercsifoci.hu/esemeny/u11-edzes-3/2027-02-02/
LOCATION:Mikepércsi Hunyadi János Általános Iskola\, Nagyváradi utca 1.\, Mikepércs\, 4271\, Hungary
CATEGORIES:U11 edzések
END:VEVENT
BEGIN:VEVENT
DTSTART;TZID=Europe/Budapest:20270205T170000
DTEND;TZID=Europe/Budapest:20270205T180000
DTSTAMP:20260425T193350
CREATED:20260104T105755Z
LAST-MODIFIED:20260104T105806Z
UID:10001167-1801846800-1801850400@mikepercsifoci.hu
SUMMARY:U7 edzés
DESCRIPTION:
URL:https://mikepercsifoci.hu/esemeny/u7-edzes-2-2/2027-02-05/
LOCATION:Mikepércsi Hunyadi János Általános Iskola\, Nagyváradi utca 1.\, Mikepércs\, 4271\, Hungary
CATEGORIES:U7 edzések
END:VEVENT
BEGIN:VEVENT
DTSTART;TZID=Europe/Budapest:20270205T180000
DTEND;TZID=Europe/Budapest:20270205T190000
DTSTAMP:20260425T193350
CREATED:20260104T105249Z
LAST-MODIFIED:20260104T105515Z
UID:10000387-1801850400-1801854000@mikepercsifoci.hu
SUMMARY:U11 edzés
DESCRIPTION:
URL:https://mikepercsifoci.hu/esemeny/u11-edzes-2-2/2027-02-05/
LOCATION:Mikepércsi Hunyadi János Általános Iskola\, Nagyváradi utca 1.\, Mikepércs\, 4271\, Hungary
CATEGORIES:U11 edzések
END:VEVENT
BEGIN:VEVENT
DTSTART;TZID=Europe/Budapest:20270208T170000
DTEND;TZID=Europe/Budapest:20270208T180000
DTSTAMP:20260425T193350
CREATED:20260104T105839Z
LAST-MODIFIED:20260104T105848Z
UID:10001428-1802106000-1802109600@mikepercsifoci.hu
SUMMARY:U7 edzés
DESCRIPTION:
URL:https://mikepercsifoci.hu/esemeny/u7-edzes-3/2027-02-08/
LOCATION:Mikepércsi Hunyadi János Általános Iskola\, Nagyváradi utca 1.\, Mikepércs\, 4271\, Hungary
CATEGORIES:U7 edzések
END:VEVENT
BEGIN:VEVENT
DTSTART;TZID=Europe/Budapest:20270209T190000
DTEND;TZID=Europe/Budapest:20270209T200000
DTSTAMP:20260425T193350
CREATED:20260104T105409Z
LAST-MODIFIED:20260104T105449Z
UID:10000128-1802199600-1802203200@mikepercsifoci.hu
SUMMARY:U11 edzés
DESCRIPTION:
URL:https://mikepercsifoci.hu/esemeny/u11-edzes-3/2027-02-09/
LOCATION:Mikepércsi Hunyadi János Általános Iskola\, Nagyváradi utca 1.\, Mikepércs\, 4271\, Hungary
CATEGORIES:U11 edzések
END:VEVENT
BEGIN:VEVENT
DTSTART;TZID=Europe/Budapest:20270212T170000
DTEND;TZID=Europe/Budapest:20270212T180000
DTSTAMP:20260425T193350
CREATED:20260104T105755Z
LAST-MODIFIED:20260104T105806Z
UID:10001168-1802451600-1802455200@mikepercsifoci.hu
SUMMARY:U7 edzés
DESCRIPTION:
URL:https://mikepercsifoci.hu/esemeny/u7-edzes-2-2/2027-02-12/
LOCATION:Mikepércsi Hunyadi János Általános Iskola\, Nagyváradi utca 1.\, Mikepércs\, 4271\, Hungary
CATEGORIES:U7 edzések
END:VEVENT
BEGIN:VEVENT
DTSTART;TZID=Europe/Budapest:20270212T180000
DTEND;TZID=Europe/Budapest:20270212T190000
DTSTAMP:20260425T193350
CREATED:20260104T105249Z
LAST-MODIFIED:20260104T105515Z
UID:10000388-1802455200-1802458800@mikepercsifoci.hu
SUMMARY:U11 edzés
DESCRIPTION:
URL:https://mikepercsifoci.hu/esemeny/u11-edzes-2-2/2027-02-12/
LOCATION:Mikepércsi Hunyadi János Általános Iskola\, Nagyváradi utca 1.\, Mikepércs\, 4271\, Hungary
CATEGORIES:U11 edzések
END:VEVENT
BEGIN:VEVENT
DTSTART;TZID=Europe/Budapest:20270215T170000
DTEND;TZID=Europe/Budapest:20270215T180000
DTSTAMP:20260425T193350
CREATED:20260104T105839Z
LAST-MODIFIED:20260104T105848Z
UID:10001429-1802710800-1802714400@mikepercsifoci.hu
SUMMARY:U7 edzés
DESCRIPTION:
URL:https://mikepercsifoci.hu/esemeny/u7-edzes-3/2027-02-15/
LOCATION:Mikepércsi Hunyadi János Általános Iskola\, Nagyváradi utca 1.\, Mikepércs\, 4271\, Hungary
CATEGORIES:U7 edzések
END:VEVENT
BEGIN:VEVENT
DTSTART;TZID=Europe/Budapest:20270216T190000
DTEND;TZID=Europe/Budapest:20270216T200000
DTSTAMP:20260425T193350
CREATED:20260104T105409Z
LAST-MODIFIED:20260104T105449Z
UID:10000129-1802804400-1802808000@mikepercsifoci.hu
SUMMARY:U11 edzés
DESCRIPTION:
URL:https://mikepercsifoci.hu/esemeny/u11-edzes-3/2027-02-16/
LOCATION:Mikepércsi Hunyadi János Általános Iskola\, Nagyváradi utca 1.\, Mikepércs\, 4271\, Hungary
CATEGORIES:U11 edzések
END:VEVENT
BEGIN:VEVENT
DTSTART;TZID=Europe/Budapest:20270219T170000
DTEND;TZID=Europe/Budapest:20270219T180000
DTSTAMP:20260425T193350
CREATED:20260104T105755Z
LAST-MODIFIED:20260104T105806Z
UID:10001169-1803056400-1803060000@mikepercsifoci.hu
SUMMARY:U7 edzés
DESCRIPTION:
URL:https://mikepercsifoci.hu/esemeny/u7-edzes-2-2/2027-02-19/
LOCATION:Mikepércsi Hunyadi János Általános Iskola\, Nagyváradi utca 1.\, Mikepércs\, 4271\, Hungary
CATEGORIES:U7 edzések
END:VEVENT
BEGIN:VEVENT
DTSTART;TZID=Europe/Budapest:20270219T180000
DTEND;TZID=Europe/Budapest:20270219T190000
DTSTAMP:20260425T193350
CREATED:20260104T105249Z
LAST-MODIFIED:20260104T105515Z
UID:10000389-1803060000-1803063600@mikepercsifoci.hu
SUMMARY:U11 edzés
DESCRIPTION:
URL:https://mikepercsifoci.hu/esemeny/u11-edzes-2-2/2027-02-19/
LOCATION:Mikepércsi Hunyadi János Általános Iskola\, Nagyváradi utca 1.\, Mikepércs\, 4271\, Hungary
CATEGORIES:U11 edzések
END:VEVENT
BEGIN:VEVENT
DTSTART;TZID=Europe/Budapest:20270222T170000
DTEND;TZID=Europe/Budapest:20270222T180000
DTSTAMP:20260425T193350
CREATED:20260104T105839Z
LAST-MODIFIED:20260104T105848Z
UID:10001430-1803315600-1803319200@mikepercsifoci.hu
SUMMARY:U7 edzés
DESCRIPTION:
URL:https://mikepercsifoci.hu/esemeny/u7-edzes-3/2027-02-22/
LOCATION:Mikepércsi Hunyadi János Általános Iskola\, Nagyváradi utca 1.\, Mikepércs\, 4271\, Hungary
CATEGORIES:U7 edzések
END:VEVENT
BEGIN:VEVENT
DTSTART;TZID=Europe/Budapest:20270223T190000
DTEND;TZID=Europe/Budapest:20270223T200000
DTSTAMP:20260425T193350
CREATED:20260104T105409Z
LAST-MODIFIED:20260104T105449Z
UID:10000130-1803409200-1803412800@mikepercsifoci.hu
SUMMARY:U11 edzés
DESCRIPTION:
URL:https://mikepercsifoci.hu/esemeny/u11-edzes-3/2027-02-23/
LOCATION:Mikepércsi Hunyadi János Általános Iskola\, Nagyváradi utca 1.\, Mikepércs\, 4271\, Hungary
CATEGORIES:U11 edzések
END:VEVENT
BEGIN:VEVENT
DTSTART;TZID=Europe/Budapest:20270226T170000
DTEND;TZID=Europe/Budapest:20270226T180000
DTSTAMP:20260425T193350
CREATED:20260104T105755Z
LAST-MODIFIED:20260104T105806Z
UID:10001170-1803661200-1803664800@mikepercsifoci.hu
SUMMARY:U7 edzés
DESCRIPTION:
URL:https://mikepercsifoci.hu/esemeny/u7-edzes-2-2/2027-02-26/
LOCATION:Mikepércsi Hunyadi János Általános Iskola\, Nagyváradi utca 1.\, Mikepércs\, 4271\, Hungary
CATEGORIES:U7 edzések
END:VEVENT
BEGIN:VEVENT
DTSTART;TZID=Europe/Budapest:20270226T180000
DTEND;TZID=Europe/Budapest:20270226T190000
DTSTAMP:20260425T193350
CREATED:20260104T105249Z
LAST-MODIFIED:20260104T105515Z
UID:10000390-1803664800-1803668400@mikepercsifoci.hu
SUMMARY:U11 edzés
DESCRIPTION:
URL:https://mikepercsifoci.hu/esemeny/u11-edzes-2-2/2027-02-26/
LOCATION:Mikepércsi Hunyadi János Általános Iskola\, Nagyváradi utca 1.\, Mikepércs\, 4271\, Hungary
CATEGORIES:U11 edzések
END:VEVENT
BEGIN:VEVENT
DTSTART;TZID=Europe/Budapest:20270301T170000
DTEND;TZID=Europe/Budapest:20270301T180000
DTSTAMP:20260425T193350
CREATED:20260104T105839Z
LAST-MODIFIED:20260104T105848Z
UID:10001431-1803920400-1803924000@mikepercsifoci.hu
SUMMARY:U7 edzés
DESCRIPTION:
URL:https://mikepercsifoci.hu/esemeny/u7-edzes-3/2027-03-01/
LOCATION:Mikepércsi Hunyadi János Általános Iskola\, Nagyváradi utca 1.\, Mikepércs\, 4271\, Hungary
CATEGORIES:U7 edzések
END:VEVENT
BEGIN:VEVENT
DTSTART;TZID=Europe/Budapest:20270302T190000
DTEND;TZID=Europe/Budapest:20270302T200000
DTSTAMP:20260425T193350
CREATED:20260104T105409Z
LAST-MODIFIED:20260104T105449Z
UID:10000131-1804014000-1804017600@mikepercsifoci.hu
SUMMARY:U11 edzés
DESCRIPTION:
URL:https://mikepercsifoci.hu/esemeny/u11-edzes-3/2027-03-02/
LOCATION:Mikepércsi Hunyadi János Általános Iskola\, Nagyváradi utca 1.\, Mikepércs\, 4271\, Hungary
CATEGORIES:U11 edzések
END:VEVENT
BEGIN:VEVENT
DTSTART;TZID=Europe/Budapest:20270305T170000
DTEND;TZID=Europe/Budapest:20270305T180000
DTSTAMP:20260425T193350
CREATED:20260104T105755Z
LAST-MODIFIED:20260104T105806Z
UID:10001171-1804266000-1804269600@mikepercsifoci.hu
SUMMARY:U7 edzés
DESCRIPTION:
URL:https://mikepercsifoci.hu/esemeny/u7-edzes-2-2/2027-03-05/
LOCATION:Mikepércsi Hunyadi János Általános Iskola\, Nagyváradi utca 1.\, Mikepércs\, 4271\, Hungary
CATEGORIES:U7 edzések
END:VEVENT
BEGIN:VEVENT
DTSTART;TZID=Europe/Budapest:20270305T180000
DTEND;TZID=Europe/Budapest:20270305T190000
DTSTAMP:20260425T193350
CREATED:20260104T105249Z
LAST-MODIFIED:20260104T105515Z
UID:10000391-1804269600-1804273200@mikepercsifoci.hu
SUMMARY:U11 edzés
DESCRIPTION:
URL:https://mikepercsifoci.hu/esemeny/u11-edzes-2-2/2027-03-05/
LOCATION:Mikepércsi Hunyadi János Általános Iskola\, Nagyváradi utca 1.\, Mikepércs\, 4271\, Hungary
CATEGORIES:U11 edzések
END:VEVENT
BEGIN:VEVENT
DTSTART;TZID=Europe/Budapest:20270308T170000
DTEND;TZID=Europe/Budapest:20270308T180000
DTSTAMP:20260425T193350
CREATED:20260104T105839Z
LAST-MODIFIED:20260104T105848Z
UID:10001432-1804525200-1804528800@mikepercsifoci.hu
SUMMARY:U7 edzés
DESCRIPTION:
URL:https://mikepercsifoci.hu/esemeny/u7-edzes-3/2027-03-08/
LOCATION:Mikepércsi Hunyadi János Általános Iskola\, Nagyváradi utca 1.\, Mikepércs\, 4271\, Hungary
CATEGORIES:U7 edzések
END:VEVENT
BEGIN:VEVENT
DTSTART;TZID=Europe/Budapest:20270309T190000
DTEND;TZID=Europe/Budapest:20270309T200000
DTSTAMP:20260425T193350
CREATED:20260104T105409Z
LAST-MODIFIED:20260104T105449Z
UID:10000132-1804618800-1804622400@mikepercsifoci.hu
SUMMARY:U11 edzés
DESCRIPTION:
URL:https://mikepercsifoci.hu/esemeny/u11-edzes-3/2027-03-09/
LOCATION:Mikepércsi Hunyadi János Általános Iskola\, Nagyváradi utca 1.\, Mikepércs\, 4271\, Hungary
CATEGORIES:U11 edzések
END:VEVENT
BEGIN:VEVENT
DTSTART;TZID=Europe/Budapest:20270312T170000
DTEND;TZID=Europe/Budapest:20270312T180000
DTSTAMP:20260425T193350
CREATED:20260104T105755Z
LAST-MODIFIED:20260104T105806Z
UID:10001172-1804870800-1804874400@mikepercsifoci.hu
SUMMARY:U7 edzés
DESCRIPTION:
URL:https://mikepercsifoci.hu/esemeny/u7-edzes-2-2/2027-03-12/
LOCATION:Mikepércsi Hunyadi János Általános Iskola\, Nagyváradi utca 1.\, Mikepércs\, 4271\, Hungary
CATEGORIES:U7 edzések
END:VEVENT
BEGIN:VEVENT
DTSTART;TZID=Europe/Budapest:20270312T180000
DTEND;TZID=Europe/Budapest:20270312T190000
DTSTAMP:20260425T193350
CREATED:20260104T105249Z
LAST-MODIFIED:20260104T105515Z
UID:10000392-1804874400-1804878000@mikepercsifoci.hu
SUMMARY:U11 edzés
DESCRIPTION:
URL:https://mikepercsifoci.hu/esemeny/u11-edzes-2-2/2027-03-12/
LOCATION:Mikepércsi Hunyadi János Általános Iskola\, Nagyváradi utca 1.\, Mikepércs\, 4271\, Hungary
CATEGORIES:U11 edzések
END:VEVENT
BEGIN:VEVENT
DTSTART;TZID=Europe/Budapest:20270315T170000
DTEND;TZID=Europe/Budapest:20270315T180000
DTSTAMP:20260425T193350
CREATED:20260104T105839Z
LAST-MODIFIED:20260104T105848Z
UID:10001433-1805130000-1805133600@mikepercsifoci.hu
SUMMARY:U7 edzés
DESCRIPTION:
URL:https://mikepercsifoci.hu/esemeny/u7-edzes-3/2027-03-15/
LOCATION:Mikepércsi Hunyadi János Általános Iskola\, Nagyváradi utca 1.\, Mikepércs\, 4271\, Hungary
CATEGORIES:U7 edzések
END:VEVENT
BEGIN:VEVENT
DTSTART;TZID=Europe/Budapest:20270316T190000
DTEND;TZID=Europe/Budapest:20270316T200000
DTSTAMP:20260425T193350
CREATED:20260104T105409Z
LAST-MODIFIED:20260104T105449Z
UID:10000133-1805223600-1805227200@mikepercsifoci.hu
SUMMARY:U11 edzés
DESCRIPTION:
URL:https://mikepercsifoci.hu/esemeny/u11-edzes-3/2027-03-16/
LOCATION:Mikepércsi Hunyadi János Általános Iskola\, Nagyváradi utca 1.\, Mikepércs\, 4271\, Hungary
CATEGORIES:U11 edzések
END:VEVENT
END:VCALENDAR