BEGIN:VCALENDAR
VERSION:2.0
PRODID:-//Mikepércsi Foci - ECPv6.15.12.2//NONSGML v1.0//EN
CALSCALE:GREGORIAN
METHOD:PUBLISH
X-ORIGINAL-URL:https://mikepercsifoci.hu
X-WR-CALDESC:Események Mikepércsi Foci
REFRESH-INTERVAL;VALUE=DURATION:PT1H
X-Robots-Tag:noindex
X-PUBLISHED-TTL:PT1H
BEGIN:VTIMEZONE
TZID:Europe/Budapest
BEGIN:DAYLIGHT
TZOFFSETFROM:+0100
TZOFFSETTO:+0200
TZNAME:CEST
DTSTART:20260329T010000
END:DAYLIGHT
BEGIN:STANDARD
TZOFFSETFROM:+0200
TZOFFSETTO:+0100
TZNAME:CET
DTSTART:20261025T010000
END:STANDARD
BEGIN:DAYLIGHT
TZOFFSETFROM:+0100
TZOFFSETTO:+0200
TZNAME:CEST
DTSTART:20270328T010000
END:DAYLIGHT
BEGIN:STANDARD
TZOFFSETFROM:+0200
TZOFFSETTO:+0100
TZNAME:CET
DTSTART:20271031T010000
END:STANDARD
BEGIN:DAYLIGHT
TZOFFSETFROM:+0100
TZOFFSETTO:+0200
TZNAME:CEST
DTSTART:20280326T010000
END:DAYLIGHT
BEGIN:STANDARD
TZOFFSETFROM:+0200
TZOFFSETTO:+0100
TZNAME:CET
DTSTART:20281029T010000
END:STANDARD
END:VTIMEZONE
BEGIN:VEVENT
DTSTART;TZID=Europe/Budapest:20270419T170000
DTEND;TZID=Europe/Budapest:20270419T180000
DTSTAMP:20260426T013859
CREATED:20260104T105839Z
LAST-MODIFIED:20260104T105848Z
UID:10001438-1808154000-1808157600@mikepercsifoci.hu
SUMMARY:U7 edzés
DESCRIPTION:
URL:https://mikepercsifoci.hu/esemeny/u7-edzes-3/2027-04-19/
LOCATION:Mikepércsi Hunyadi János Általános Iskola\, Nagyváradi utca 1.\, Mikepércs\, 4271\, Hungary
CATEGORIES:U7 edzések
END:VEVENT
BEGIN:VEVENT
DTSTART;TZID=Europe/Budapest:20270420T190000
DTEND;TZID=Europe/Budapest:20270420T200000
DTSTAMP:20260426T013859
CREATED:20260104T105409Z
LAST-MODIFIED:20260104T105449Z
UID:10000138-1808247600-1808251200@mikepercsifoci.hu
SUMMARY:U11 edzés
DESCRIPTION:
URL:https://mikepercsifoci.hu/esemeny/u11-edzes-3/2027-04-20/
LOCATION:Mikepércsi Hunyadi János Általános Iskola\, Nagyváradi utca 1.\, Mikepércs\, 4271\, Hungary
CATEGORIES:U11 edzések
END:VEVENT
BEGIN:VEVENT
DTSTART;TZID=Europe/Budapest:20270423T170000
DTEND;TZID=Europe/Budapest:20270423T180000
DTSTAMP:20260426T013859
CREATED:20260104T105755Z
LAST-MODIFIED:20260104T105806Z
UID:10001178-1808499600-1808503200@mikepercsifoci.hu
SUMMARY:U7 edzés
DESCRIPTION:
URL:https://mikepercsifoci.hu/esemeny/u7-edzes-2-2/2027-04-23/
LOCATION:Mikepércsi Hunyadi János Általános Iskola\, Nagyváradi utca 1.\, Mikepércs\, 4271\, Hungary
CATEGORIES:U7 edzések
END:VEVENT
BEGIN:VEVENT
DTSTART;TZID=Europe/Budapest:20270423T180000
DTEND;TZID=Europe/Budapest:20270423T190000
DTSTAMP:20260426T013859
CREATED:20260104T105249Z
LAST-MODIFIED:20260104T105515Z
UID:10000398-1808503200-1808506800@mikepercsifoci.hu
SUMMARY:U11 edzés
DESCRIPTION:
URL:https://mikepercsifoci.hu/esemeny/u11-edzes-2-2/2027-04-23/
LOCATION:Mikepércsi Hunyadi János Általános Iskola\, Nagyváradi utca 1.\, Mikepércs\, 4271\, Hungary
CATEGORIES:U11 edzések
END:VEVENT
BEGIN:VEVENT
DTSTART;TZID=Europe/Budapest:20270426T170000
DTEND;TZID=Europe/Budapest:20270426T180000
DTSTAMP:20260426T013859
CREATED:20260104T105839Z
LAST-MODIFIED:20260104T105848Z
UID:10001439-1808758800-1808762400@mikepercsifoci.hu
SUMMARY:U7 edzés
DESCRIPTION:
URL:https://mikepercsifoci.hu/esemeny/u7-edzes-3/2027-04-26/
LOCATION:Mikepércsi Hunyadi János Általános Iskola\, Nagyváradi utca 1.\, Mikepércs\, 4271\, Hungary
CATEGORIES:U7 edzések
END:VEVENT
BEGIN:VEVENT
DTSTART;TZID=Europe/Budapest:20270427T190000
DTEND;TZID=Europe/Budapest:20270427T200000
DTSTAMP:20260426T013859
CREATED:20260104T105409Z
LAST-MODIFIED:20260104T105449Z
UID:10000139-1808852400-1808856000@mikepercsifoci.hu
SUMMARY:U11 edzés
DESCRIPTION:
URL:https://mikepercsifoci.hu/esemeny/u11-edzes-3/2027-04-27/
LOCATION:Mikepércsi Hunyadi János Általános Iskola\, Nagyváradi utca 1.\, Mikepércs\, 4271\, Hungary
CATEGORIES:U11 edzések
END:VEVENT
BEGIN:VEVENT
DTSTART;TZID=Europe/Budapest:20270430T170000
DTEND;TZID=Europe/Budapest:20270430T180000
DTSTAMP:20260426T013859
CREATED:20260104T105755Z
LAST-MODIFIED:20260104T105806Z
UID:10001179-1809104400-1809108000@mikepercsifoci.hu
SUMMARY:U7 edzés
DESCRIPTION:
URL:https://mikepercsifoci.hu/esemeny/u7-edzes-2-2/2027-04-30/
LOCATION:Mikepércsi Hunyadi János Általános Iskola\, Nagyváradi utca 1.\, Mikepércs\, 4271\, Hungary
CATEGORIES:U7 edzések
END:VEVENT
BEGIN:VEVENT
DTSTART;TZID=Europe/Budapest:20270430T180000
DTEND;TZID=Europe/Budapest:20270430T190000
DTSTAMP:20260426T013859
CREATED:20260104T105249Z
LAST-MODIFIED:20260104T105515Z
UID:10000399-1809108000-1809111600@mikepercsifoci.hu
SUMMARY:U11 edzés
DESCRIPTION:
URL:https://mikepercsifoci.hu/esemeny/u11-edzes-2-2/2027-04-30/
LOCATION:Mikepércsi Hunyadi János Általános Iskola\, Nagyváradi utca 1.\, Mikepércs\, 4271\, Hungary
CATEGORIES:U11 edzések
END:VEVENT
BEGIN:VEVENT
DTSTART;TZID=Europe/Budapest:20270503T170000
DTEND;TZID=Europe/Budapest:20270503T180000
DTSTAMP:20260426T013859
CREATED:20260104T105839Z
LAST-MODIFIED:20260104T105848Z
UID:10001440-1809363600-1809367200@mikepercsifoci.hu
SUMMARY:U7 edzés
DESCRIPTION:
URL:https://mikepercsifoci.hu/esemeny/u7-edzes-3/2027-05-03/
LOCATION:Mikepércsi Hunyadi János Általános Iskola\, Nagyváradi utca 1.\, Mikepércs\, 4271\, Hungary
CATEGORIES:U7 edzések
END:VEVENT
BEGIN:VEVENT
DTSTART;TZID=Europe/Budapest:20270504T190000
DTEND;TZID=Europe/Budapest:20270504T200000
DTSTAMP:20260426T013859
CREATED:20260104T105409Z
LAST-MODIFIED:20260104T105449Z
UID:10000140-1809457200-1809460800@mikepercsifoci.hu
SUMMARY:U11 edzés
DESCRIPTION:
URL:https://mikepercsifoci.hu/esemeny/u11-edzes-3/2027-05-04/
LOCATION:Mikepércsi Hunyadi János Általános Iskola\, Nagyváradi utca 1.\, Mikepércs\, 4271\, Hungary
CATEGORIES:U11 edzések
END:VEVENT
BEGIN:VEVENT
DTSTART;TZID=Europe/Budapest:20270507T170000
DTEND;TZID=Europe/Budapest:20270507T180000
DTSTAMP:20260426T013859
CREATED:20260104T105755Z
LAST-MODIFIED:20260104T105806Z
UID:10001180-1809709200-1809712800@mikepercsifoci.hu
SUMMARY:U7 edzés
DESCRIPTION:
URL:https://mikepercsifoci.hu/esemeny/u7-edzes-2-2/2027-05-07/
LOCATION:Mikepércsi Hunyadi János Általános Iskola\, Nagyváradi utca 1.\, Mikepércs\, 4271\, Hungary
CATEGORIES:U7 edzések
END:VEVENT
BEGIN:VEVENT
DTSTART;TZID=Europe/Budapest:20270507T180000
DTEND;TZID=Europe/Budapest:20270507T190000
DTSTAMP:20260426T013859
CREATED:20260104T105249Z
LAST-MODIFIED:20260104T105515Z
UID:10000400-1809712800-1809716400@mikepercsifoci.hu
SUMMARY:U11 edzés
DESCRIPTION:
URL:https://mikepercsifoci.hu/esemeny/u11-edzes-2-2/2027-05-07/
LOCATION:Mikepércsi Hunyadi János Általános Iskola\, Nagyváradi utca 1.\, Mikepércs\, 4271\, Hungary
CATEGORIES:U11 edzések
END:VEVENT
BEGIN:VEVENT
DTSTART;TZID=Europe/Budapest:20270510T170000
DTEND;TZID=Europe/Budapest:20270510T180000
DTSTAMP:20260426T013859
CREATED:20260104T105839Z
LAST-MODIFIED:20260104T105848Z
UID:10001441-1809968400-1809972000@mikepercsifoci.hu
SUMMARY:U7 edzés
DESCRIPTION:
URL:https://mikepercsifoci.hu/esemeny/u7-edzes-3/2027-05-10/
LOCATION:Mikepércsi Hunyadi János Általános Iskola\, Nagyváradi utca 1.\, Mikepércs\, 4271\, Hungary
CATEGORIES:U7 edzések
END:VEVENT
BEGIN:VEVENT
DTSTART;TZID=Europe/Budapest:20270511T190000
DTEND;TZID=Europe/Budapest:20270511T200000
DTSTAMP:20260426T013859
CREATED:20260104T105409Z
LAST-MODIFIED:20260104T105449Z
UID:10000141-1810062000-1810065600@mikepercsifoci.hu
SUMMARY:U11 edzés
DESCRIPTION:
URL:https://mikepercsifoci.hu/esemeny/u11-edzes-3/2027-05-11/
LOCATION:Mikepércsi Hunyadi János Általános Iskola\, Nagyváradi utca 1.\, Mikepércs\, 4271\, Hungary
CATEGORIES:U11 edzések
END:VEVENT
BEGIN:VEVENT
DTSTART;TZID=Europe/Budapest:20270514T170000
DTEND;TZID=Europe/Budapest:20270514T180000
DTSTAMP:20260426T013859
CREATED:20260104T105755Z
LAST-MODIFIED:20260104T105806Z
UID:10001181-1810314000-1810317600@mikepercsifoci.hu
SUMMARY:U7 edzés
DESCRIPTION:
URL:https://mikepercsifoci.hu/esemeny/u7-edzes-2-2/2027-05-14/
LOCATION:Mikepércsi Hunyadi János Általános Iskola\, Nagyváradi utca 1.\, Mikepércs\, 4271\, Hungary
CATEGORIES:U7 edzések
END:VEVENT
BEGIN:VEVENT
DTSTART;TZID=Europe/Budapest:20270514T180000
DTEND;TZID=Europe/Budapest:20270514T190000
DTSTAMP:20260426T013859
CREATED:20260104T105249Z
LAST-MODIFIED:20260104T105515Z
UID:10000401-1810317600-1810321200@mikepercsifoci.hu
SUMMARY:U11 edzés
DESCRIPTION:
URL:https://mikepercsifoci.hu/esemeny/u11-edzes-2-2/2027-05-14/
LOCATION:Mikepércsi Hunyadi János Általános Iskola\, Nagyváradi utca 1.\, Mikepércs\, 4271\, Hungary
CATEGORIES:U11 edzések
END:VEVENT
BEGIN:VEVENT
DTSTART;TZID=Europe/Budapest:20270517T170000
DTEND;TZID=Europe/Budapest:20270517T180000
DTSTAMP:20260426T013859
CREATED:20260104T105839Z
LAST-MODIFIED:20260104T105848Z
UID:10001442-1810573200-1810576800@mikepercsifoci.hu
SUMMARY:U7 edzés
DESCRIPTION:
URL:https://mikepercsifoci.hu/esemeny/u7-edzes-3/2027-05-17/
LOCATION:Mikepércsi Hunyadi János Általános Iskola\, Nagyváradi utca 1.\, Mikepércs\, 4271\, Hungary
CATEGORIES:U7 edzések
END:VEVENT
BEGIN:VEVENT
DTSTART;TZID=Europe/Budapest:20270518T190000
DTEND;TZID=Europe/Budapest:20270518T200000
DTSTAMP:20260426T013859
CREATED:20260104T105409Z
LAST-MODIFIED:20260104T105449Z
UID:10000142-1810666800-1810670400@mikepercsifoci.hu
SUMMARY:U11 edzés
DESCRIPTION:
URL:https://mikepercsifoci.hu/esemeny/u11-edzes-3/2027-05-18/
LOCATION:Mikepércsi Hunyadi János Általános Iskola\, Nagyváradi utca 1.\, Mikepércs\, 4271\, Hungary
CATEGORIES:U11 edzések
END:VEVENT
BEGIN:VEVENT
DTSTART;TZID=Europe/Budapest:20270521T170000
DTEND;TZID=Europe/Budapest:20270521T180000
DTSTAMP:20260426T013859
CREATED:20260104T105755Z
LAST-MODIFIED:20260104T105806Z
UID:10001182-1810918800-1810922400@mikepercsifoci.hu
SUMMARY:U7 edzés
DESCRIPTION:
URL:https://mikepercsifoci.hu/esemeny/u7-edzes-2-2/2027-05-21/
LOCATION:Mikepércsi Hunyadi János Általános Iskola\, Nagyváradi utca 1.\, Mikepércs\, 4271\, Hungary
CATEGORIES:U7 edzések
END:VEVENT
BEGIN:VEVENT
DTSTART;TZID=Europe/Budapest:20270521T180000
DTEND;TZID=Europe/Budapest:20270521T190000
DTSTAMP:20260426T013859
CREATED:20260104T105249Z
LAST-MODIFIED:20260104T105515Z
UID:10000402-1810922400-1810926000@mikepercsifoci.hu
SUMMARY:U11 edzés
DESCRIPTION:
URL:https://mikepercsifoci.hu/esemeny/u11-edzes-2-2/2027-05-21/
LOCATION:Mikepércsi Hunyadi János Általános Iskola\, Nagyváradi utca 1.\, Mikepércs\, 4271\, Hungary
CATEGORIES:U11 edzések
END:VEVENT
BEGIN:VEVENT
DTSTART;TZID=Europe/Budapest:20270524T170000
DTEND;TZID=Europe/Budapest:20270524T180000
DTSTAMP:20260426T013859
CREATED:20260104T105839Z
LAST-MODIFIED:20260104T105848Z
UID:10001443-1811178000-1811181600@mikepercsifoci.hu
SUMMARY:U7 edzés
DESCRIPTION:
URL:https://mikepercsifoci.hu/esemeny/u7-edzes-3/2027-05-24/
LOCATION:Mikepércsi Hunyadi János Általános Iskola\, Nagyváradi utca 1.\, Mikepércs\, 4271\, Hungary
CATEGORIES:U7 edzések
END:VEVENT
BEGIN:VEVENT
DTSTART;TZID=Europe/Budapest:20270525T190000
DTEND;TZID=Europe/Budapest:20270525T200000
DTSTAMP:20260426T013859
CREATED:20260104T105409Z
LAST-MODIFIED:20260104T105449Z
UID:10000143-1811271600-1811275200@mikepercsifoci.hu
SUMMARY:U11 edzés
DESCRIPTION:
URL:https://mikepercsifoci.hu/esemeny/u11-edzes-3/2027-05-25/
LOCATION:Mikepércsi Hunyadi János Általános Iskola\, Nagyváradi utca 1.\, Mikepércs\, 4271\, Hungary
CATEGORIES:U11 edzések
END:VEVENT
BEGIN:VEVENT
DTSTART;TZID=Europe/Budapest:20270528T170000
DTEND;TZID=Europe/Budapest:20270528T180000
DTSTAMP:20260426T013859
CREATED:20260104T105755Z
LAST-MODIFIED:20260104T105806Z
UID:10001183-1811523600-1811527200@mikepercsifoci.hu
SUMMARY:U7 edzés
DESCRIPTION:
URL:https://mikepercsifoci.hu/esemeny/u7-edzes-2-2/2027-05-28/
LOCATION:Mikepércsi Hunyadi János Általános Iskola\, Nagyváradi utca 1.\, Mikepércs\, 4271\, Hungary
CATEGORIES:U7 edzések
END:VEVENT
BEGIN:VEVENT
DTSTART;TZID=Europe/Budapest:20270528T180000
DTEND;TZID=Europe/Budapest:20270528T190000
DTSTAMP:20260426T013859
CREATED:20260104T105249Z
LAST-MODIFIED:20260104T105515Z
UID:10000403-1811527200-1811530800@mikepercsifoci.hu
SUMMARY:U11 edzés
DESCRIPTION:
URL:https://mikepercsifoci.hu/esemeny/u11-edzes-2-2/2027-05-28/
LOCATION:Mikepércsi Hunyadi János Általános Iskola\, Nagyváradi utca 1.\, Mikepércs\, 4271\, Hungary
CATEGORIES:U11 edzések
END:VEVENT
BEGIN:VEVENT
DTSTART;TZID=Europe/Budapest:20270531T170000
DTEND;TZID=Europe/Budapest:20270531T180000
DTSTAMP:20260426T013859
CREATED:20260104T105839Z
LAST-MODIFIED:20260104T105848Z
UID:10001444-1811782800-1811786400@mikepercsifoci.hu
SUMMARY:U7 edzés
DESCRIPTION:
URL:https://mikepercsifoci.hu/esemeny/u7-edzes-3/2027-05-31/
LOCATION:Mikepércsi Hunyadi János Általános Iskola\, Nagyváradi utca 1.\, Mikepércs\, 4271\, Hungary
CATEGORIES:U7 edzések
END:VEVENT
BEGIN:VEVENT
DTSTART;TZID=Europe/Budapest:20270601T190000
DTEND;TZID=Europe/Budapest:20270601T200000
DTSTAMP:20260426T013859
CREATED:20260104T105409Z
LAST-MODIFIED:20260104T105449Z
UID:10000144-1811876400-1811880000@mikepercsifoci.hu
SUMMARY:U11 edzés
DESCRIPTION:
URL:https://mikepercsifoci.hu/esemeny/u11-edzes-3/2027-06-01/
LOCATION:Mikepércsi Hunyadi János Általános Iskola\, Nagyváradi utca 1.\, Mikepércs\, 4271\, Hungary
CATEGORIES:U11 edzések
END:VEVENT
BEGIN:VEVENT
DTSTART;TZID=Europe/Budapest:20270604T170000
DTEND;TZID=Europe/Budapest:20270604T180000
DTSTAMP:20260426T013859
CREATED:20260104T105755Z
LAST-MODIFIED:20260104T105806Z
UID:10001184-1812128400-1812132000@mikepercsifoci.hu
SUMMARY:U7 edzés
DESCRIPTION:
URL:https://mikepercsifoci.hu/esemeny/u7-edzes-2-2/2027-06-04/
LOCATION:Mikepércsi Hunyadi János Általános Iskola\, Nagyváradi utca 1.\, Mikepércs\, 4271\, Hungary
CATEGORIES:U7 edzések
END:VEVENT
BEGIN:VEVENT
DTSTART;TZID=Europe/Budapest:20270604T180000
DTEND;TZID=Europe/Budapest:20270604T190000
DTSTAMP:20260426T013859
CREATED:20260104T105249Z
LAST-MODIFIED:20260104T105515Z
UID:10000404-1812132000-1812135600@mikepercsifoci.hu
SUMMARY:U11 edzés
DESCRIPTION:
URL:https://mikepercsifoci.hu/esemeny/u11-edzes-2-2/2027-06-04/
LOCATION:Mikepércsi Hunyadi János Általános Iskola\, Nagyváradi utca 1.\, Mikepércs\, 4271\, Hungary
CATEGORIES:U11 edzések
END:VEVENT
BEGIN:VEVENT
DTSTART;TZID=Europe/Budapest:20270607T170000
DTEND;TZID=Europe/Budapest:20270607T180000
DTSTAMP:20260426T013859
CREATED:20260104T105839Z
LAST-MODIFIED:20260104T105848Z
UID:10001445-1812387600-1812391200@mikepercsifoci.hu
SUMMARY:U7 edzés
DESCRIPTION:
URL:https://mikepercsifoci.hu/esemeny/u7-edzes-3/2027-06-07/
LOCATION:Mikepércsi Hunyadi János Általános Iskola\, Nagyváradi utca 1.\, Mikepércs\, 4271\, Hungary
CATEGORIES:U7 edzések
END:VEVENT
BEGIN:VEVENT
DTSTART;TZID=Europe/Budapest:20270608T190000
DTEND;TZID=Europe/Budapest:20270608T200000
DTSTAMP:20260426T013859
CREATED:20260104T105409Z
LAST-MODIFIED:20260104T105449Z
UID:10000145-1812481200-1812484800@mikepercsifoci.hu
SUMMARY:U11 edzés
DESCRIPTION:
URL:https://mikepercsifoci.hu/esemeny/u11-edzes-3/2027-06-08/
LOCATION:Mikepércsi Hunyadi János Általános Iskola\, Nagyváradi utca 1.\, Mikepércs\, 4271\, Hungary
CATEGORIES:U11 edzések
END:VEVENT
END:VCALENDAR