BEGIN:VCALENDAR
VERSION:2.0
PRODID:-//Mikepércsi Foci - ECPv6.15.12.2//NONSGML v1.0//EN
CALSCALE:GREGORIAN
METHOD:PUBLISH
X-ORIGINAL-URL:https://mikepercsifoci.hu
X-WR-CALDESC:Események Mikepércsi Foci
REFRESH-INTERVAL;VALUE=DURATION:PT1H
X-Robots-Tag:noindex
X-PUBLISHED-TTL:PT1H
BEGIN:VTIMEZONE
TZID:Europe/Budapest
BEGIN:DAYLIGHT
TZOFFSETFROM:+0100
TZOFFSETTO:+0200
TZNAME:CEST
DTSTART:20250330T010000
END:DAYLIGHT
BEGIN:STANDARD
TZOFFSETFROM:+0200
TZOFFSETTO:+0100
TZNAME:CET
DTSTART:20251026T010000
END:STANDARD
BEGIN:DAYLIGHT
TZOFFSETFROM:+0100
TZOFFSETTO:+0200
TZNAME:CEST
DTSTART:20260329T010000
END:DAYLIGHT
BEGIN:STANDARD
TZOFFSETFROM:+0200
TZOFFSETTO:+0100
TZNAME:CET
DTSTART:20261025T010000
END:STANDARD
BEGIN:DAYLIGHT
TZOFFSETFROM:+0100
TZOFFSETTO:+0200
TZNAME:CEST
DTSTART:20270328T010000
END:DAYLIGHT
BEGIN:STANDARD
TZOFFSETFROM:+0200
TZOFFSETTO:+0100
TZNAME:CET
DTSTART:20271031T010000
END:STANDARD
END:VTIMEZONE
BEGIN:VEVENT
DTSTART;TZID=Europe/Budapest:20261002T164500
DTEND;TZID=Europe/Budapest:20261002T174500
DTSTAMP:20260420T015800
CREATED:20260104T110102Z
LAST-MODIFIED:20260310T114423Z
UID:10002733-1790959500-1790963100@mikepercsifoci.hu
SUMMARY:U13 edzés
DESCRIPTION:
URL:https://mikepercsifoci.hu/esemeny/u13-edzes-3/2026-10-02/
LOCATION:Mikepércsi Sportpálya\, Sport utca 4.\, Mikepércs\, 4271\, Hungary
CATEGORIES:U13 edzések
END:VEVENT
BEGIN:VEVENT
DTSTART;TZID=Europe/Budapest:20261005T164500
DTEND;TZID=Europe/Budapest:20261005T174500
DTSTAMP:20260420T015800
CREATED:20260310T114641Z
LAST-MODIFIED:20260310T114659Z
UID:10003514-1791218700-1791222300@mikepercsifoci.hu
SUMMARY:U13 edzés
DESCRIPTION:
URL:https://mikepercsifoci.hu/esemeny/u13-edzes-4/2026-10-05/
LOCATION:Mikepércsi Sportpálya\, Sport utca 4.\, Mikepércs\, 4271\, Hungary
CATEGORIES:U13 edzések
END:VEVENT
BEGIN:VEVENT
DTSTART;TZID=Europe/Budapest:20261006T164500
DTEND;TZID=Europe/Budapest:20261006T174500
DTSTAMP:20260420T015800
CREATED:20260104T105654Z
LAST-MODIFIED:20260310T114240Z
UID:10002464-1791305100-1791308700@mikepercsifoci.hu
SUMMARY:U9 edzés
DESCRIPTION:
URL:https://mikepercsifoci.hu/esemeny/u9-edzes-3/2026-10-06/
LOCATION:Mikepércsi Sportpálya\, Sport utca 4.\, Mikepércs\, 4271\, Hungary
CATEGORIES:U9 edzések
END:VEVENT
BEGIN:VEVENT
DTSTART;TZID=Europe/Budapest:20261007T164500
DTEND;TZID=Europe/Budapest:20261007T174500
DTSTAMP:20260420T015800
CREATED:20260310T114518Z
LAST-MODIFIED:20260310T114548Z
UID:10003255-1791391500-1791395100@mikepercsifoci.hu
SUMMARY:U13 edzés
DESCRIPTION:
URL:https://mikepercsifoci.hu/esemeny/u13-edzes-2-2-2/2026-10-07/
LOCATION:Mikepércsi Sportpálya\, Sport utca 4.\, Mikepércs\, 4271\, Hungary
CATEGORIES:U13 edzések
END:VEVENT
BEGIN:VEVENT
DTSTART;TZID=Europe/Budapest:20261008T164500
DTEND;TZID=Europe/Budapest:20261008T174500
DTSTAMP:20260420T015800
CREATED:20260104T105556Z
LAST-MODIFIED:20260310T114146Z
UID:10002194-1791477900-1791481500@mikepercsifoci.hu
SUMMARY:U9 edzés
DESCRIPTION:
URL:https://mikepercsifoci.hu/esemeny/u9-edzes-2-2/2026-10-08/
LOCATION:Mikepércsi Sportpálya\, Sport utca 4.\, Mikepércs\, 4271\, Hungary
CATEGORIES:U9 edzések
END:VEVENT
BEGIN:VEVENT
DTSTART;TZID=Europe/Budapest:20261009T164500
DTEND;TZID=Europe/Budapest:20261009T174500
DTSTAMP:20260420T015800
CREATED:20260104T110102Z
LAST-MODIFIED:20260310T114423Z
UID:10002734-1791564300-1791567900@mikepercsifoci.hu
SUMMARY:U13 edzés
DESCRIPTION:
URL:https://mikepercsifoci.hu/esemeny/u13-edzes-3/2026-10-09/
LOCATION:Mikepércsi Sportpálya\, Sport utca 4.\, Mikepércs\, 4271\, Hungary
CATEGORIES:U13 edzések
END:VEVENT
BEGIN:VEVENT
DTSTART;TZID=Europe/Budapest:20261012T164500
DTEND;TZID=Europe/Budapest:20261012T174500
DTSTAMP:20260420T015800
CREATED:20260310T114641Z
LAST-MODIFIED:20260310T114659Z
UID:10003515-1791823500-1791827100@mikepercsifoci.hu
SUMMARY:U13 edzés
DESCRIPTION:
URL:https://mikepercsifoci.hu/esemeny/u13-edzes-4/2026-10-12/
LOCATION:Mikepércsi Sportpálya\, Sport utca 4.\, Mikepércs\, 4271\, Hungary
CATEGORIES:U13 edzések
END:VEVENT
BEGIN:VEVENT
DTSTART;TZID=Europe/Budapest:20261013T164500
DTEND;TZID=Europe/Budapest:20261013T174500
DTSTAMP:20260420T015800
CREATED:20260104T105654Z
LAST-MODIFIED:20260310T114240Z
UID:10002465-1791909900-1791913500@mikepercsifoci.hu
SUMMARY:U9 edzés
DESCRIPTION:
URL:https://mikepercsifoci.hu/esemeny/u9-edzes-3/2026-10-13/
LOCATION:Mikepércsi Sportpálya\, Sport utca 4.\, Mikepércs\, 4271\, Hungary
CATEGORIES:U9 edzések
END:VEVENT
BEGIN:VEVENT
DTSTART;TZID=Europe/Budapest:20261014T164500
DTEND;TZID=Europe/Budapest:20261014T174500
DTSTAMP:20260420T015800
CREATED:20260310T114518Z
LAST-MODIFIED:20260310T114548Z
UID:10003256-1791996300-1791999900@mikepercsifoci.hu
SUMMARY:U13 edzés
DESCRIPTION:
URL:https://mikepercsifoci.hu/esemeny/u13-edzes-2-2-2/2026-10-14/
LOCATION:Mikepércsi Sportpálya\, Sport utca 4.\, Mikepércs\, 4271\, Hungary
CATEGORIES:U13 edzések
END:VEVENT
BEGIN:VEVENT
DTSTART;TZID=Europe/Budapest:20261015T164500
DTEND;TZID=Europe/Budapest:20261015T174500
DTSTAMP:20260420T015800
CREATED:20260104T105556Z
LAST-MODIFIED:20260310T114146Z
UID:10002195-1792082700-1792086300@mikepercsifoci.hu
SUMMARY:U9 edzés
DESCRIPTION:
URL:https://mikepercsifoci.hu/esemeny/u9-edzes-2-2/2026-10-15/
LOCATION:Mikepércsi Sportpálya\, Sport utca 4.\, Mikepércs\, 4271\, Hungary
CATEGORIES:U9 edzések
END:VEVENT
BEGIN:VEVENT
DTSTART;TZID=Europe/Budapest:20261016T164500
DTEND;TZID=Europe/Budapest:20261016T174500
DTSTAMP:20260420T015800
CREATED:20260104T110102Z
LAST-MODIFIED:20260310T114423Z
UID:10002735-1792169100-1792172700@mikepercsifoci.hu
SUMMARY:U13 edzés
DESCRIPTION:
URL:https://mikepercsifoci.hu/esemeny/u13-edzes-3/2026-10-16/
LOCATION:Mikepércsi Sportpálya\, Sport utca 4.\, Mikepércs\, 4271\, Hungary
CATEGORIES:U13 edzések
END:VEVENT
BEGIN:VEVENT
DTSTART;TZID=Europe/Budapest:20261019T164500
DTEND;TZID=Europe/Budapest:20261019T174500
DTSTAMP:20260420T015800
CREATED:20260310T114641Z
LAST-MODIFIED:20260310T114659Z
UID:10003516-1792428300-1792431900@mikepercsifoci.hu
SUMMARY:U13 edzés
DESCRIPTION:
URL:https://mikepercsifoci.hu/esemeny/u13-edzes-4/2026-10-19/
LOCATION:Mikepércsi Sportpálya\, Sport utca 4.\, Mikepércs\, 4271\, Hungary
CATEGORIES:U13 edzések
END:VEVENT
BEGIN:VEVENT
DTSTART;TZID=Europe/Budapest:20261020T164500
DTEND;TZID=Europe/Budapest:20261020T174500
DTSTAMP:20260420T015800
CREATED:20260104T105654Z
LAST-MODIFIED:20260310T114240Z
UID:10002466-1792514700-1792518300@mikepercsifoci.hu
SUMMARY:U9 edzés
DESCRIPTION:
URL:https://mikepercsifoci.hu/esemeny/u9-edzes-3/2026-10-20/
LOCATION:Mikepércsi Sportpálya\, Sport utca 4.\, Mikepércs\, 4271\, Hungary
CATEGORIES:U9 edzések
END:VEVENT
BEGIN:VEVENT
DTSTART;TZID=Europe/Budapest:20261021T164500
DTEND;TZID=Europe/Budapest:20261021T174500
DTSTAMP:20260420T015800
CREATED:20260310T114518Z
LAST-MODIFIED:20260310T114548Z
UID:10003257-1792601100-1792604700@mikepercsifoci.hu
SUMMARY:U13 edzés
DESCRIPTION:
URL:https://mikepercsifoci.hu/esemeny/u13-edzes-2-2-2/2026-10-21/
LOCATION:Mikepércsi Sportpálya\, Sport utca 4.\, Mikepércs\, 4271\, Hungary
CATEGORIES:U13 edzések
END:VEVENT
BEGIN:VEVENT
DTSTART;TZID=Europe/Budapest:20261022T164500
DTEND;TZID=Europe/Budapest:20261022T174500
DTSTAMP:20260420T015800
CREATED:20260104T105556Z
LAST-MODIFIED:20260310T114146Z
UID:10002196-1792687500-1792691100@mikepercsifoci.hu
SUMMARY:U9 edzés
DESCRIPTION:
URL:https://mikepercsifoci.hu/esemeny/u9-edzes-2-2/2026-10-22/
LOCATION:Mikepércsi Sportpálya\, Sport utca 4.\, Mikepércs\, 4271\, Hungary
CATEGORIES:U9 edzések
END:VEVENT
BEGIN:VEVENT
DTSTART;TZID=Europe/Budapest:20261023T164500
DTEND;TZID=Europe/Budapest:20261023T174500
DTSTAMP:20260420T015800
CREATED:20260104T110102Z
LAST-MODIFIED:20260310T114423Z
UID:10002736-1792773900-1792777500@mikepercsifoci.hu
SUMMARY:U13 edzés
DESCRIPTION:
URL:https://mikepercsifoci.hu/esemeny/u13-edzes-3/2026-10-23/
LOCATION:Mikepércsi Sportpálya\, Sport utca 4.\, Mikepércs\, 4271\, Hungary
CATEGORIES:U13 edzések
END:VEVENT
BEGIN:VEVENT
DTSTART;TZID=Europe/Budapest:20261026T164500
DTEND;TZID=Europe/Budapest:20261026T174500
DTSTAMP:20260420T015800
CREATED:20260310T114641Z
LAST-MODIFIED:20260310T114659Z
UID:10003517-1793033100-1793036700@mikepercsifoci.hu
SUMMARY:U13 edzés
DESCRIPTION:
URL:https://mikepercsifoci.hu/esemeny/u13-edzes-4/2026-10-26/
LOCATION:Mikepércsi Sportpálya\, Sport utca 4.\, Mikepércs\, 4271\, Hungary
CATEGORIES:U13 edzések
END:VEVENT
BEGIN:VEVENT
DTSTART;TZID=Europe/Budapest:20261027T164500
DTEND;TZID=Europe/Budapest:20261027T174500
DTSTAMP:20260420T015800
CREATED:20260104T105654Z
LAST-MODIFIED:20260310T114240Z
UID:10002467-1793119500-1793123100@mikepercsifoci.hu
SUMMARY:U9 edzés
DESCRIPTION:
URL:https://mikepercsifoci.hu/esemeny/u9-edzes-3/2026-10-27/
LOCATION:Mikepércsi Sportpálya\, Sport utca 4.\, Mikepércs\, 4271\, Hungary
CATEGORIES:U9 edzések
END:VEVENT
BEGIN:VEVENT
DTSTART;TZID=Europe/Budapest:20261028T164500
DTEND;TZID=Europe/Budapest:20261028T174500
DTSTAMP:20260420T015800
CREATED:20260310T114518Z
LAST-MODIFIED:20260310T114548Z
UID:10003258-1793205900-1793209500@mikepercsifoci.hu
SUMMARY:U13 edzés
DESCRIPTION:
URL:https://mikepercsifoci.hu/esemeny/u13-edzes-2-2-2/2026-10-28/
LOCATION:Mikepércsi Sportpálya\, Sport utca 4.\, Mikepércs\, 4271\, Hungary
CATEGORIES:U13 edzések
END:VEVENT
BEGIN:VEVENT
DTSTART;TZID=Europe/Budapest:20261029T164500
DTEND;TZID=Europe/Budapest:20261029T174500
DTSTAMP:20260420T015800
CREATED:20260104T105556Z
LAST-MODIFIED:20260310T114146Z
UID:10002197-1793292300-1793295900@mikepercsifoci.hu
SUMMARY:U9 edzés
DESCRIPTION:
URL:https://mikepercsifoci.hu/esemeny/u9-edzes-2-2/2026-10-29/
LOCATION:Mikepércsi Sportpálya\, Sport utca 4.\, Mikepércs\, 4271\, Hungary
CATEGORIES:U9 edzések
END:VEVENT
BEGIN:VEVENT
DTSTART;TZID=Europe/Budapest:20261030T164500
DTEND;TZID=Europe/Budapest:20261030T174500
DTSTAMP:20260420T015800
CREATED:20260104T110102Z
LAST-MODIFIED:20260310T114423Z
UID:10002737-1793378700-1793382300@mikepercsifoci.hu
SUMMARY:U13 edzés
DESCRIPTION:
URL:https://mikepercsifoci.hu/esemeny/u13-edzes-3/2026-10-30/
LOCATION:Mikepércsi Sportpálya\, Sport utca 4.\, Mikepércs\, 4271\, Hungary
CATEGORIES:U13 edzések
END:VEVENT
BEGIN:VEVENT
DTSTART;TZID=Europe/Budapest:20261102T164500
DTEND;TZID=Europe/Budapest:20261102T174500
DTSTAMP:20260420T015800
CREATED:20260310T114641Z
LAST-MODIFIED:20260310T114659Z
UID:10003518-1793637900-1793641500@mikepercsifoci.hu
SUMMARY:U13 edzés
DESCRIPTION:
URL:https://mikepercsifoci.hu/esemeny/u13-edzes-4/2026-11-02/
LOCATION:Mikepércsi Sportpálya\, Sport utca 4.\, Mikepércs\, 4271\, Hungary
CATEGORIES:U13 edzések
END:VEVENT
BEGIN:VEVENT
DTSTART;TZID=Europe/Budapest:20261103T164500
DTEND;TZID=Europe/Budapest:20261103T174500
DTSTAMP:20260420T015800
CREATED:20260104T105654Z
LAST-MODIFIED:20260310T114240Z
UID:10002468-1793724300-1793727900@mikepercsifoci.hu
SUMMARY:U9 edzés
DESCRIPTION:
URL:https://mikepercsifoci.hu/esemeny/u9-edzes-3/2026-11-03/
LOCATION:Mikepércsi Sportpálya\, Sport utca 4.\, Mikepércs\, 4271\, Hungary
CATEGORIES:U9 edzések
END:VEVENT
BEGIN:VEVENT
DTSTART;TZID=Europe/Budapest:20261104T164500
DTEND;TZID=Europe/Budapest:20261104T174500
DTSTAMP:20260420T015800
CREATED:20260310T114518Z
LAST-MODIFIED:20260310T114548Z
UID:10003259-1793810700-1793814300@mikepercsifoci.hu
SUMMARY:U13 edzés
DESCRIPTION:
URL:https://mikepercsifoci.hu/esemeny/u13-edzes-2-2-2/2026-11-04/
LOCATION:Mikepércsi Sportpálya\, Sport utca 4.\, Mikepércs\, 4271\, Hungary
CATEGORIES:U13 edzések
END:VEVENT
BEGIN:VEVENT
DTSTART;TZID=Europe/Budapest:20261105T164500
DTEND;TZID=Europe/Budapest:20261105T174500
DTSTAMP:20260420T015800
CREATED:20260104T105556Z
LAST-MODIFIED:20260310T114146Z
UID:10002198-1793897100-1793900700@mikepercsifoci.hu
SUMMARY:U9 edzés
DESCRIPTION:
URL:https://mikepercsifoci.hu/esemeny/u9-edzes-2-2/2026-11-05/
LOCATION:Mikepércsi Sportpálya\, Sport utca 4.\, Mikepércs\, 4271\, Hungary
CATEGORIES:U9 edzések
END:VEVENT
BEGIN:VEVENT
DTSTART;TZID=Europe/Budapest:20261106T164500
DTEND;TZID=Europe/Budapest:20261106T174500
DTSTAMP:20260420T015800
CREATED:20260104T110102Z
LAST-MODIFIED:20260310T114423Z
UID:10002738-1793983500-1793987100@mikepercsifoci.hu
SUMMARY:U13 edzés
DESCRIPTION:
URL:https://mikepercsifoci.hu/esemeny/u13-edzes-3/2026-11-06/
LOCATION:Mikepércsi Sportpálya\, Sport utca 4.\, Mikepércs\, 4271\, Hungary
CATEGORIES:U13 edzések
END:VEVENT
BEGIN:VEVENT
DTSTART;TZID=Europe/Budapest:20261109T164500
DTEND;TZID=Europe/Budapest:20261109T174500
DTSTAMP:20260420T015800
CREATED:20260310T114641Z
LAST-MODIFIED:20260310T114659Z
UID:10003519-1794242700-1794246300@mikepercsifoci.hu
SUMMARY:U13 edzés
DESCRIPTION:
URL:https://mikepercsifoci.hu/esemeny/u13-edzes-4/2026-11-09/
LOCATION:Mikepércsi Sportpálya\, Sport utca 4.\, Mikepércs\, 4271\, Hungary
CATEGORIES:U13 edzések
END:VEVENT
BEGIN:VEVENT
DTSTART;TZID=Europe/Budapest:20261110T164500
DTEND;TZID=Europe/Budapest:20261110T174500
DTSTAMP:20260420T015800
CREATED:20260104T105654Z
LAST-MODIFIED:20260310T114240Z
UID:10002469-1794329100-1794332700@mikepercsifoci.hu
SUMMARY:U9 edzés
DESCRIPTION:
URL:https://mikepercsifoci.hu/esemeny/u9-edzes-3/2026-11-10/
LOCATION:Mikepércsi Sportpálya\, Sport utca 4.\, Mikepércs\, 4271\, Hungary
CATEGORIES:U9 edzések
END:VEVENT
BEGIN:VEVENT
DTSTART;TZID=Europe/Budapest:20261111T164500
DTEND;TZID=Europe/Budapest:20261111T174500
DTSTAMP:20260420T015800
CREATED:20260310T114518Z
LAST-MODIFIED:20260310T114548Z
UID:10003260-1794415500-1794419100@mikepercsifoci.hu
SUMMARY:U13 edzés
DESCRIPTION:
URL:https://mikepercsifoci.hu/esemeny/u13-edzes-2-2-2/2026-11-11/
LOCATION:Mikepércsi Sportpálya\, Sport utca 4.\, Mikepércs\, 4271\, Hungary
CATEGORIES:U13 edzések
END:VEVENT
BEGIN:VEVENT
DTSTART;TZID=Europe/Budapest:20261112T164500
DTEND;TZID=Europe/Budapest:20261112T174500
DTSTAMP:20260420T015800
CREATED:20260104T105556Z
LAST-MODIFIED:20260310T114146Z
UID:10002199-1794501900-1794505500@mikepercsifoci.hu
SUMMARY:U9 edzés
DESCRIPTION:
URL:https://mikepercsifoci.hu/esemeny/u9-edzes-2-2/2026-11-12/
LOCATION:Mikepércsi Sportpálya\, Sport utca 4.\, Mikepércs\, 4271\, Hungary
CATEGORIES:U9 edzések
END:VEVENT
END:VCALENDAR