BEGIN:VCALENDAR
VERSION:2.0
PRODID:-//Mikepércsi Foci - ECPv6.15.12.2//NONSGML v1.0//EN
CALSCALE:GREGORIAN
METHOD:PUBLISH
X-WR-CALNAME:Mikepércsi Foci
X-ORIGINAL-URL:https://mikepercsifoci.hu
X-WR-CALDESC:Események Mikepércsi Foci
REFRESH-INTERVAL;VALUE=DURATION:PT1H
X-Robots-Tag:noindex
X-PUBLISHED-TTL:PT1H
BEGIN:VTIMEZONE
TZID:Europe/Budapest
BEGIN:DAYLIGHT
TZOFFSETFROM:+0100
TZOFFSETTO:+0200
TZNAME:CEST
DTSTART:20260329T010000
END:DAYLIGHT
BEGIN:STANDARD
TZOFFSETFROM:+0200
TZOFFSETTO:+0100
TZNAME:CET
DTSTART:20261025T010000
END:STANDARD
BEGIN:DAYLIGHT
TZOFFSETFROM:+0100
TZOFFSETTO:+0200
TZNAME:CEST
DTSTART:20270328T010000
END:DAYLIGHT
BEGIN:STANDARD
TZOFFSETFROM:+0200
TZOFFSETTO:+0100
TZNAME:CET
DTSTART:20271031T010000
END:STANDARD
BEGIN:DAYLIGHT
TZOFFSETFROM:+0100
TZOFFSETTO:+0200
TZNAME:CEST
DTSTART:20280326T010000
END:DAYLIGHT
BEGIN:STANDARD
TZOFFSETFROM:+0200
TZOFFSETTO:+0100
TZNAME:CET
DTSTART:20281029T010000
END:STANDARD
END:VTIMEZONE
BEGIN:VEVENT
DTSTART;TZID=Europe/Budapest:20270112T164500
DTEND;TZID=Europe/Budapest:20270112T174500
DTSTAMP:20260420T121158
CREATED:20260104T105654Z
LAST-MODIFIED:20260310T114240Z
UID:10002478-1799772300-1799775900@mikepercsifoci.hu
SUMMARY:U9 edzés
DESCRIPTION:
URL:https://mikepercsifoci.hu/esemeny/u9-edzes-3/2027-01-12/
LOCATION:Mikepércsi Sportpálya\, Sport utca 4.\, Mikepércs\, 4271\, Hungary
CATEGORIES:U9 edzések
END:VEVENT
BEGIN:VEVENT
DTSTART;TZID=Europe/Budapest:20270113T164500
DTEND;TZID=Europe/Budapest:20270113T174500
DTSTAMP:20260420T121158
CREATED:20260310T114518Z
LAST-MODIFIED:20260310T114548Z
UID:10003269-1799858700-1799862300@mikepercsifoci.hu
SUMMARY:U13 edzés
DESCRIPTION:
URL:https://mikepercsifoci.hu/esemeny/u13-edzes-2-2-2/2027-01-13/
LOCATION:Mikepércsi Sportpálya\, Sport utca 4.\, Mikepércs\, 4271\, Hungary
CATEGORIES:U13 edzések
END:VEVENT
BEGIN:VEVENT
DTSTART;TZID=Europe/Budapest:20270114T164500
DTEND;TZID=Europe/Budapest:20270114T174500
DTSTAMP:20260420T121158
CREATED:20260104T105556Z
LAST-MODIFIED:20260310T114146Z
UID:10002208-1799945100-1799948700@mikepercsifoci.hu
SUMMARY:U9 edzés
DESCRIPTION:
URL:https://mikepercsifoci.hu/esemeny/u9-edzes-2-2/2027-01-14/
LOCATION:Mikepércsi Sportpálya\, Sport utca 4.\, Mikepércs\, 4271\, Hungary
CATEGORIES:U9 edzések
END:VEVENT
BEGIN:VEVENT
DTSTART;TZID=Europe/Budapest:20270115T164500
DTEND;TZID=Europe/Budapest:20270115T174500
DTSTAMP:20260420T121158
CREATED:20260104T110102Z
LAST-MODIFIED:20260310T114423Z
UID:10002748-1800031500-1800035100@mikepercsifoci.hu
SUMMARY:U13 edzés
DESCRIPTION:
URL:https://mikepercsifoci.hu/esemeny/u13-edzes-3/2027-01-15/
LOCATION:Mikepércsi Sportpálya\, Sport utca 4.\, Mikepércs\, 4271\, Hungary
CATEGORIES:U13 edzések
END:VEVENT
BEGIN:VEVENT
DTSTART;TZID=Europe/Budapest:20270118T164500
DTEND;TZID=Europe/Budapest:20270118T174500
DTSTAMP:20260420T121158
CREATED:20260310T114641Z
LAST-MODIFIED:20260310T114659Z
UID:10003529-1800290700-1800294300@mikepercsifoci.hu
SUMMARY:U13 edzés
DESCRIPTION:
URL:https://mikepercsifoci.hu/esemeny/u13-edzes-4/2027-01-18/
LOCATION:Mikepércsi Sportpálya\, Sport utca 4.\, Mikepércs\, 4271\, Hungary
CATEGORIES:U13 edzések
END:VEVENT
BEGIN:VEVENT
DTSTART;TZID=Europe/Budapest:20270119T164500
DTEND;TZID=Europe/Budapest:20270119T174500
DTSTAMP:20260420T121158
CREATED:20260104T105654Z
LAST-MODIFIED:20260310T114240Z
UID:10002479-1800377100-1800380700@mikepercsifoci.hu
SUMMARY:U9 edzés
DESCRIPTION:
URL:https://mikepercsifoci.hu/esemeny/u9-edzes-3/2027-01-19/
LOCATION:Mikepércsi Sportpálya\, Sport utca 4.\, Mikepércs\, 4271\, Hungary
CATEGORIES:U9 edzések
END:VEVENT
BEGIN:VEVENT
DTSTART;TZID=Europe/Budapest:20270120T164500
DTEND;TZID=Europe/Budapest:20270120T174500
DTSTAMP:20260420T121158
CREATED:20260310T114518Z
LAST-MODIFIED:20260310T114548Z
UID:10003270-1800463500-1800467100@mikepercsifoci.hu
SUMMARY:U13 edzés
DESCRIPTION:
URL:https://mikepercsifoci.hu/esemeny/u13-edzes-2-2-2/2027-01-20/
LOCATION:Mikepércsi Sportpálya\, Sport utca 4.\, Mikepércs\, 4271\, Hungary
CATEGORIES:U13 edzések
END:VEVENT
BEGIN:VEVENT
DTSTART;TZID=Europe/Budapest:20270121T164500
DTEND;TZID=Europe/Budapest:20270121T174500
DTSTAMP:20260420T121158
CREATED:20260104T105556Z
LAST-MODIFIED:20260310T114146Z
UID:10002209-1800549900-1800553500@mikepercsifoci.hu
SUMMARY:U9 edzés
DESCRIPTION:
URL:https://mikepercsifoci.hu/esemeny/u9-edzes-2-2/2027-01-21/
LOCATION:Mikepércsi Sportpálya\, Sport utca 4.\, Mikepércs\, 4271\, Hungary
CATEGORIES:U9 edzések
END:VEVENT
BEGIN:VEVENT
DTSTART;TZID=Europe/Budapest:20270122T164500
DTEND;TZID=Europe/Budapest:20270122T174500
DTSTAMP:20260420T121158
CREATED:20260104T110102Z
LAST-MODIFIED:20260310T114423Z
UID:10002749-1800636300-1800639900@mikepercsifoci.hu
SUMMARY:U13 edzés
DESCRIPTION:
URL:https://mikepercsifoci.hu/esemeny/u13-edzes-3/2027-01-22/
LOCATION:Mikepércsi Sportpálya\, Sport utca 4.\, Mikepércs\, 4271\, Hungary
CATEGORIES:U13 edzések
END:VEVENT
BEGIN:VEVENT
DTSTART;TZID=Europe/Budapest:20270125T164500
DTEND;TZID=Europe/Budapest:20270125T174500
DTSTAMP:20260420T121158
CREATED:20260310T114641Z
LAST-MODIFIED:20260310T114659Z
UID:10003530-1800895500-1800899100@mikepercsifoci.hu
SUMMARY:U13 edzés
DESCRIPTION:
URL:https://mikepercsifoci.hu/esemeny/u13-edzes-4/2027-01-25/
LOCATION:Mikepércsi Sportpálya\, Sport utca 4.\, Mikepércs\, 4271\, Hungary
CATEGORIES:U13 edzések
END:VEVENT
BEGIN:VEVENT
DTSTART;TZID=Europe/Budapest:20270126T164500
DTEND;TZID=Europe/Budapest:20270126T174500
DTSTAMP:20260420T121158
CREATED:20260104T105654Z
LAST-MODIFIED:20260310T114240Z
UID:10002480-1800981900-1800985500@mikepercsifoci.hu
SUMMARY:U9 edzés
DESCRIPTION:
URL:https://mikepercsifoci.hu/esemeny/u9-edzes-3/2027-01-26/
LOCATION:Mikepércsi Sportpálya\, Sport utca 4.\, Mikepércs\, 4271\, Hungary
CATEGORIES:U9 edzések
END:VEVENT
BEGIN:VEVENT
DTSTART;TZID=Europe/Budapest:20270127T164500
DTEND;TZID=Europe/Budapest:20270127T174500
DTSTAMP:20260420T121158
CREATED:20260310T114518Z
LAST-MODIFIED:20260310T114548Z
UID:10003271-1801068300-1801071900@mikepercsifoci.hu
SUMMARY:U13 edzés
DESCRIPTION:
URL:https://mikepercsifoci.hu/esemeny/u13-edzes-2-2-2/2027-01-27/
LOCATION:Mikepércsi Sportpálya\, Sport utca 4.\, Mikepércs\, 4271\, Hungary
CATEGORIES:U13 edzések
END:VEVENT
BEGIN:VEVENT
DTSTART;TZID=Europe/Budapest:20270128T164500
DTEND;TZID=Europe/Budapest:20270128T174500
DTSTAMP:20260420T121158
CREATED:20260104T105556Z
LAST-MODIFIED:20260310T114146Z
UID:10002210-1801154700-1801158300@mikepercsifoci.hu
SUMMARY:U9 edzés
DESCRIPTION:
URL:https://mikepercsifoci.hu/esemeny/u9-edzes-2-2/2027-01-28/
LOCATION:Mikepércsi Sportpálya\, Sport utca 4.\, Mikepércs\, 4271\, Hungary
CATEGORIES:U9 edzések
END:VEVENT
BEGIN:VEVENT
DTSTART;TZID=Europe/Budapest:20270129T164500
DTEND;TZID=Europe/Budapest:20270129T174500
DTSTAMP:20260420T121158
CREATED:20260104T110102Z
LAST-MODIFIED:20260310T114423Z
UID:10002750-1801241100-1801244700@mikepercsifoci.hu
SUMMARY:U13 edzés
DESCRIPTION:
URL:https://mikepercsifoci.hu/esemeny/u13-edzes-3/2027-01-29/
LOCATION:Mikepércsi Sportpálya\, Sport utca 4.\, Mikepércs\, 4271\, Hungary
CATEGORIES:U13 edzések
END:VEVENT
BEGIN:VEVENT
DTSTART;TZID=Europe/Budapest:20270201T164500
DTEND;TZID=Europe/Budapest:20270201T174500
DTSTAMP:20260420T121158
CREATED:20260310T114641Z
LAST-MODIFIED:20260310T114659Z
UID:10003531-1801500300-1801503900@mikepercsifoci.hu
SUMMARY:U13 edzés
DESCRIPTION:
URL:https://mikepercsifoci.hu/esemeny/u13-edzes-4/2027-02-01/
LOCATION:Mikepércsi Sportpálya\, Sport utca 4.\, Mikepércs\, 4271\, Hungary
CATEGORIES:U13 edzések
END:VEVENT
BEGIN:VEVENT
DTSTART;TZID=Europe/Budapest:20270202T164500
DTEND;TZID=Europe/Budapest:20270202T174500
DTSTAMP:20260420T121158
CREATED:20260104T105654Z
LAST-MODIFIED:20260310T114240Z
UID:10002481-1801586700-1801590300@mikepercsifoci.hu
SUMMARY:U9 edzés
DESCRIPTION:
URL:https://mikepercsifoci.hu/esemeny/u9-edzes-3/2027-02-02/
LOCATION:Mikepércsi Sportpálya\, Sport utca 4.\, Mikepércs\, 4271\, Hungary
CATEGORIES:U9 edzések
END:VEVENT
BEGIN:VEVENT
DTSTART;TZID=Europe/Budapest:20270203T164500
DTEND;TZID=Europe/Budapest:20270203T174500
DTSTAMP:20260420T121158
CREATED:20260310T114518Z
LAST-MODIFIED:20260310T114548Z
UID:10003272-1801673100-1801676700@mikepercsifoci.hu
SUMMARY:U13 edzés
DESCRIPTION:
URL:https://mikepercsifoci.hu/esemeny/u13-edzes-2-2-2/2027-02-03/
LOCATION:Mikepércsi Sportpálya\, Sport utca 4.\, Mikepércs\, 4271\, Hungary
CATEGORIES:U13 edzések
END:VEVENT
BEGIN:VEVENT
DTSTART;TZID=Europe/Budapest:20270204T164500
DTEND;TZID=Europe/Budapest:20270204T174500
DTSTAMP:20260420T121158
CREATED:20260104T105556Z
LAST-MODIFIED:20260310T114146Z
UID:10002211-1801759500-1801763100@mikepercsifoci.hu
SUMMARY:U9 edzés
DESCRIPTION:
URL:https://mikepercsifoci.hu/esemeny/u9-edzes-2-2/2027-02-04/
LOCATION:Mikepércsi Sportpálya\, Sport utca 4.\, Mikepércs\, 4271\, Hungary
CATEGORIES:U9 edzések
END:VEVENT
BEGIN:VEVENT
DTSTART;TZID=Europe/Budapest:20270205T164500
DTEND;TZID=Europe/Budapest:20270205T174500
DTSTAMP:20260420T121158
CREATED:20260104T110102Z
LAST-MODIFIED:20260310T114423Z
UID:10002751-1801845900-1801849500@mikepercsifoci.hu
SUMMARY:U13 edzés
DESCRIPTION:
URL:https://mikepercsifoci.hu/esemeny/u13-edzes-3/2027-02-05/
LOCATION:Mikepércsi Sportpálya\, Sport utca 4.\, Mikepércs\, 4271\, Hungary
CATEGORIES:U13 edzések
END:VEVENT
BEGIN:VEVENT
DTSTART;TZID=Europe/Budapest:20270208T164500
DTEND;TZID=Europe/Budapest:20270208T174500
DTSTAMP:20260420T121158
CREATED:20260310T114641Z
LAST-MODIFIED:20260310T114659Z
UID:10003532-1802105100-1802108700@mikepercsifoci.hu
SUMMARY:U13 edzés
DESCRIPTION:
URL:https://mikepercsifoci.hu/esemeny/u13-edzes-4/2027-02-08/
LOCATION:Mikepércsi Sportpálya\, Sport utca 4.\, Mikepércs\, 4271\, Hungary
CATEGORIES:U13 edzések
END:VEVENT
BEGIN:VEVENT
DTSTART;TZID=Europe/Budapest:20270209T164500
DTEND;TZID=Europe/Budapest:20270209T174500
DTSTAMP:20260420T121158
CREATED:20260104T105654Z
LAST-MODIFIED:20260310T114240Z
UID:10002482-1802191500-1802195100@mikepercsifoci.hu
SUMMARY:U9 edzés
DESCRIPTION:
URL:https://mikepercsifoci.hu/esemeny/u9-edzes-3/2027-02-09/
LOCATION:Mikepércsi Sportpálya\, Sport utca 4.\, Mikepércs\, 4271\, Hungary
CATEGORIES:U9 edzések
END:VEVENT
BEGIN:VEVENT
DTSTART;TZID=Europe/Budapest:20270210T164500
DTEND;TZID=Europe/Budapest:20270210T174500
DTSTAMP:20260420T121158
CREATED:20260310T114518Z
LAST-MODIFIED:20260310T114548Z
UID:10003273-1802277900-1802281500@mikepercsifoci.hu
SUMMARY:U13 edzés
DESCRIPTION:
URL:https://mikepercsifoci.hu/esemeny/u13-edzes-2-2-2/2027-02-10/
LOCATION:Mikepércsi Sportpálya\, Sport utca 4.\, Mikepércs\, 4271\, Hungary
CATEGORIES:U13 edzések
END:VEVENT
BEGIN:VEVENT
DTSTART;TZID=Europe/Budapest:20270211T164500
DTEND;TZID=Europe/Budapest:20270211T174500
DTSTAMP:20260420T121158
CREATED:20260104T105556Z
LAST-MODIFIED:20260310T114146Z
UID:10002212-1802364300-1802367900@mikepercsifoci.hu
SUMMARY:U9 edzés
DESCRIPTION:
URL:https://mikepercsifoci.hu/esemeny/u9-edzes-2-2/2027-02-11/
LOCATION:Mikepércsi Sportpálya\, Sport utca 4.\, Mikepércs\, 4271\, Hungary
CATEGORIES:U9 edzések
END:VEVENT
BEGIN:VEVENT
DTSTART;TZID=Europe/Budapest:20270212T164500
DTEND;TZID=Europe/Budapest:20270212T174500
DTSTAMP:20260420T121158
CREATED:20260104T110102Z
LAST-MODIFIED:20260310T114423Z
UID:10002752-1802450700-1802454300@mikepercsifoci.hu
SUMMARY:U13 edzés
DESCRIPTION:
URL:https://mikepercsifoci.hu/esemeny/u13-edzes-3/2027-02-12/
LOCATION:Mikepércsi Sportpálya\, Sport utca 4.\, Mikepércs\, 4271\, Hungary
CATEGORIES:U13 edzések
END:VEVENT
BEGIN:VEVENT
DTSTART;TZID=Europe/Budapest:20270215T164500
DTEND;TZID=Europe/Budapest:20270215T174500
DTSTAMP:20260420T121158
CREATED:20260310T114641Z
LAST-MODIFIED:20260310T114659Z
UID:10003533-1802709900-1802713500@mikepercsifoci.hu
SUMMARY:U13 edzés
DESCRIPTION:
URL:https://mikepercsifoci.hu/esemeny/u13-edzes-4/2027-02-15/
LOCATION:Mikepércsi Sportpálya\, Sport utca 4.\, Mikepércs\, 4271\, Hungary
CATEGORIES:U13 edzések
END:VEVENT
BEGIN:VEVENT
DTSTART;TZID=Europe/Budapest:20270216T164500
DTEND;TZID=Europe/Budapest:20270216T174500
DTSTAMP:20260420T121158
CREATED:20260104T105654Z
LAST-MODIFIED:20260310T114240Z
UID:10002483-1802796300-1802799900@mikepercsifoci.hu
SUMMARY:U9 edzés
DESCRIPTION:
URL:https://mikepercsifoci.hu/esemeny/u9-edzes-3/2027-02-16/
LOCATION:Mikepércsi Sportpálya\, Sport utca 4.\, Mikepércs\, 4271\, Hungary
CATEGORIES:U9 edzések
END:VEVENT
BEGIN:VEVENT
DTSTART;TZID=Europe/Budapest:20270217T164500
DTEND;TZID=Europe/Budapest:20270217T174500
DTSTAMP:20260420T121158
CREATED:20260310T114518Z
LAST-MODIFIED:20260310T114548Z
UID:10003274-1802882700-1802886300@mikepercsifoci.hu
SUMMARY:U13 edzés
DESCRIPTION:
URL:https://mikepercsifoci.hu/esemeny/u13-edzes-2-2-2/2027-02-17/
LOCATION:Mikepércsi Sportpálya\, Sport utca 4.\, Mikepércs\, 4271\, Hungary
CATEGORIES:U13 edzések
END:VEVENT
BEGIN:VEVENT
DTSTART;TZID=Europe/Budapest:20270218T164500
DTEND;TZID=Europe/Budapest:20270218T174500
DTSTAMP:20260420T121158
CREATED:20260104T105556Z
LAST-MODIFIED:20260310T114146Z
UID:10002213-1802969100-1802972700@mikepercsifoci.hu
SUMMARY:U9 edzés
DESCRIPTION:
URL:https://mikepercsifoci.hu/esemeny/u9-edzes-2-2/2027-02-18/
LOCATION:Mikepércsi Sportpálya\, Sport utca 4.\, Mikepércs\, 4271\, Hungary
CATEGORIES:U9 edzések
END:VEVENT
BEGIN:VEVENT
DTSTART;TZID=Europe/Budapest:20270219T164500
DTEND;TZID=Europe/Budapest:20270219T174500
DTSTAMP:20260420T121158
CREATED:20260104T110102Z
LAST-MODIFIED:20260310T114423Z
UID:10002753-1803055500-1803059100@mikepercsifoci.hu
SUMMARY:U13 edzés
DESCRIPTION:
URL:https://mikepercsifoci.hu/esemeny/u13-edzes-3/2027-02-19/
LOCATION:Mikepércsi Sportpálya\, Sport utca 4.\, Mikepércs\, 4271\, Hungary
CATEGORIES:U13 edzések
END:VEVENT
BEGIN:VEVENT
DTSTART;TZID=Europe/Budapest:20270222T164500
DTEND;TZID=Europe/Budapest:20270222T174500
DTSTAMP:20260420T121158
CREATED:20260310T114641Z
LAST-MODIFIED:20260310T114659Z
UID:10003534-1803314700-1803318300@mikepercsifoci.hu
SUMMARY:U13 edzés
DESCRIPTION:
URL:https://mikepercsifoci.hu/esemeny/u13-edzes-4/2027-02-22/
LOCATION:Mikepércsi Sportpálya\, Sport utca 4.\, Mikepércs\, 4271\, Hungary
CATEGORIES:U13 edzések
END:VEVENT
END:VCALENDAR