BEGIN:VCALENDAR
VERSION:2.0
PRODID:-//Mikepércsi Foci - ECPv6.15.12.2//NONSGML v1.0//EN
CALSCALE:GREGORIAN
METHOD:PUBLISH
X-ORIGINAL-URL:https://mikepercsifoci.hu
X-WR-CALDESC:Események Mikepércsi Foci
REFRESH-INTERVAL;VALUE=DURATION:PT1H
X-Robots-Tag:noindex
X-PUBLISHED-TTL:PT1H
BEGIN:VTIMEZONE
TZID:Europe/Budapest
BEGIN:DAYLIGHT
TZOFFSETFROM:+0100
TZOFFSETTO:+0200
TZNAME:CEST
DTSTART:20260329T010000
END:DAYLIGHT
BEGIN:STANDARD
TZOFFSETFROM:+0200
TZOFFSETTO:+0100
TZNAME:CET
DTSTART:20261025T010000
END:STANDARD
BEGIN:DAYLIGHT
TZOFFSETFROM:+0100
TZOFFSETTO:+0200
TZNAME:CEST
DTSTART:20270328T010000
END:DAYLIGHT
BEGIN:STANDARD
TZOFFSETFROM:+0200
TZOFFSETTO:+0100
TZNAME:CET
DTSTART:20271031T010000
END:STANDARD
BEGIN:DAYLIGHT
TZOFFSETFROM:+0100
TZOFFSETTO:+0200
TZNAME:CEST
DTSTART:20280326T010000
END:DAYLIGHT
BEGIN:STANDARD
TZOFFSETFROM:+0200
TZOFFSETTO:+0100
TZNAME:CET
DTSTART:20281029T010000
END:STANDARD
END:VTIMEZONE
BEGIN:VEVENT
DTSTART;TZID=Europe/Budapest:20270705T164500
DTEND;TZID=Europe/Budapest:20270705T174500
DTSTAMP:20260424T150339
CREATED:20260310T114641Z
LAST-MODIFIED:20260310T114659Z
UID:10003553-1814805900-1814809500@mikepercsifoci.hu
SUMMARY:U13 edzés
DESCRIPTION:
URL:https://mikepercsifoci.hu/esemeny/u13-edzes-4/2027-07-05/
LOCATION:Mikepércsi Sportpálya\, Sport utca 4.\, Mikepércs\, 4271\, Hungary
CATEGORIES:U13 edzések
END:VEVENT
BEGIN:VEVENT
DTSTART;TZID=Europe/Budapest:20270706T164500
DTEND;TZID=Europe/Budapest:20270706T174500
DTSTAMP:20260424T150339
CREATED:20260104T105654Z
LAST-MODIFIED:20260310T114240Z
UID:10002503-1814892300-1814895900@mikepercsifoci.hu
SUMMARY:U9 edzés
DESCRIPTION:
URL:https://mikepercsifoci.hu/esemeny/u9-edzes-3/2027-07-06/
LOCATION:Mikepércsi Sportpálya\, Sport utca 4.\, Mikepércs\, 4271\, Hungary
CATEGORIES:U9 edzések
END:VEVENT
BEGIN:VEVENT
DTSTART;TZID=Europe/Budapest:20270707T164500
DTEND;TZID=Europe/Budapest:20270707T174500
DTSTAMP:20260424T150339
CREATED:20260310T114518Z
LAST-MODIFIED:20260310T114548Z
UID:10003294-1814978700-1814982300@mikepercsifoci.hu
SUMMARY:U13 edzés
DESCRIPTION:
URL:https://mikepercsifoci.hu/esemeny/u13-edzes-2-2-2/2027-07-07/
LOCATION:Mikepércsi Sportpálya\, Sport utca 4.\, Mikepércs\, 4271\, Hungary
CATEGORIES:U13 edzések
END:VEVENT
BEGIN:VEVENT
DTSTART;TZID=Europe/Budapest:20270708T164500
DTEND;TZID=Europe/Budapest:20270708T174500
DTSTAMP:20260424T150339
CREATED:20260104T105556Z
LAST-MODIFIED:20260310T114146Z
UID:10002233-1815065100-1815068700@mikepercsifoci.hu
SUMMARY:U9 edzés
DESCRIPTION:
URL:https://mikepercsifoci.hu/esemeny/u9-edzes-2-2/2027-07-08/
LOCATION:Mikepércsi Sportpálya\, Sport utca 4.\, Mikepércs\, 4271\, Hungary
CATEGORIES:U9 edzések
END:VEVENT
BEGIN:VEVENT
DTSTART;TZID=Europe/Budapest:20270709T164500
DTEND;TZID=Europe/Budapest:20270709T174500
DTSTAMP:20260424T150339
CREATED:20260104T110102Z
LAST-MODIFIED:20260310T114423Z
UID:10002773-1815151500-1815155100@mikepercsifoci.hu
SUMMARY:U13 edzés
DESCRIPTION:
URL:https://mikepercsifoci.hu/esemeny/u13-edzes-3/2027-07-09/
LOCATION:Mikepércsi Sportpálya\, Sport utca 4.\, Mikepércs\, 4271\, Hungary
CATEGORIES:U13 edzések
END:VEVENT
BEGIN:VEVENT
DTSTART;TZID=Europe/Budapest:20270712T164500
DTEND;TZID=Europe/Budapest:20270712T174500
DTSTAMP:20260424T150339
CREATED:20260310T114641Z
LAST-MODIFIED:20260310T114659Z
UID:10003554-1815410700-1815414300@mikepercsifoci.hu
SUMMARY:U13 edzés
DESCRIPTION:
URL:https://mikepercsifoci.hu/esemeny/u13-edzes-4/2027-07-12/
LOCATION:Mikepércsi Sportpálya\, Sport utca 4.\, Mikepércs\, 4271\, Hungary
CATEGORIES:U13 edzések
END:VEVENT
BEGIN:VEVENT
DTSTART;TZID=Europe/Budapest:20270713T164500
DTEND;TZID=Europe/Budapest:20270713T174500
DTSTAMP:20260424T150339
CREATED:20260104T105654Z
LAST-MODIFIED:20260310T114240Z
UID:10002504-1815497100-1815500700@mikepercsifoci.hu
SUMMARY:U9 edzés
DESCRIPTION:
URL:https://mikepercsifoci.hu/esemeny/u9-edzes-3/2027-07-13/
LOCATION:Mikepércsi Sportpálya\, Sport utca 4.\, Mikepércs\, 4271\, Hungary
CATEGORIES:U9 edzések
END:VEVENT
BEGIN:VEVENT
DTSTART;TZID=Europe/Budapest:20270714T164500
DTEND;TZID=Europe/Budapest:20270714T174500
DTSTAMP:20260424T150339
CREATED:20260310T114518Z
LAST-MODIFIED:20260310T114548Z
UID:10003295-1815583500-1815587100@mikepercsifoci.hu
SUMMARY:U13 edzés
DESCRIPTION:
URL:https://mikepercsifoci.hu/esemeny/u13-edzes-2-2-2/2027-07-14/
LOCATION:Mikepércsi Sportpálya\, Sport utca 4.\, Mikepércs\, 4271\, Hungary
CATEGORIES:U13 edzések
END:VEVENT
BEGIN:VEVENT
DTSTART;TZID=Europe/Budapest:20270715T164500
DTEND;TZID=Europe/Budapest:20270715T174500
DTSTAMP:20260424T150339
CREATED:20260104T105556Z
LAST-MODIFIED:20260310T114146Z
UID:10002234-1815669900-1815673500@mikepercsifoci.hu
SUMMARY:U9 edzés
DESCRIPTION:
URL:https://mikepercsifoci.hu/esemeny/u9-edzes-2-2/2027-07-15/
LOCATION:Mikepércsi Sportpálya\, Sport utca 4.\, Mikepércs\, 4271\, Hungary
CATEGORIES:U9 edzések
END:VEVENT
BEGIN:VEVENT
DTSTART;TZID=Europe/Budapest:20270716T164500
DTEND;TZID=Europe/Budapest:20270716T174500
DTSTAMP:20260424T150340
CREATED:20260104T110102Z
LAST-MODIFIED:20260310T114423Z
UID:10002774-1815756300-1815759900@mikepercsifoci.hu
SUMMARY:U13 edzés
DESCRIPTION:
URL:https://mikepercsifoci.hu/esemeny/u13-edzes-3/2027-07-16/
LOCATION:Mikepércsi Sportpálya\, Sport utca 4.\, Mikepércs\, 4271\, Hungary
CATEGORIES:U13 edzések
END:VEVENT
BEGIN:VEVENT
DTSTART;TZID=Europe/Budapest:20270719T164500
DTEND;TZID=Europe/Budapest:20270719T174500
DTSTAMP:20260424T150340
CREATED:20260310T114641Z
LAST-MODIFIED:20260310T114659Z
UID:10003555-1816015500-1816019100@mikepercsifoci.hu
SUMMARY:U13 edzés
DESCRIPTION:
URL:https://mikepercsifoci.hu/esemeny/u13-edzes-4/2027-07-19/
LOCATION:Mikepércsi Sportpálya\, Sport utca 4.\, Mikepércs\, 4271\, Hungary
CATEGORIES:U13 edzések
END:VEVENT
BEGIN:VEVENT
DTSTART;TZID=Europe/Budapest:20270720T164500
DTEND;TZID=Europe/Budapest:20270720T174500
DTSTAMP:20260424T150340
CREATED:20260104T105654Z
LAST-MODIFIED:20260310T114240Z
UID:10002505-1816101900-1816105500@mikepercsifoci.hu
SUMMARY:U9 edzés
DESCRIPTION:
URL:https://mikepercsifoci.hu/esemeny/u9-edzes-3/2027-07-20/
LOCATION:Mikepércsi Sportpálya\, Sport utca 4.\, Mikepércs\, 4271\, Hungary
CATEGORIES:U9 edzések
END:VEVENT
BEGIN:VEVENT
DTSTART;TZID=Europe/Budapest:20270721T164500
DTEND;TZID=Europe/Budapest:20270721T174500
DTSTAMP:20260424T150340
CREATED:20260310T114518Z
LAST-MODIFIED:20260310T114548Z
UID:10003296-1816188300-1816191900@mikepercsifoci.hu
SUMMARY:U13 edzés
DESCRIPTION:
URL:https://mikepercsifoci.hu/esemeny/u13-edzes-2-2-2/2027-07-21/
LOCATION:Mikepércsi Sportpálya\, Sport utca 4.\, Mikepércs\, 4271\, Hungary
CATEGORIES:U13 edzések
END:VEVENT
BEGIN:VEVENT
DTSTART;TZID=Europe/Budapest:20270722T164500
DTEND;TZID=Europe/Budapest:20270722T174500
DTSTAMP:20260424T150340
CREATED:20260104T105556Z
LAST-MODIFIED:20260310T114146Z
UID:10002235-1816274700-1816278300@mikepercsifoci.hu
SUMMARY:U9 edzés
DESCRIPTION:
URL:https://mikepercsifoci.hu/esemeny/u9-edzes-2-2/2027-07-22/
LOCATION:Mikepércsi Sportpálya\, Sport utca 4.\, Mikepércs\, 4271\, Hungary
CATEGORIES:U9 edzések
END:VEVENT
BEGIN:VEVENT
DTSTART;TZID=Europe/Budapest:20270723T164500
DTEND;TZID=Europe/Budapest:20270723T174500
DTSTAMP:20260424T150340
CREATED:20260104T110102Z
LAST-MODIFIED:20260310T114423Z
UID:10002775-1816361100-1816364700@mikepercsifoci.hu
SUMMARY:U13 edzés
DESCRIPTION:
URL:https://mikepercsifoci.hu/esemeny/u13-edzes-3/2027-07-23/
LOCATION:Mikepércsi Sportpálya\, Sport utca 4.\, Mikepércs\, 4271\, Hungary
CATEGORIES:U13 edzések
END:VEVENT
BEGIN:VEVENT
DTSTART;TZID=Europe/Budapest:20270726T164500
DTEND;TZID=Europe/Budapest:20270726T174500
DTSTAMP:20260424T150340
CREATED:20260310T114641Z
LAST-MODIFIED:20260310T114659Z
UID:10003556-1816620300-1816623900@mikepercsifoci.hu
SUMMARY:U13 edzés
DESCRIPTION:
URL:https://mikepercsifoci.hu/esemeny/u13-edzes-4/2027-07-26/
LOCATION:Mikepércsi Sportpálya\, Sport utca 4.\, Mikepércs\, 4271\, Hungary
CATEGORIES:U13 edzések
END:VEVENT
BEGIN:VEVENT
DTSTART;TZID=Europe/Budapest:20270727T164500
DTEND;TZID=Europe/Budapest:20270727T174500
DTSTAMP:20260424T150340
CREATED:20260104T105654Z
LAST-MODIFIED:20260310T114240Z
UID:10002506-1816706700-1816710300@mikepercsifoci.hu
SUMMARY:U9 edzés
DESCRIPTION:
URL:https://mikepercsifoci.hu/esemeny/u9-edzes-3/2027-07-27/
LOCATION:Mikepércsi Sportpálya\, Sport utca 4.\, Mikepércs\, 4271\, Hungary
CATEGORIES:U9 edzések
END:VEVENT
BEGIN:VEVENT
DTSTART;TZID=Europe/Budapest:20270728T164500
DTEND;TZID=Europe/Budapest:20270728T174500
DTSTAMP:20260424T150340
CREATED:20260310T114518Z
LAST-MODIFIED:20260310T114548Z
UID:10003297-1816793100-1816796700@mikepercsifoci.hu
SUMMARY:U13 edzés
DESCRIPTION:
URL:https://mikepercsifoci.hu/esemeny/u13-edzes-2-2-2/2027-07-28/
LOCATION:Mikepércsi Sportpálya\, Sport utca 4.\, Mikepércs\, 4271\, Hungary
CATEGORIES:U13 edzések
END:VEVENT
BEGIN:VEVENT
DTSTART;TZID=Europe/Budapest:20270729T164500
DTEND;TZID=Europe/Budapest:20270729T174500
DTSTAMP:20260424T150340
CREATED:20260104T105556Z
LAST-MODIFIED:20260310T114146Z
UID:10002236-1816879500-1816883100@mikepercsifoci.hu
SUMMARY:U9 edzés
DESCRIPTION:
URL:https://mikepercsifoci.hu/esemeny/u9-edzes-2-2/2027-07-29/
LOCATION:Mikepércsi Sportpálya\, Sport utca 4.\, Mikepércs\, 4271\, Hungary
CATEGORIES:U9 edzések
END:VEVENT
BEGIN:VEVENT
DTSTART;TZID=Europe/Budapest:20270730T164500
DTEND;TZID=Europe/Budapest:20270730T174500
DTSTAMP:20260424T150340
CREATED:20260104T110102Z
LAST-MODIFIED:20260310T114423Z
UID:10002776-1816965900-1816969500@mikepercsifoci.hu
SUMMARY:U13 edzés
DESCRIPTION:
URL:https://mikepercsifoci.hu/esemeny/u13-edzes-3/2027-07-30/
LOCATION:Mikepércsi Sportpálya\, Sport utca 4.\, Mikepércs\, 4271\, Hungary
CATEGORIES:U13 edzések
END:VEVENT
BEGIN:VEVENT
DTSTART;TZID=Europe/Budapest:20270802T164500
DTEND;TZID=Europe/Budapest:20270802T174500
DTSTAMP:20260424T150340
CREATED:20260310T114641Z
LAST-MODIFIED:20260310T114659Z
UID:10003557-1817225100-1817228700@mikepercsifoci.hu
SUMMARY:U13 edzés
DESCRIPTION:
URL:https://mikepercsifoci.hu/esemeny/u13-edzes-4/2027-08-02/
LOCATION:Mikepércsi Sportpálya\, Sport utca 4.\, Mikepércs\, 4271\, Hungary
CATEGORIES:U13 edzések
END:VEVENT
BEGIN:VEVENT
DTSTART;TZID=Europe/Budapest:20270803T164500
DTEND;TZID=Europe/Budapest:20270803T174500
DTSTAMP:20260424T150340
CREATED:20260104T105654Z
LAST-MODIFIED:20260310T114240Z
UID:10002507-1817311500-1817315100@mikepercsifoci.hu
SUMMARY:U9 edzés
DESCRIPTION:
URL:https://mikepercsifoci.hu/esemeny/u9-edzes-3/2027-08-03/
LOCATION:Mikepércsi Sportpálya\, Sport utca 4.\, Mikepércs\, 4271\, Hungary
CATEGORIES:U9 edzések
END:VEVENT
BEGIN:VEVENT
DTSTART;TZID=Europe/Budapest:20270804T164500
DTEND;TZID=Europe/Budapest:20270804T174500
DTSTAMP:20260424T150340
CREATED:20260310T114518Z
LAST-MODIFIED:20260310T114548Z
UID:10003298-1817397900-1817401500@mikepercsifoci.hu
SUMMARY:U13 edzés
DESCRIPTION:
URL:https://mikepercsifoci.hu/esemeny/u13-edzes-2-2-2/2027-08-04/
LOCATION:Mikepércsi Sportpálya\, Sport utca 4.\, Mikepércs\, 4271\, Hungary
CATEGORIES:U13 edzések
END:VEVENT
BEGIN:VEVENT
DTSTART;TZID=Europe/Budapest:20270805T164500
DTEND;TZID=Europe/Budapest:20270805T174500
DTSTAMP:20260424T150340
CREATED:20260104T105556Z
LAST-MODIFIED:20260310T114146Z
UID:10002237-1817484300-1817487900@mikepercsifoci.hu
SUMMARY:U9 edzés
DESCRIPTION:
URL:https://mikepercsifoci.hu/esemeny/u9-edzes-2-2/2027-08-05/
LOCATION:Mikepércsi Sportpálya\, Sport utca 4.\, Mikepércs\, 4271\, Hungary
CATEGORIES:U9 edzések
END:VEVENT
BEGIN:VEVENT
DTSTART;TZID=Europe/Budapest:20270806T164500
DTEND;TZID=Europe/Budapest:20270806T174500
DTSTAMP:20260424T150340
CREATED:20260104T110102Z
LAST-MODIFIED:20260310T114423Z
UID:10002777-1817570700-1817574300@mikepercsifoci.hu
SUMMARY:U13 edzés
DESCRIPTION:
URL:https://mikepercsifoci.hu/esemeny/u13-edzes-3/2027-08-06/
LOCATION:Mikepércsi Sportpálya\, Sport utca 4.\, Mikepércs\, 4271\, Hungary
CATEGORIES:U13 edzések
END:VEVENT
BEGIN:VEVENT
DTSTART;TZID=Europe/Budapest:20270809T164500
DTEND;TZID=Europe/Budapest:20270809T174500
DTSTAMP:20260424T150340
CREATED:20260310T114641Z
LAST-MODIFIED:20260310T114659Z
UID:10003558-1817829900-1817833500@mikepercsifoci.hu
SUMMARY:U13 edzés
DESCRIPTION:
URL:https://mikepercsifoci.hu/esemeny/u13-edzes-4/2027-08-09/
LOCATION:Mikepércsi Sportpálya\, Sport utca 4.\, Mikepércs\, 4271\, Hungary
CATEGORIES:U13 edzések
END:VEVENT
BEGIN:VEVENT
DTSTART;TZID=Europe/Budapest:20270810T164500
DTEND;TZID=Europe/Budapest:20270810T174500
DTSTAMP:20260424T150340
CREATED:20260104T105654Z
LAST-MODIFIED:20260310T114240Z
UID:10002508-1817916300-1817919900@mikepercsifoci.hu
SUMMARY:U9 edzés
DESCRIPTION:
URL:https://mikepercsifoci.hu/esemeny/u9-edzes-3/2027-08-10/
LOCATION:Mikepércsi Sportpálya\, Sport utca 4.\, Mikepércs\, 4271\, Hungary
CATEGORIES:U9 edzések
END:VEVENT
BEGIN:VEVENT
DTSTART;TZID=Europe/Budapest:20270811T164500
DTEND;TZID=Europe/Budapest:20270811T174500
DTSTAMP:20260424T150340
CREATED:20260310T114518Z
LAST-MODIFIED:20260310T114548Z
UID:10003299-1818002700-1818006300@mikepercsifoci.hu
SUMMARY:U13 edzés
DESCRIPTION:
URL:https://mikepercsifoci.hu/esemeny/u13-edzes-2-2-2/2027-08-11/
LOCATION:Mikepércsi Sportpálya\, Sport utca 4.\, Mikepércs\, 4271\, Hungary
CATEGORIES:U13 edzések
END:VEVENT
BEGIN:VEVENT
DTSTART;TZID=Europe/Budapest:20270812T164500
DTEND;TZID=Europe/Budapest:20270812T174500
DTSTAMP:20260424T150340
CREATED:20260104T105556Z
LAST-MODIFIED:20260310T114146Z
UID:10002238-1818089100-1818092700@mikepercsifoci.hu
SUMMARY:U9 edzés
DESCRIPTION:
URL:https://mikepercsifoci.hu/esemeny/u9-edzes-2-2/2027-08-12/
LOCATION:Mikepércsi Sportpálya\, Sport utca 4.\, Mikepércs\, 4271\, Hungary
CATEGORIES:U9 edzések
END:VEVENT
BEGIN:VEVENT
DTSTART;TZID=Europe/Budapest:20270813T164500
DTEND;TZID=Europe/Budapest:20270813T174500
DTSTAMP:20260424T150340
CREATED:20260104T110102Z
LAST-MODIFIED:20260310T114423Z
UID:10002778-1818175500-1818179100@mikepercsifoci.hu
SUMMARY:U13 edzés
DESCRIPTION:
URL:https://mikepercsifoci.hu/esemeny/u13-edzes-3/2027-08-13/
LOCATION:Mikepércsi Sportpálya\, Sport utca 4.\, Mikepércs\, 4271\, Hungary
CATEGORIES:U13 edzések
END:VEVENT
END:VCALENDAR