BEGIN:VCALENDAR
VERSION:2.0
PRODID:-//Mikepércsi Foci - ECPv6.15.12.2//NONSGML v1.0//EN
CALSCALE:GREGORIAN
METHOD:PUBLISH
X-WR-CALNAME:Mikepércsi Foci
X-ORIGINAL-URL:https://mikepercsifoci.hu
X-WR-CALDESC:Események Mikepércsi Foci
REFRESH-INTERVAL;VALUE=DURATION:PT1H
X-Robots-Tag:noindex
X-PUBLISHED-TTL:PT1H
BEGIN:VTIMEZONE
TZID:Europe/Budapest
BEGIN:DAYLIGHT
TZOFFSETFROM:+0100
TZOFFSETTO:+0200
TZNAME:CEST
DTSTART:20270328T010000
END:DAYLIGHT
BEGIN:STANDARD
TZOFFSETFROM:+0200
TZOFFSETTO:+0100
TZNAME:CET
DTSTART:20271031T010000
END:STANDARD
BEGIN:DAYLIGHT
TZOFFSETFROM:+0100
TZOFFSETTO:+0200
TZNAME:CEST
DTSTART:20280326T010000
END:DAYLIGHT
BEGIN:STANDARD
TZOFFSETFROM:+0200
TZOFFSETTO:+0100
TZNAME:CET
DTSTART:20281029T010000
END:STANDARD
BEGIN:DAYLIGHT
TZOFFSETFROM:+0100
TZOFFSETTO:+0200
TZNAME:CEST
DTSTART:20290325T010000
END:DAYLIGHT
BEGIN:STANDARD
TZOFFSETFROM:+0200
TZOFFSETTO:+0100
TZNAME:CET
DTSTART:20291028T010000
END:STANDARD
END:VTIMEZONE
BEGIN:VEVENT
DTSTART;TZID=Europe/Budapest:20280330T164500
DTEND;TZID=Europe/Budapest:20280330T174500
DTSTAMP:20260425T160612
CREATED:20260104T105556Z
LAST-MODIFIED:20260310T114146Z
UID:10002271-1838047500-1838051100@mikepercsifoci.hu
SUMMARY:U9 edzés
DESCRIPTION:
URL:https://mikepercsifoci.hu/esemeny/u9-edzes-2-2/2028-03-30/
LOCATION:Mikepércsi Sportpálya\, Sport utca 4.\, Mikepércs\, 4271\, Hungary
CATEGORIES:U9 edzések
END:VEVENT
BEGIN:VEVENT
DTSTART;TZID=Europe/Budapest:20280331T164500
DTEND;TZID=Europe/Budapest:20280331T174500
DTSTAMP:20260425T160612
CREATED:20260104T110102Z
LAST-MODIFIED:20260310T114423Z
UID:10002811-1838133900-1838137500@mikepercsifoci.hu
SUMMARY:U13 edzés
DESCRIPTION:
URL:https://mikepercsifoci.hu/esemeny/u13-edzes-3/2028-03-31/
LOCATION:Mikepércsi Sportpálya\, Sport utca 4.\, Mikepércs\, 4271\, Hungary
CATEGORIES:U13 edzések
END:VEVENT
BEGIN:VEVENT
DTSTART;TZID=Europe/Budapest:20280403T164500
DTEND;TZID=Europe/Budapest:20280403T174500
DTSTAMP:20260425T160612
CREATED:20260310T114641Z
LAST-MODIFIED:20260310T114659Z
UID:10003592-1838393100-1838396700@mikepercsifoci.hu
SUMMARY:U13 edzés
DESCRIPTION:
URL:https://mikepercsifoci.hu/esemeny/u13-edzes-4/2028-04-03/
LOCATION:Mikepércsi Sportpálya\, Sport utca 4.\, Mikepércs\, 4271\, Hungary
CATEGORIES:U13 edzések
END:VEVENT
BEGIN:VEVENT
DTSTART;TZID=Europe/Budapest:20280404T164500
DTEND;TZID=Europe/Budapest:20280404T174500
DTSTAMP:20260425T160612
CREATED:20260104T105654Z
LAST-MODIFIED:20260310T114240Z
UID:10002542-1838479500-1838483100@mikepercsifoci.hu
SUMMARY:U9 edzés
DESCRIPTION:
URL:https://mikepercsifoci.hu/esemeny/u9-edzes-3/2028-04-04/
LOCATION:Mikepércsi Sportpálya\, Sport utca 4.\, Mikepércs\, 4271\, Hungary
CATEGORIES:U9 edzések
END:VEVENT
BEGIN:VEVENT
DTSTART;TZID=Europe/Budapest:20280405T164500
DTEND;TZID=Europe/Budapest:20280405T174500
DTSTAMP:20260425T160612
CREATED:20260310T114518Z
LAST-MODIFIED:20260310T114548Z
UID:10003333-1838565900-1838569500@mikepercsifoci.hu
SUMMARY:U13 edzés
DESCRIPTION:
URL:https://mikepercsifoci.hu/esemeny/u13-edzes-2-2-2/2028-04-05/
LOCATION:Mikepércsi Sportpálya\, Sport utca 4.\, Mikepércs\, 4271\, Hungary
CATEGORIES:U13 edzések
END:VEVENT
BEGIN:VEVENT
DTSTART;TZID=Europe/Budapest:20280406T164500
DTEND;TZID=Europe/Budapest:20280406T174500
DTSTAMP:20260425T160612
CREATED:20260104T105556Z
LAST-MODIFIED:20260310T114146Z
UID:10002272-1838652300-1838655900@mikepercsifoci.hu
SUMMARY:U9 edzés
DESCRIPTION:
URL:https://mikepercsifoci.hu/esemeny/u9-edzes-2-2/2028-04-06/
LOCATION:Mikepércsi Sportpálya\, Sport utca 4.\, Mikepércs\, 4271\, Hungary
CATEGORIES:U9 edzések
END:VEVENT
BEGIN:VEVENT
DTSTART;TZID=Europe/Budapest:20280407T164500
DTEND;TZID=Europe/Budapest:20280407T174500
DTSTAMP:20260425T160612
CREATED:20260104T110102Z
LAST-MODIFIED:20260310T114423Z
UID:10002812-1838738700-1838742300@mikepercsifoci.hu
SUMMARY:U13 edzés
DESCRIPTION:
URL:https://mikepercsifoci.hu/esemeny/u13-edzes-3/2028-04-07/
LOCATION:Mikepércsi Sportpálya\, Sport utca 4.\, Mikepércs\, 4271\, Hungary
CATEGORIES:U13 edzések
END:VEVENT
BEGIN:VEVENT
DTSTART;TZID=Europe/Budapest:20280410T164500
DTEND;TZID=Europe/Budapest:20280410T174500
DTSTAMP:20260425T160612
CREATED:20260310T114641Z
LAST-MODIFIED:20260310T114659Z
UID:10003593-1838997900-1839001500@mikepercsifoci.hu
SUMMARY:U13 edzés
DESCRIPTION:
URL:https://mikepercsifoci.hu/esemeny/u13-edzes-4/2028-04-10/
LOCATION:Mikepércsi Sportpálya\, Sport utca 4.\, Mikepércs\, 4271\, Hungary
CATEGORIES:U13 edzések
END:VEVENT
BEGIN:VEVENT
DTSTART;TZID=Europe/Budapest:20280411T164500
DTEND;TZID=Europe/Budapest:20280411T174500
DTSTAMP:20260425T160612
CREATED:20260104T105654Z
LAST-MODIFIED:20260310T114240Z
UID:10002543-1839084300-1839087900@mikepercsifoci.hu
SUMMARY:U9 edzés
DESCRIPTION:
URL:https://mikepercsifoci.hu/esemeny/u9-edzes-3/2028-04-11/
LOCATION:Mikepércsi Sportpálya\, Sport utca 4.\, Mikepércs\, 4271\, Hungary
CATEGORIES:U9 edzések
END:VEVENT
BEGIN:VEVENT
DTSTART;TZID=Europe/Budapest:20280412T164500
DTEND;TZID=Europe/Budapest:20280412T174500
DTSTAMP:20260425T160612
CREATED:20260310T114518Z
LAST-MODIFIED:20260310T114548Z
UID:10003334-1839170700-1839174300@mikepercsifoci.hu
SUMMARY:U13 edzés
DESCRIPTION:
URL:https://mikepercsifoci.hu/esemeny/u13-edzes-2-2-2/2028-04-12/
LOCATION:Mikepércsi Sportpálya\, Sport utca 4.\, Mikepércs\, 4271\, Hungary
CATEGORIES:U13 edzések
END:VEVENT
BEGIN:VEVENT
DTSTART;TZID=Europe/Budapest:20280413T164500
DTEND;TZID=Europe/Budapest:20280413T174500
DTSTAMP:20260425T160612
CREATED:20260104T105556Z
LAST-MODIFIED:20260310T114146Z
UID:10002273-1839257100-1839260700@mikepercsifoci.hu
SUMMARY:U9 edzés
DESCRIPTION:
URL:https://mikepercsifoci.hu/esemeny/u9-edzes-2-2/2028-04-13/
LOCATION:Mikepércsi Sportpálya\, Sport utca 4.\, Mikepércs\, 4271\, Hungary
CATEGORIES:U9 edzések
END:VEVENT
BEGIN:VEVENT
DTSTART;TZID=Europe/Budapest:20280414T164500
DTEND;TZID=Europe/Budapest:20280414T174500
DTSTAMP:20260425T160612
CREATED:20260104T110102Z
LAST-MODIFIED:20260310T114423Z
UID:10002813-1839343500-1839347100@mikepercsifoci.hu
SUMMARY:U13 edzés
DESCRIPTION:
URL:https://mikepercsifoci.hu/esemeny/u13-edzes-3/2028-04-14/
LOCATION:Mikepércsi Sportpálya\, Sport utca 4.\, Mikepércs\, 4271\, Hungary
CATEGORIES:U13 edzések
END:VEVENT
BEGIN:VEVENT
DTSTART;TZID=Europe/Budapest:20280417T164500
DTEND;TZID=Europe/Budapest:20280417T174500
DTSTAMP:20260425T160612
CREATED:20260310T114641Z
LAST-MODIFIED:20260310T114659Z
UID:10003594-1839602700-1839606300@mikepercsifoci.hu
SUMMARY:U13 edzés
DESCRIPTION:
URL:https://mikepercsifoci.hu/esemeny/u13-edzes-4/2028-04-17/
LOCATION:Mikepércsi Sportpálya\, Sport utca 4.\, Mikepércs\, 4271\, Hungary
CATEGORIES:U13 edzések
END:VEVENT
BEGIN:VEVENT
DTSTART;TZID=Europe/Budapest:20280418T164500
DTEND;TZID=Europe/Budapest:20280418T174500
DTSTAMP:20260425T160612
CREATED:20260104T105654Z
LAST-MODIFIED:20260310T114240Z
UID:10002544-1839689100-1839692700@mikepercsifoci.hu
SUMMARY:U9 edzés
DESCRIPTION:
URL:https://mikepercsifoci.hu/esemeny/u9-edzes-3/2028-04-18/
LOCATION:Mikepércsi Sportpálya\, Sport utca 4.\, Mikepércs\, 4271\, Hungary
CATEGORIES:U9 edzések
END:VEVENT
BEGIN:VEVENT
DTSTART;TZID=Europe/Budapest:20280419T164500
DTEND;TZID=Europe/Budapest:20280419T174500
DTSTAMP:20260425T160612
CREATED:20260310T114518Z
LAST-MODIFIED:20260310T114548Z
UID:10003335-1839775500-1839779100@mikepercsifoci.hu
SUMMARY:U13 edzés
DESCRIPTION:
URL:https://mikepercsifoci.hu/esemeny/u13-edzes-2-2-2/2028-04-19/
LOCATION:Mikepércsi Sportpálya\, Sport utca 4.\, Mikepércs\, 4271\, Hungary
CATEGORIES:U13 edzések
END:VEVENT
BEGIN:VEVENT
DTSTART;TZID=Europe/Budapest:20280420T164500
DTEND;TZID=Europe/Budapest:20280420T174500
DTSTAMP:20260425T160612
CREATED:20260104T105556Z
LAST-MODIFIED:20260310T114146Z
UID:10002274-1839861900-1839865500@mikepercsifoci.hu
SUMMARY:U9 edzés
DESCRIPTION:
URL:https://mikepercsifoci.hu/esemeny/u9-edzes-2-2/2028-04-20/
LOCATION:Mikepércsi Sportpálya\, Sport utca 4.\, Mikepércs\, 4271\, Hungary
CATEGORIES:U9 edzések
END:VEVENT
BEGIN:VEVENT
DTSTART;TZID=Europe/Budapest:20280421T164500
DTEND;TZID=Europe/Budapest:20280421T174500
DTSTAMP:20260425T160612
CREATED:20260104T110102Z
LAST-MODIFIED:20260310T114423Z
UID:10002814-1839948300-1839951900@mikepercsifoci.hu
SUMMARY:U13 edzés
DESCRIPTION:
URL:https://mikepercsifoci.hu/esemeny/u13-edzes-3/2028-04-21/
LOCATION:Mikepércsi Sportpálya\, Sport utca 4.\, Mikepércs\, 4271\, Hungary
CATEGORIES:U13 edzések
END:VEVENT
BEGIN:VEVENT
DTSTART;TZID=Europe/Budapest:20280424T164500
DTEND;TZID=Europe/Budapest:20280424T174500
DTSTAMP:20260425T160612
CREATED:20260310T114641Z
LAST-MODIFIED:20260310T114659Z
UID:10003595-1840207500-1840211100@mikepercsifoci.hu
SUMMARY:U13 edzés
DESCRIPTION:
URL:https://mikepercsifoci.hu/esemeny/u13-edzes-4/2028-04-24/
LOCATION:Mikepércsi Sportpálya\, Sport utca 4.\, Mikepércs\, 4271\, Hungary
CATEGORIES:U13 edzések
END:VEVENT
BEGIN:VEVENT
DTSTART;TZID=Europe/Budapest:20280425T164500
DTEND;TZID=Europe/Budapest:20280425T174500
DTSTAMP:20260425T160612
CREATED:20260104T105654Z
LAST-MODIFIED:20260310T114240Z
UID:10002545-1840293900-1840297500@mikepercsifoci.hu
SUMMARY:U9 edzés
DESCRIPTION:
URL:https://mikepercsifoci.hu/esemeny/u9-edzes-3/2028-04-25/
LOCATION:Mikepércsi Sportpálya\, Sport utca 4.\, Mikepércs\, 4271\, Hungary
CATEGORIES:U9 edzések
END:VEVENT
BEGIN:VEVENT
DTSTART;TZID=Europe/Budapest:20280426T164500
DTEND;TZID=Europe/Budapest:20280426T174500
DTSTAMP:20260425T160612
CREATED:20260310T114518Z
LAST-MODIFIED:20260310T114548Z
UID:10003336-1840380300-1840383900@mikepercsifoci.hu
SUMMARY:U13 edzés
DESCRIPTION:
URL:https://mikepercsifoci.hu/esemeny/u13-edzes-2-2-2/2028-04-26/
LOCATION:Mikepércsi Sportpálya\, Sport utca 4.\, Mikepércs\, 4271\, Hungary
CATEGORIES:U13 edzések
END:VEVENT
BEGIN:VEVENT
DTSTART;TZID=Europe/Budapest:20280427T164500
DTEND;TZID=Europe/Budapest:20280427T174500
DTSTAMP:20260425T160612
CREATED:20260104T105556Z
LAST-MODIFIED:20260310T114146Z
UID:10002275-1840466700-1840470300@mikepercsifoci.hu
SUMMARY:U9 edzés
DESCRIPTION:
URL:https://mikepercsifoci.hu/esemeny/u9-edzes-2-2/2028-04-27/
LOCATION:Mikepércsi Sportpálya\, Sport utca 4.\, Mikepércs\, 4271\, Hungary
CATEGORIES:U9 edzések
END:VEVENT
BEGIN:VEVENT
DTSTART;TZID=Europe/Budapest:20280428T164500
DTEND;TZID=Europe/Budapest:20280428T174500
DTSTAMP:20260425T160612
CREATED:20260104T110102Z
LAST-MODIFIED:20260310T114423Z
UID:10002815-1840553100-1840556700@mikepercsifoci.hu
SUMMARY:U13 edzés
DESCRIPTION:
URL:https://mikepercsifoci.hu/esemeny/u13-edzes-3/2028-04-28/
LOCATION:Mikepércsi Sportpálya\, Sport utca 4.\, Mikepércs\, 4271\, Hungary
CATEGORIES:U13 edzések
END:VEVENT
BEGIN:VEVENT
DTSTART;TZID=Europe/Budapest:20280501T164500
DTEND;TZID=Europe/Budapest:20280501T174500
DTSTAMP:20260425T160612
CREATED:20260310T114641Z
LAST-MODIFIED:20260310T114659Z
UID:10003596-1840812300-1840815900@mikepercsifoci.hu
SUMMARY:U13 edzés
DESCRIPTION:
URL:https://mikepercsifoci.hu/esemeny/u13-edzes-4/2028-05-01/
LOCATION:Mikepércsi Sportpálya\, Sport utca 4.\, Mikepércs\, 4271\, Hungary
CATEGORIES:U13 edzések
END:VEVENT
BEGIN:VEVENT
DTSTART;TZID=Europe/Budapest:20280502T164500
DTEND;TZID=Europe/Budapest:20280502T174500
DTSTAMP:20260425T160612
CREATED:20260104T105654Z
LAST-MODIFIED:20260310T114240Z
UID:10002546-1840898700-1840902300@mikepercsifoci.hu
SUMMARY:U9 edzés
DESCRIPTION:
URL:https://mikepercsifoci.hu/esemeny/u9-edzes-3/2028-05-02/
LOCATION:Mikepércsi Sportpálya\, Sport utca 4.\, Mikepércs\, 4271\, Hungary
CATEGORIES:U9 edzések
END:VEVENT
BEGIN:VEVENT
DTSTART;TZID=Europe/Budapest:20280503T164500
DTEND;TZID=Europe/Budapest:20280503T174500
DTSTAMP:20260425T160612
CREATED:20260310T114518Z
LAST-MODIFIED:20260310T114548Z
UID:10003337-1840985100-1840988700@mikepercsifoci.hu
SUMMARY:U13 edzés
DESCRIPTION:
URL:https://mikepercsifoci.hu/esemeny/u13-edzes-2-2-2/2028-05-03/
LOCATION:Mikepércsi Sportpálya\, Sport utca 4.\, Mikepércs\, 4271\, Hungary
CATEGORIES:U13 edzések
END:VEVENT
BEGIN:VEVENT
DTSTART;TZID=Europe/Budapest:20280504T164500
DTEND;TZID=Europe/Budapest:20280504T174500
DTSTAMP:20260425T160612
CREATED:20260104T105556Z
LAST-MODIFIED:20260310T114146Z
UID:10002276-1841071500-1841075100@mikepercsifoci.hu
SUMMARY:U9 edzés
DESCRIPTION:
URL:https://mikepercsifoci.hu/esemeny/u9-edzes-2-2/2028-05-04/
LOCATION:Mikepércsi Sportpálya\, Sport utca 4.\, Mikepércs\, 4271\, Hungary
CATEGORIES:U9 edzések
END:VEVENT
BEGIN:VEVENT
DTSTART;TZID=Europe/Budapest:20280505T164500
DTEND;TZID=Europe/Budapest:20280505T174500
DTSTAMP:20260425T160612
CREATED:20260104T110102Z
LAST-MODIFIED:20260310T114423Z
UID:10002816-1841157900-1841161500@mikepercsifoci.hu
SUMMARY:U13 edzés
DESCRIPTION:
URL:https://mikepercsifoci.hu/esemeny/u13-edzes-3/2028-05-05/
LOCATION:Mikepércsi Sportpálya\, Sport utca 4.\, Mikepércs\, 4271\, Hungary
CATEGORIES:U13 edzések
END:VEVENT
BEGIN:VEVENT
DTSTART;TZID=Europe/Budapest:20280508T164500
DTEND;TZID=Europe/Budapest:20280508T174500
DTSTAMP:20260425T160612
CREATED:20260310T114641Z
LAST-MODIFIED:20260310T114659Z
UID:10003597-1841417100-1841420700@mikepercsifoci.hu
SUMMARY:U13 edzés
DESCRIPTION:
URL:https://mikepercsifoci.hu/esemeny/u13-edzes-4/2028-05-08/
LOCATION:Mikepércsi Sportpálya\, Sport utca 4.\, Mikepércs\, 4271\, Hungary
CATEGORIES:U13 edzések
END:VEVENT
BEGIN:VEVENT
DTSTART;TZID=Europe/Budapest:20280509T164500
DTEND;TZID=Europe/Budapest:20280509T174500
DTSTAMP:20260425T160612
CREATED:20260104T105654Z
LAST-MODIFIED:20260310T114240Z
UID:10002547-1841503500-1841507100@mikepercsifoci.hu
SUMMARY:U9 edzés
DESCRIPTION:
URL:https://mikepercsifoci.hu/esemeny/u9-edzes-3/2028-05-09/
LOCATION:Mikepércsi Sportpálya\, Sport utca 4.\, Mikepércs\, 4271\, Hungary
CATEGORIES:U9 edzések
END:VEVENT
BEGIN:VEVENT
DTSTART;TZID=Europe/Budapest:20280510T164500
DTEND;TZID=Europe/Budapest:20280510T174500
DTSTAMP:20260425T160612
CREATED:20260310T114518Z
LAST-MODIFIED:20260310T114548Z
UID:10003338-1841589900-1841593500@mikepercsifoci.hu
SUMMARY:U13 edzés
DESCRIPTION:
URL:https://mikepercsifoci.hu/esemeny/u13-edzes-2-2-2/2028-05-10/
LOCATION:Mikepércsi Sportpálya\, Sport utca 4.\, Mikepércs\, 4271\, Hungary
CATEGORIES:U13 edzések
END:VEVENT
END:VCALENDAR