BEGIN:VCALENDAR
VERSION:2.0
PRODID:-//Mikepércsi Foci - ECPv6.15.12.2//NONSGML v1.0//EN
CALSCALE:GREGORIAN
METHOD:PUBLISH
X-WR-CALNAME:Mikepércsi Foci
X-ORIGINAL-URL:https://mikepercsifoci.hu
X-WR-CALDESC:Események Mikepércsi Foci
REFRESH-INTERVAL;VALUE=DURATION:PT1H
X-Robots-Tag:noindex
X-PUBLISHED-TTL:PT1H
BEGIN:VTIMEZONE
TZID:Europe/Budapest
BEGIN:DAYLIGHT
TZOFFSETFROM:+0100
TZOFFSETTO:+0200
TZNAME:CEST
DTSTART:20270328T010000
END:DAYLIGHT
BEGIN:STANDARD
TZOFFSETFROM:+0200
TZOFFSETTO:+0100
TZNAME:CET
DTSTART:20271031T010000
END:STANDARD
BEGIN:DAYLIGHT
TZOFFSETFROM:+0100
TZOFFSETTO:+0200
TZNAME:CEST
DTSTART:20280326T010000
END:DAYLIGHT
BEGIN:STANDARD
TZOFFSETFROM:+0200
TZOFFSETTO:+0100
TZNAME:CET
DTSTART:20281029T010000
END:STANDARD
BEGIN:DAYLIGHT
TZOFFSETFROM:+0100
TZOFFSETTO:+0200
TZNAME:CEST
DTSTART:20290325T010000
END:DAYLIGHT
BEGIN:STANDARD
TZOFFSETFROM:+0200
TZOFFSETTO:+0100
TZNAME:CET
DTSTART:20291028T010000
END:STANDARD
END:VTIMEZONE
BEGIN:VEVENT
DTSTART;TZID=Europe/Budapest:20280622T164500
DTEND;TZID=Europe/Budapest:20280622T174500
DTSTAMP:20260426T035319
CREATED:20260104T105556Z
LAST-MODIFIED:20260310T114146Z
UID:10002283-1845305100-1845308700@mikepercsifoci.hu
SUMMARY:U9 edzés
DESCRIPTION:
URL:https://mikepercsifoci.hu/esemeny/u9-edzes-2-2/2028-06-22/
LOCATION:Mikepércsi Sportpálya\, Sport utca 4.\, Mikepércs\, 4271\, Hungary
CATEGORIES:U9 edzések
END:VEVENT
BEGIN:VEVENT
DTSTART;TZID=Europe/Budapest:20280623T164500
DTEND;TZID=Europe/Budapest:20280623T174500
DTSTAMP:20260426T035319
CREATED:20260104T110102Z
LAST-MODIFIED:20260310T114423Z
UID:10002823-1845391500-1845395100@mikepercsifoci.hu
SUMMARY:U13 edzés
DESCRIPTION:
URL:https://mikepercsifoci.hu/esemeny/u13-edzes-3/2028-06-23/
LOCATION:Mikepércsi Sportpálya\, Sport utca 4.\, Mikepércs\, 4271\, Hungary
CATEGORIES:U13 edzések
END:VEVENT
BEGIN:VEVENT
DTSTART;TZID=Europe/Budapest:20280626T164500
DTEND;TZID=Europe/Budapest:20280626T174500
DTSTAMP:20260426T035319
CREATED:20260310T114641Z
LAST-MODIFIED:20260310T114659Z
UID:10003604-1845650700-1845654300@mikepercsifoci.hu
SUMMARY:U13 edzés
DESCRIPTION:
URL:https://mikepercsifoci.hu/esemeny/u13-edzes-4/2028-06-26/
LOCATION:Mikepércsi Sportpálya\, Sport utca 4.\, Mikepércs\, 4271\, Hungary
CATEGORIES:U13 edzések
END:VEVENT
BEGIN:VEVENT
DTSTART;TZID=Europe/Budapest:20280627T164500
DTEND;TZID=Europe/Budapest:20280627T174500
DTSTAMP:20260426T035319
CREATED:20260104T105654Z
LAST-MODIFIED:20260310T114240Z
UID:10002554-1845737100-1845740700@mikepercsifoci.hu
SUMMARY:U9 edzés
DESCRIPTION:
URL:https://mikepercsifoci.hu/esemeny/u9-edzes-3/2028-06-27/
LOCATION:Mikepércsi Sportpálya\, Sport utca 4.\, Mikepércs\, 4271\, Hungary
CATEGORIES:U9 edzések
END:VEVENT
BEGIN:VEVENT
DTSTART;TZID=Europe/Budapest:20280628T164500
DTEND;TZID=Europe/Budapest:20280628T174500
DTSTAMP:20260426T035319
CREATED:20260310T114518Z
LAST-MODIFIED:20260310T114548Z
UID:10003345-1845823500-1845827100@mikepercsifoci.hu
SUMMARY:U13 edzés
DESCRIPTION:
URL:https://mikepercsifoci.hu/esemeny/u13-edzes-2-2-2/2028-06-28/
LOCATION:Mikepércsi Sportpálya\, Sport utca 4.\, Mikepércs\, 4271\, Hungary
CATEGORIES:U13 edzések
END:VEVENT
BEGIN:VEVENT
DTSTART;TZID=Europe/Budapest:20280629T164500
DTEND;TZID=Europe/Budapest:20280629T174500
DTSTAMP:20260426T035319
CREATED:20260104T105556Z
LAST-MODIFIED:20260310T114146Z
UID:10002284-1845909900-1845913500@mikepercsifoci.hu
SUMMARY:U9 edzés
DESCRIPTION:
URL:https://mikepercsifoci.hu/esemeny/u9-edzes-2-2/2028-06-29/
LOCATION:Mikepércsi Sportpálya\, Sport utca 4.\, Mikepércs\, 4271\, Hungary
CATEGORIES:U9 edzések
END:VEVENT
BEGIN:VEVENT
DTSTART;TZID=Europe/Budapest:20280630T164500
DTEND;TZID=Europe/Budapest:20280630T174500
DTSTAMP:20260426T035319
CREATED:20260104T110102Z
LAST-MODIFIED:20260310T114423Z
UID:10002824-1845996300-1845999900@mikepercsifoci.hu
SUMMARY:U13 edzés
DESCRIPTION:
URL:https://mikepercsifoci.hu/esemeny/u13-edzes-3/2028-06-30/
LOCATION:Mikepércsi Sportpálya\, Sport utca 4.\, Mikepércs\, 4271\, Hungary
CATEGORIES:U13 edzések
END:VEVENT
BEGIN:VEVENT
DTSTART;TZID=Europe/Budapest:20280703T164500
DTEND;TZID=Europe/Budapest:20280703T174500
DTSTAMP:20260426T035319
CREATED:20260310T114641Z
LAST-MODIFIED:20260310T114659Z
UID:10003605-1846255500-1846259100@mikepercsifoci.hu
SUMMARY:U13 edzés
DESCRIPTION:
URL:https://mikepercsifoci.hu/esemeny/u13-edzes-4/2028-07-03/
LOCATION:Mikepércsi Sportpálya\, Sport utca 4.\, Mikepércs\, 4271\, Hungary
CATEGORIES:U13 edzések
END:VEVENT
BEGIN:VEVENT
DTSTART;TZID=Europe/Budapest:20280704T164500
DTEND;TZID=Europe/Budapest:20280704T174500
DTSTAMP:20260426T035319
CREATED:20260104T105654Z
LAST-MODIFIED:20260310T114240Z
UID:10002555-1846341900-1846345500@mikepercsifoci.hu
SUMMARY:U9 edzés
DESCRIPTION:
URL:https://mikepercsifoci.hu/esemeny/u9-edzes-3/2028-07-04/
LOCATION:Mikepércsi Sportpálya\, Sport utca 4.\, Mikepércs\, 4271\, Hungary
CATEGORIES:U9 edzések
END:VEVENT
BEGIN:VEVENT
DTSTART;TZID=Europe/Budapest:20280705T164500
DTEND;TZID=Europe/Budapest:20280705T174500
DTSTAMP:20260426T035319
CREATED:20260310T114518Z
LAST-MODIFIED:20260310T114548Z
UID:10003346-1846428300-1846431900@mikepercsifoci.hu
SUMMARY:U13 edzés
DESCRIPTION:
URL:https://mikepercsifoci.hu/esemeny/u13-edzes-2-2-2/2028-07-05/
LOCATION:Mikepércsi Sportpálya\, Sport utca 4.\, Mikepércs\, 4271\, Hungary
CATEGORIES:U13 edzések
END:VEVENT
BEGIN:VEVENT
DTSTART;TZID=Europe/Budapest:20280706T164500
DTEND;TZID=Europe/Budapest:20280706T174500
DTSTAMP:20260426T035319
CREATED:20260104T105556Z
LAST-MODIFIED:20260310T114146Z
UID:10002285-1846514700-1846518300@mikepercsifoci.hu
SUMMARY:U9 edzés
DESCRIPTION:
URL:https://mikepercsifoci.hu/esemeny/u9-edzes-2-2/2028-07-06/
LOCATION:Mikepércsi Sportpálya\, Sport utca 4.\, Mikepércs\, 4271\, Hungary
CATEGORIES:U9 edzések
END:VEVENT
BEGIN:VEVENT
DTSTART;TZID=Europe/Budapest:20280707T164500
DTEND;TZID=Europe/Budapest:20280707T174500
DTSTAMP:20260426T035319
CREATED:20260104T110102Z
LAST-MODIFIED:20260310T114423Z
UID:10002825-1846601100-1846604700@mikepercsifoci.hu
SUMMARY:U13 edzés
DESCRIPTION:
URL:https://mikepercsifoci.hu/esemeny/u13-edzes-3/2028-07-07/
LOCATION:Mikepércsi Sportpálya\, Sport utca 4.\, Mikepércs\, 4271\, Hungary
CATEGORIES:U13 edzések
END:VEVENT
BEGIN:VEVENT
DTSTART;TZID=Europe/Budapest:20280710T164500
DTEND;TZID=Europe/Budapest:20280710T174500
DTSTAMP:20260426T035319
CREATED:20260310T114641Z
LAST-MODIFIED:20260310T114659Z
UID:10003606-1846860300-1846863900@mikepercsifoci.hu
SUMMARY:U13 edzés
DESCRIPTION:
URL:https://mikepercsifoci.hu/esemeny/u13-edzes-4/2028-07-10/
LOCATION:Mikepércsi Sportpálya\, Sport utca 4.\, Mikepércs\, 4271\, Hungary
CATEGORIES:U13 edzések
END:VEVENT
BEGIN:VEVENT
DTSTART;TZID=Europe/Budapest:20280711T164500
DTEND;TZID=Europe/Budapest:20280711T174500
DTSTAMP:20260426T035319
CREATED:20260104T105654Z
LAST-MODIFIED:20260310T114240Z
UID:10002556-1846946700-1846950300@mikepercsifoci.hu
SUMMARY:U9 edzés
DESCRIPTION:
URL:https://mikepercsifoci.hu/esemeny/u9-edzes-3/2028-07-11/
LOCATION:Mikepércsi Sportpálya\, Sport utca 4.\, Mikepércs\, 4271\, Hungary
CATEGORIES:U9 edzések
END:VEVENT
BEGIN:VEVENT
DTSTART;TZID=Europe/Budapest:20280712T164500
DTEND;TZID=Europe/Budapest:20280712T174500
DTSTAMP:20260426T035319
CREATED:20260310T114518Z
LAST-MODIFIED:20260310T114548Z
UID:10003347-1847033100-1847036700@mikepercsifoci.hu
SUMMARY:U13 edzés
DESCRIPTION:
URL:https://mikepercsifoci.hu/esemeny/u13-edzes-2-2-2/2028-07-12/
LOCATION:Mikepércsi Sportpálya\, Sport utca 4.\, Mikepércs\, 4271\, Hungary
CATEGORIES:U13 edzések
END:VEVENT
BEGIN:VEVENT
DTSTART;TZID=Europe/Budapest:20280713T164500
DTEND;TZID=Europe/Budapest:20280713T174500
DTSTAMP:20260426T035319
CREATED:20260104T105556Z
LAST-MODIFIED:20260310T114146Z
UID:10002286-1847119500-1847123100@mikepercsifoci.hu
SUMMARY:U9 edzés
DESCRIPTION:
URL:https://mikepercsifoci.hu/esemeny/u9-edzes-2-2/2028-07-13/
LOCATION:Mikepércsi Sportpálya\, Sport utca 4.\, Mikepércs\, 4271\, Hungary
CATEGORIES:U9 edzések
END:VEVENT
BEGIN:VEVENT
DTSTART;TZID=Europe/Budapest:20280714T164500
DTEND;TZID=Europe/Budapest:20280714T174500
DTSTAMP:20260426T035319
CREATED:20260104T110102Z
LAST-MODIFIED:20260310T114423Z
UID:10002826-1847205900-1847209500@mikepercsifoci.hu
SUMMARY:U13 edzés
DESCRIPTION:
URL:https://mikepercsifoci.hu/esemeny/u13-edzes-3/2028-07-14/
LOCATION:Mikepércsi Sportpálya\, Sport utca 4.\, Mikepércs\, 4271\, Hungary
CATEGORIES:U13 edzések
END:VEVENT
BEGIN:VEVENT
DTSTART;TZID=Europe/Budapest:20280717T164500
DTEND;TZID=Europe/Budapest:20280717T174500
DTSTAMP:20260426T035319
CREATED:20260310T114641Z
LAST-MODIFIED:20260310T114659Z
UID:10003607-1847465100-1847468700@mikepercsifoci.hu
SUMMARY:U13 edzés
DESCRIPTION:
URL:https://mikepercsifoci.hu/esemeny/u13-edzes-4/2028-07-17/
LOCATION:Mikepércsi Sportpálya\, Sport utca 4.\, Mikepércs\, 4271\, Hungary
CATEGORIES:U13 edzések
END:VEVENT
BEGIN:VEVENT
DTSTART;TZID=Europe/Budapest:20280718T164500
DTEND;TZID=Europe/Budapest:20280718T174500
DTSTAMP:20260426T035319
CREATED:20260104T105654Z
LAST-MODIFIED:20260310T114240Z
UID:10002557-1847551500-1847555100@mikepercsifoci.hu
SUMMARY:U9 edzés
DESCRIPTION:
URL:https://mikepercsifoci.hu/esemeny/u9-edzes-3/2028-07-18/
LOCATION:Mikepércsi Sportpálya\, Sport utca 4.\, Mikepércs\, 4271\, Hungary
CATEGORIES:U9 edzések
END:VEVENT
BEGIN:VEVENT
DTSTART;TZID=Europe/Budapest:20280719T164500
DTEND;TZID=Europe/Budapest:20280719T174500
DTSTAMP:20260426T035319
CREATED:20260310T114518Z
LAST-MODIFIED:20260310T114548Z
UID:10003348-1847637900-1847641500@mikepercsifoci.hu
SUMMARY:U13 edzés
DESCRIPTION:
URL:https://mikepercsifoci.hu/esemeny/u13-edzes-2-2-2/2028-07-19/
LOCATION:Mikepércsi Sportpálya\, Sport utca 4.\, Mikepércs\, 4271\, Hungary
CATEGORIES:U13 edzések
END:VEVENT
BEGIN:VEVENT
DTSTART;TZID=Europe/Budapest:20280720T164500
DTEND;TZID=Europe/Budapest:20280720T174500
DTSTAMP:20260426T035319
CREATED:20260104T105556Z
LAST-MODIFIED:20260310T114146Z
UID:10002287-1847724300-1847727900@mikepercsifoci.hu
SUMMARY:U9 edzés
DESCRIPTION:
URL:https://mikepercsifoci.hu/esemeny/u9-edzes-2-2/2028-07-20/
LOCATION:Mikepércsi Sportpálya\, Sport utca 4.\, Mikepércs\, 4271\, Hungary
CATEGORIES:U9 edzések
END:VEVENT
BEGIN:VEVENT
DTSTART;TZID=Europe/Budapest:20280721T164500
DTEND;TZID=Europe/Budapest:20280721T174500
DTSTAMP:20260426T035319
CREATED:20260104T110102Z
LAST-MODIFIED:20260310T114423Z
UID:10002827-1847810700-1847814300@mikepercsifoci.hu
SUMMARY:U13 edzés
DESCRIPTION:
URL:https://mikepercsifoci.hu/esemeny/u13-edzes-3/2028-07-21/
LOCATION:Mikepércsi Sportpálya\, Sport utca 4.\, Mikepércs\, 4271\, Hungary
CATEGORIES:U13 edzések
END:VEVENT
BEGIN:VEVENT
DTSTART;TZID=Europe/Budapest:20280724T164500
DTEND;TZID=Europe/Budapest:20280724T174500
DTSTAMP:20260426T035319
CREATED:20260310T114641Z
LAST-MODIFIED:20260310T114659Z
UID:10003608-1848069900-1848073500@mikepercsifoci.hu
SUMMARY:U13 edzés
DESCRIPTION:
URL:https://mikepercsifoci.hu/esemeny/u13-edzes-4/2028-07-24/
LOCATION:Mikepércsi Sportpálya\, Sport utca 4.\, Mikepércs\, 4271\, Hungary
CATEGORIES:U13 edzések
END:VEVENT
BEGIN:VEVENT
DTSTART;TZID=Europe/Budapest:20280725T164500
DTEND;TZID=Europe/Budapest:20280725T174500
DTSTAMP:20260426T035319
CREATED:20260104T105654Z
LAST-MODIFIED:20260310T114240Z
UID:10002558-1848156300-1848159900@mikepercsifoci.hu
SUMMARY:U9 edzés
DESCRIPTION:
URL:https://mikepercsifoci.hu/esemeny/u9-edzes-3/2028-07-25/
LOCATION:Mikepércsi Sportpálya\, Sport utca 4.\, Mikepércs\, 4271\, Hungary
CATEGORIES:U9 edzések
END:VEVENT
BEGIN:VEVENT
DTSTART;TZID=Europe/Budapest:20280726T164500
DTEND;TZID=Europe/Budapest:20280726T174500
DTSTAMP:20260426T035319
CREATED:20260310T114518Z
LAST-MODIFIED:20260310T114548Z
UID:10003349-1848242700-1848246300@mikepercsifoci.hu
SUMMARY:U13 edzés
DESCRIPTION:
URL:https://mikepercsifoci.hu/esemeny/u13-edzes-2-2-2/2028-07-26/
LOCATION:Mikepércsi Sportpálya\, Sport utca 4.\, Mikepércs\, 4271\, Hungary
CATEGORIES:U13 edzések
END:VEVENT
BEGIN:VEVENT
DTSTART;TZID=Europe/Budapest:20280727T164500
DTEND;TZID=Europe/Budapest:20280727T174500
DTSTAMP:20260426T035319
CREATED:20260104T105556Z
LAST-MODIFIED:20260310T114146Z
UID:10002288-1848329100-1848332700@mikepercsifoci.hu
SUMMARY:U9 edzés
DESCRIPTION:
URL:https://mikepercsifoci.hu/esemeny/u9-edzes-2-2/2028-07-27/
LOCATION:Mikepércsi Sportpálya\, Sport utca 4.\, Mikepércs\, 4271\, Hungary
CATEGORIES:U9 edzések
END:VEVENT
BEGIN:VEVENT
DTSTART;TZID=Europe/Budapest:20280728T164500
DTEND;TZID=Europe/Budapest:20280728T174500
DTSTAMP:20260426T035319
CREATED:20260104T110102Z
LAST-MODIFIED:20260310T114423Z
UID:10002828-1848415500-1848419100@mikepercsifoci.hu
SUMMARY:U13 edzés
DESCRIPTION:
URL:https://mikepercsifoci.hu/esemeny/u13-edzes-3/2028-07-28/
LOCATION:Mikepércsi Sportpálya\, Sport utca 4.\, Mikepércs\, 4271\, Hungary
CATEGORIES:U13 edzések
END:VEVENT
BEGIN:VEVENT
DTSTART;TZID=Europe/Budapest:20280731T164500
DTEND;TZID=Europe/Budapest:20280731T174500
DTSTAMP:20260426T035319
CREATED:20260310T114641Z
LAST-MODIFIED:20260310T114659Z
UID:10003609-1848674700-1848678300@mikepercsifoci.hu
SUMMARY:U13 edzés
DESCRIPTION:
URL:https://mikepercsifoci.hu/esemeny/u13-edzes-4/2028-07-31/
LOCATION:Mikepércsi Sportpálya\, Sport utca 4.\, Mikepércs\, 4271\, Hungary
CATEGORIES:U13 edzések
END:VEVENT
BEGIN:VEVENT
DTSTART;TZID=Europe/Budapest:20280801T164500
DTEND;TZID=Europe/Budapest:20280801T174500
DTSTAMP:20260426T035319
CREATED:20260104T105654Z
LAST-MODIFIED:20260310T114240Z
UID:10002559-1848761100-1848764700@mikepercsifoci.hu
SUMMARY:U9 edzés
DESCRIPTION:
URL:https://mikepercsifoci.hu/esemeny/u9-edzes-3/2028-08-01/
LOCATION:Mikepércsi Sportpálya\, Sport utca 4.\, Mikepércs\, 4271\, Hungary
CATEGORIES:U9 edzések
END:VEVENT
BEGIN:VEVENT
DTSTART;TZID=Europe/Budapest:20280802T164500
DTEND;TZID=Europe/Budapest:20280802T174500
DTSTAMP:20260426T035319
CREATED:20260310T114518Z
LAST-MODIFIED:20260310T114548Z
UID:10003350-1848847500-1848851100@mikepercsifoci.hu
SUMMARY:U13 edzés
DESCRIPTION:
URL:https://mikepercsifoci.hu/esemeny/u13-edzes-2-2-2/2028-08-02/
LOCATION:Mikepércsi Sportpálya\, Sport utca 4.\, Mikepércs\, 4271\, Hungary
CATEGORIES:U13 edzések
END:VEVENT
END:VCALENDAR