BEGIN:VCALENDAR
VERSION:2.0
PRODID:-//Mikepércsi Foci - ECPv6.15.12.2//NONSGML v1.0//EN
CALSCALE:GREGORIAN
METHOD:PUBLISH
X-WR-CALNAME:Mikepércsi Foci
X-ORIGINAL-URL:https://mikepercsifoci.hu
X-WR-CALDESC:Események Mikepércsi Foci
REFRESH-INTERVAL;VALUE=DURATION:PT1H
X-Robots-Tag:noindex
X-PUBLISHED-TTL:PT1H
BEGIN:VTIMEZONE
TZID:Europe/Budapest
BEGIN:DAYLIGHT
TZOFFSETFROM:+0100
TZOFFSETTO:+0200
TZNAME:CEST
DTSTART:20260329T010000
END:DAYLIGHT
BEGIN:STANDARD
TZOFFSETFROM:+0200
TZOFFSETTO:+0100
TZNAME:CET
DTSTART:20261025T010000
END:STANDARD
BEGIN:DAYLIGHT
TZOFFSETFROM:+0100
TZOFFSETTO:+0200
TZNAME:CEST
DTSTART:20270328T010000
END:DAYLIGHT
BEGIN:STANDARD
TZOFFSETFROM:+0200
TZOFFSETTO:+0100
TZNAME:CET
DTSTART:20271031T010000
END:STANDARD
BEGIN:DAYLIGHT
TZOFFSETFROM:+0100
TZOFFSETTO:+0200
TZNAME:CEST
DTSTART:20280326T010000
END:DAYLIGHT
BEGIN:STANDARD
TZOFFSETFROM:+0200
TZOFFSETTO:+0100
TZNAME:CET
DTSTART:20281029T010000
END:STANDARD
BEGIN:DAYLIGHT
TZOFFSETFROM:+0100
TZOFFSETTO:+0200
TZNAME:CEST
DTSTART:20290325T010000
END:DAYLIGHT
BEGIN:STANDARD
TZOFFSETFROM:+0200
TZOFFSETTO:+0100
TZNAME:CET
DTSTART:20291028T010000
END:STANDARD
END:VTIMEZONE
BEGIN:VEVENT
DTSTART;TZID=Europe/Budapest:20271206T170000
DTEND;TZID=Europe/Budapest:20271206T180000
DTSTAMP:20260425T193253
CREATED:20260104T105839Z
LAST-MODIFIED:20260104T105848Z
UID:10001471-1828112400-1828116000@mikepercsifoci.hu
SUMMARY:U7 edzés
DESCRIPTION:
URL:https://mikepercsifoci.hu/esemeny/u7-edzes-3/2027-12-06/
LOCATION:Mikepércsi Hunyadi János Általános Iskola\, Nagyváradi utca 1.\, Mikepércs\, 4271\, Hungary
CATEGORIES:U7 edzések
END:VEVENT
BEGIN:VEVENT
DTSTART;TZID=Europe/Budapest:20271210T170000
DTEND;TZID=Europe/Budapest:20271210T180000
DTSTAMP:20260425T193253
CREATED:20260104T105755Z
LAST-MODIFIED:20260104T105806Z
UID:10001211-1828458000-1828461600@mikepercsifoci.hu
SUMMARY:U7 edzés
DESCRIPTION:
URL:https://mikepercsifoci.hu/esemeny/u7-edzes-2-2/2027-12-10/
LOCATION:Mikepércsi Hunyadi János Általános Iskola\, Nagyváradi utca 1.\, Mikepércs\, 4271\, Hungary
CATEGORIES:U7 edzések
END:VEVENT
BEGIN:VEVENT
DTSTART;TZID=Europe/Budapest:20271213T170000
DTEND;TZID=Europe/Budapest:20271213T180000
DTSTAMP:20260425T193253
CREATED:20260104T105839Z
LAST-MODIFIED:20260104T105848Z
UID:10001472-1828717200-1828720800@mikepercsifoci.hu
SUMMARY:U7 edzés
DESCRIPTION:
URL:https://mikepercsifoci.hu/esemeny/u7-edzes-3/2027-12-13/
LOCATION:Mikepércsi Hunyadi János Általános Iskola\, Nagyváradi utca 1.\, Mikepércs\, 4271\, Hungary
CATEGORIES:U7 edzések
END:VEVENT
BEGIN:VEVENT
DTSTART;TZID=Europe/Budapest:20271217T170000
DTEND;TZID=Europe/Budapest:20271217T180000
DTSTAMP:20260425T193253
CREATED:20260104T105755Z
LAST-MODIFIED:20260104T105806Z
UID:10001212-1829062800-1829066400@mikepercsifoci.hu
SUMMARY:U7 edzés
DESCRIPTION:
URL:https://mikepercsifoci.hu/esemeny/u7-edzes-2-2/2027-12-17/
LOCATION:Mikepércsi Hunyadi János Általános Iskola\, Nagyváradi utca 1.\, Mikepércs\, 4271\, Hungary
CATEGORIES:U7 edzések
END:VEVENT
BEGIN:VEVENT
DTSTART;TZID=Europe/Budapest:20271220T170000
DTEND;TZID=Europe/Budapest:20271220T180000
DTSTAMP:20260425T193253
CREATED:20260104T105839Z
LAST-MODIFIED:20260104T105848Z
UID:10001473-1829322000-1829325600@mikepercsifoci.hu
SUMMARY:U7 edzés
DESCRIPTION:
URL:https://mikepercsifoci.hu/esemeny/u7-edzes-3/2027-12-20/
LOCATION:Mikepércsi Hunyadi János Általános Iskola\, Nagyváradi utca 1.\, Mikepércs\, 4271\, Hungary
CATEGORIES:U7 edzések
END:VEVENT
BEGIN:VEVENT
DTSTART;TZID=Europe/Budapest:20271224T170000
DTEND;TZID=Europe/Budapest:20271224T180000
DTSTAMP:20260425T193253
CREATED:20260104T105755Z
LAST-MODIFIED:20260104T105806Z
UID:10001213-1829667600-1829671200@mikepercsifoci.hu
SUMMARY:U7 edzés
DESCRIPTION:
URL:https://mikepercsifoci.hu/esemeny/u7-edzes-2-2/2027-12-24/
LOCATION:Mikepércsi Hunyadi János Általános Iskola\, Nagyváradi utca 1.\, Mikepércs\, 4271\, Hungary
CATEGORIES:U7 edzések
END:VEVENT
BEGIN:VEVENT
DTSTART;TZID=Europe/Budapest:20271227T170000
DTEND;TZID=Europe/Budapest:20271227T180000
DTSTAMP:20260425T193253
CREATED:20260104T105839Z
LAST-MODIFIED:20260104T105848Z
UID:10001474-1829926800-1829930400@mikepercsifoci.hu
SUMMARY:U7 edzés
DESCRIPTION:
URL:https://mikepercsifoci.hu/esemeny/u7-edzes-3/2027-12-27/
LOCATION:Mikepércsi Hunyadi János Általános Iskola\, Nagyváradi utca 1.\, Mikepércs\, 4271\, Hungary
CATEGORIES:U7 edzések
END:VEVENT
BEGIN:VEVENT
DTSTART;TZID=Europe/Budapest:20271231T170000
DTEND;TZID=Europe/Budapest:20271231T180000
DTSTAMP:20260425T193253
CREATED:20260104T105755Z
LAST-MODIFIED:20260104T105806Z
UID:10001214-1830272400-1830276000@mikepercsifoci.hu
SUMMARY:U7 edzés
DESCRIPTION:
URL:https://mikepercsifoci.hu/esemeny/u7-edzes-2-2/2027-12-31/
LOCATION:Mikepércsi Hunyadi János Általános Iskola\, Nagyváradi utca 1.\, Mikepércs\, 4271\, Hungary
CATEGORIES:U7 edzések
END:VEVENT
BEGIN:VEVENT
DTSTART;TZID=Europe/Budapest:20280103T170000
DTEND;TZID=Europe/Budapest:20280103T180000
DTSTAMP:20260425T193253
CREATED:20260104T105839Z
LAST-MODIFIED:20260104T105848Z
UID:10001475-1830531600-1830535200@mikepercsifoci.hu
SUMMARY:U7 edzés
DESCRIPTION:
URL:https://mikepercsifoci.hu/esemeny/u7-edzes-3/2028-01-03/
LOCATION:Mikepércsi Hunyadi János Általános Iskola\, Nagyváradi utca 1.\, Mikepércs\, 4271\, Hungary
CATEGORIES:U7 edzések
END:VEVENT
BEGIN:VEVENT
DTSTART;TZID=Europe/Budapest:20280107T170000
DTEND;TZID=Europe/Budapest:20280107T180000
DTSTAMP:20260425T193253
CREATED:20260104T105755Z
LAST-MODIFIED:20260104T105806Z
UID:10001215-1830877200-1830880800@mikepercsifoci.hu
SUMMARY:U7 edzés
DESCRIPTION:
URL:https://mikepercsifoci.hu/esemeny/u7-edzes-2-2/2028-01-07/
LOCATION:Mikepércsi Hunyadi János Általános Iskola\, Nagyváradi utca 1.\, Mikepércs\, 4271\, Hungary
CATEGORIES:U7 edzések
END:VEVENT
BEGIN:VEVENT
DTSTART;TZID=Europe/Budapest:20280110T170000
DTEND;TZID=Europe/Budapest:20280110T180000
DTSTAMP:20260425T193253
CREATED:20260104T105839Z
LAST-MODIFIED:20260104T105848Z
UID:10001476-1831136400-1831140000@mikepercsifoci.hu
SUMMARY:U7 edzés
DESCRIPTION:
URL:https://mikepercsifoci.hu/esemeny/u7-edzes-3/2028-01-10/
LOCATION:Mikepércsi Hunyadi János Általános Iskola\, Nagyváradi utca 1.\, Mikepércs\, 4271\, Hungary
CATEGORIES:U7 edzések
END:VEVENT
BEGIN:VEVENT
DTSTART;TZID=Europe/Budapest:20280114T170000
DTEND;TZID=Europe/Budapest:20280114T180000
DTSTAMP:20260425T193253
CREATED:20260104T105755Z
LAST-MODIFIED:20260104T105806Z
UID:10001216-1831482000-1831485600@mikepercsifoci.hu
SUMMARY:U7 edzés
DESCRIPTION:
URL:https://mikepercsifoci.hu/esemeny/u7-edzes-2-2/2028-01-14/
LOCATION:Mikepércsi Hunyadi János Általános Iskola\, Nagyváradi utca 1.\, Mikepércs\, 4271\, Hungary
CATEGORIES:U7 edzések
END:VEVENT
BEGIN:VEVENT
DTSTART;TZID=Europe/Budapest:20280117T170000
DTEND;TZID=Europe/Budapest:20280117T180000
DTSTAMP:20260425T193253
CREATED:20260104T105839Z
LAST-MODIFIED:20260104T105848Z
UID:10001477-1831741200-1831744800@mikepercsifoci.hu
SUMMARY:U7 edzés
DESCRIPTION:
URL:https://mikepercsifoci.hu/esemeny/u7-edzes-3/2028-01-17/
LOCATION:Mikepércsi Hunyadi János Általános Iskola\, Nagyváradi utca 1.\, Mikepércs\, 4271\, Hungary
CATEGORIES:U7 edzések
END:VEVENT
BEGIN:VEVENT
DTSTART;TZID=Europe/Budapest:20280121T170000
DTEND;TZID=Europe/Budapest:20280121T180000
DTSTAMP:20260425T193253
CREATED:20260104T105755Z
LAST-MODIFIED:20260104T105806Z
UID:10001217-1832086800-1832090400@mikepercsifoci.hu
SUMMARY:U7 edzés
DESCRIPTION:
URL:https://mikepercsifoci.hu/esemeny/u7-edzes-2-2/2028-01-21/
LOCATION:Mikepércsi Hunyadi János Általános Iskola\, Nagyváradi utca 1.\, Mikepércs\, 4271\, Hungary
CATEGORIES:U7 edzések
END:VEVENT
BEGIN:VEVENT
DTSTART;TZID=Europe/Budapest:20280124T170000
DTEND;TZID=Europe/Budapest:20280124T180000
DTSTAMP:20260425T193253
CREATED:20260104T105839Z
LAST-MODIFIED:20260104T105848Z
UID:10001478-1832346000-1832349600@mikepercsifoci.hu
SUMMARY:U7 edzés
DESCRIPTION:
URL:https://mikepercsifoci.hu/esemeny/u7-edzes-3/2028-01-24/
LOCATION:Mikepércsi Hunyadi János Általános Iskola\, Nagyváradi utca 1.\, Mikepércs\, 4271\, Hungary
CATEGORIES:U7 edzések
END:VEVENT
BEGIN:VEVENT
DTSTART;TZID=Europe/Budapest:20280128T170000
DTEND;TZID=Europe/Budapest:20280128T180000
DTSTAMP:20260425T193253
CREATED:20260104T105755Z
LAST-MODIFIED:20260104T105806Z
UID:10001218-1832691600-1832695200@mikepercsifoci.hu
SUMMARY:U7 edzés
DESCRIPTION:
URL:https://mikepercsifoci.hu/esemeny/u7-edzes-2-2/2028-01-28/
LOCATION:Mikepércsi Hunyadi János Általános Iskola\, Nagyváradi utca 1.\, Mikepércs\, 4271\, Hungary
CATEGORIES:U7 edzések
END:VEVENT
BEGIN:VEVENT
DTSTART;TZID=Europe/Budapest:20280131T170000
DTEND;TZID=Europe/Budapest:20280131T180000
DTSTAMP:20260425T193253
CREATED:20260104T105839Z
LAST-MODIFIED:20260104T105848Z
UID:10001479-1832950800-1832954400@mikepercsifoci.hu
SUMMARY:U7 edzés
DESCRIPTION:
URL:https://mikepercsifoci.hu/esemeny/u7-edzes-3/2028-01-31/
LOCATION:Mikepércsi Hunyadi János Általános Iskola\, Nagyváradi utca 1.\, Mikepércs\, 4271\, Hungary
CATEGORIES:U7 edzések
END:VEVENT
BEGIN:VEVENT
DTSTART;TZID=Europe/Budapest:20280204T170000
DTEND;TZID=Europe/Budapest:20280204T180000
DTSTAMP:20260425T193253
CREATED:20260104T105755Z
LAST-MODIFIED:20260104T105806Z
UID:10001219-1833296400-1833300000@mikepercsifoci.hu
SUMMARY:U7 edzés
DESCRIPTION:
URL:https://mikepercsifoci.hu/esemeny/u7-edzes-2-2/2028-02-04/
LOCATION:Mikepércsi Hunyadi János Általános Iskola\, Nagyváradi utca 1.\, Mikepércs\, 4271\, Hungary
CATEGORIES:U7 edzések
END:VEVENT
BEGIN:VEVENT
DTSTART;TZID=Europe/Budapest:20280207T170000
DTEND;TZID=Europe/Budapest:20280207T180000
DTSTAMP:20260425T193253
CREATED:20260104T105839Z
LAST-MODIFIED:20260104T105848Z
UID:10001480-1833555600-1833559200@mikepercsifoci.hu
SUMMARY:U7 edzés
DESCRIPTION:
URL:https://mikepercsifoci.hu/esemeny/u7-edzes-3/2028-02-07/
LOCATION:Mikepércsi Hunyadi János Általános Iskola\, Nagyváradi utca 1.\, Mikepércs\, 4271\, Hungary
CATEGORIES:U7 edzések
END:VEVENT
BEGIN:VEVENT
DTSTART;TZID=Europe/Budapest:20280211T170000
DTEND;TZID=Europe/Budapest:20280211T180000
DTSTAMP:20260425T193253
CREATED:20260104T105755Z
LAST-MODIFIED:20260104T105806Z
UID:10001220-1833901200-1833904800@mikepercsifoci.hu
SUMMARY:U7 edzés
DESCRIPTION:
URL:https://mikepercsifoci.hu/esemeny/u7-edzes-2-2/2028-02-11/
LOCATION:Mikepércsi Hunyadi János Általános Iskola\, Nagyváradi utca 1.\, Mikepércs\, 4271\, Hungary
CATEGORIES:U7 edzések
END:VEVENT
BEGIN:VEVENT
DTSTART;TZID=Europe/Budapest:20280214T170000
DTEND;TZID=Europe/Budapest:20280214T180000
DTSTAMP:20260425T193253
CREATED:20260104T105839Z
LAST-MODIFIED:20260104T105848Z
UID:10001481-1834160400-1834164000@mikepercsifoci.hu
SUMMARY:U7 edzés
DESCRIPTION:
URL:https://mikepercsifoci.hu/esemeny/u7-edzes-3/2028-02-14/
LOCATION:Mikepércsi Hunyadi János Általános Iskola\, Nagyváradi utca 1.\, Mikepércs\, 4271\, Hungary
CATEGORIES:U7 edzések
END:VEVENT
BEGIN:VEVENT
DTSTART;TZID=Europe/Budapest:20280218T170000
DTEND;TZID=Europe/Budapest:20280218T180000
DTSTAMP:20260425T193253
CREATED:20260104T105755Z
LAST-MODIFIED:20260104T105806Z
UID:10001221-1834506000-1834509600@mikepercsifoci.hu
SUMMARY:U7 edzés
DESCRIPTION:
URL:https://mikepercsifoci.hu/esemeny/u7-edzes-2-2/2028-02-18/
LOCATION:Mikepércsi Hunyadi János Általános Iskola\, Nagyváradi utca 1.\, Mikepércs\, 4271\, Hungary
CATEGORIES:U7 edzések
END:VEVENT
BEGIN:VEVENT
DTSTART;TZID=Europe/Budapest:20280221T170000
DTEND;TZID=Europe/Budapest:20280221T180000
DTSTAMP:20260425T193253
CREATED:20260104T105839Z
LAST-MODIFIED:20260104T105848Z
UID:10001482-1834765200-1834768800@mikepercsifoci.hu
SUMMARY:U7 edzés
DESCRIPTION:
URL:https://mikepercsifoci.hu/esemeny/u7-edzes-3/2028-02-21/
LOCATION:Mikepércsi Hunyadi János Általános Iskola\, Nagyváradi utca 1.\, Mikepércs\, 4271\, Hungary
CATEGORIES:U7 edzések
END:VEVENT
BEGIN:VEVENT
DTSTART;TZID=Europe/Budapest:20280225T170000
DTEND;TZID=Europe/Budapest:20280225T180000
DTSTAMP:20260425T193253
CREATED:20260104T105755Z
LAST-MODIFIED:20260104T105806Z
UID:10001222-1835110800-1835114400@mikepercsifoci.hu
SUMMARY:U7 edzés
DESCRIPTION:
URL:https://mikepercsifoci.hu/esemeny/u7-edzes-2-2/2028-02-25/
LOCATION:Mikepércsi Hunyadi János Általános Iskola\, Nagyváradi utca 1.\, Mikepércs\, 4271\, Hungary
CATEGORIES:U7 edzések
END:VEVENT
BEGIN:VEVENT
DTSTART;TZID=Europe/Budapest:20280228T170000
DTEND;TZID=Europe/Budapest:20280228T180000
DTSTAMP:20260425T193253
CREATED:20260104T105839Z
LAST-MODIFIED:20260104T105848Z
UID:10001483-1835370000-1835373600@mikepercsifoci.hu
SUMMARY:U7 edzés
DESCRIPTION:
URL:https://mikepercsifoci.hu/esemeny/u7-edzes-3/2028-02-28/
LOCATION:Mikepércsi Hunyadi János Általános Iskola\, Nagyváradi utca 1.\, Mikepércs\, 4271\, Hungary
CATEGORIES:U7 edzések
END:VEVENT
BEGIN:VEVENT
DTSTART;TZID=Europe/Budapest:20280303T170000
DTEND;TZID=Europe/Budapest:20280303T180000
DTSTAMP:20260425T193253
CREATED:20260104T105755Z
LAST-MODIFIED:20260104T105806Z
UID:10001223-1835715600-1835719200@mikepercsifoci.hu
SUMMARY:U7 edzés
DESCRIPTION:
URL:https://mikepercsifoci.hu/esemeny/u7-edzes-2-2/2028-03-03/
LOCATION:Mikepércsi Hunyadi János Általános Iskola\, Nagyváradi utca 1.\, Mikepércs\, 4271\, Hungary
CATEGORIES:U7 edzések
END:VEVENT
BEGIN:VEVENT
DTSTART;TZID=Europe/Budapest:20280306T170000
DTEND;TZID=Europe/Budapest:20280306T180000
DTSTAMP:20260425T193253
CREATED:20260104T105839Z
LAST-MODIFIED:20260104T105848Z
UID:10001484-1835974800-1835978400@mikepercsifoci.hu
SUMMARY:U7 edzés
DESCRIPTION:
URL:https://mikepercsifoci.hu/esemeny/u7-edzes-3/2028-03-06/
LOCATION:Mikepércsi Hunyadi János Általános Iskola\, Nagyváradi utca 1.\, Mikepércs\, 4271\, Hungary
CATEGORIES:U7 edzések
END:VEVENT
BEGIN:VEVENT
DTSTART;TZID=Europe/Budapest:20280310T170000
DTEND;TZID=Europe/Budapest:20280310T180000
DTSTAMP:20260425T193253
CREATED:20260104T105755Z
LAST-MODIFIED:20260104T105806Z
UID:10001224-1836320400-1836324000@mikepercsifoci.hu
SUMMARY:U7 edzés
DESCRIPTION:
URL:https://mikepercsifoci.hu/esemeny/u7-edzes-2-2/2028-03-10/
LOCATION:Mikepércsi Hunyadi János Általános Iskola\, Nagyváradi utca 1.\, Mikepércs\, 4271\, Hungary
CATEGORIES:U7 edzések
END:VEVENT
BEGIN:VEVENT
DTSTART;TZID=Europe/Budapest:20280313T170000
DTEND;TZID=Europe/Budapest:20280313T180000
DTSTAMP:20260425T193253
CREATED:20260104T105839Z
LAST-MODIFIED:20260104T105848Z
UID:10001485-1836579600-1836583200@mikepercsifoci.hu
SUMMARY:U7 edzés
DESCRIPTION:
URL:https://mikepercsifoci.hu/esemeny/u7-edzes-3/2028-03-13/
LOCATION:Mikepércsi Hunyadi János Általános Iskola\, Nagyváradi utca 1.\, Mikepércs\, 4271\, Hungary
CATEGORIES:U7 edzések
END:VEVENT
BEGIN:VEVENT
DTSTART;TZID=Europe/Budapest:20280317T170000
DTEND;TZID=Europe/Budapest:20280317T180000
DTSTAMP:20260425T193253
CREATED:20260104T105755Z
LAST-MODIFIED:20260104T105806Z
UID:10001225-1836925200-1836928800@mikepercsifoci.hu
SUMMARY:U7 edzés
DESCRIPTION:
URL:https://mikepercsifoci.hu/esemeny/u7-edzes-2-2/2028-03-17/
LOCATION:Mikepércsi Hunyadi János Általános Iskola\, Nagyváradi utca 1.\, Mikepércs\, 4271\, Hungary
CATEGORIES:U7 edzések
END:VEVENT
END:VCALENDAR