BEGIN:VCALENDAR
VERSION:2.0
PRODID:-//Mikepércsi Foci - ECPv6.15.12.2//NONSGML v1.0//EN
CALSCALE:GREGORIAN
METHOD:PUBLISH
X-ORIGINAL-URL:https://mikepercsifoci.hu
X-WR-CALDESC:Események Mikepércsi Foci
REFRESH-INTERVAL;VALUE=DURATION:PT1H
X-Robots-Tag:noindex
X-PUBLISHED-TTL:PT1H
BEGIN:VTIMEZONE
TZID:Europe/Budapest
BEGIN:DAYLIGHT
TZOFFSETFROM:+0100
TZOFFSETTO:+0200
TZNAME:CEST
DTSTART:20270328T010000
END:DAYLIGHT
BEGIN:STANDARD
TZOFFSETFROM:+0200
TZOFFSETTO:+0100
TZNAME:CET
DTSTART:20271031T010000
END:STANDARD
BEGIN:DAYLIGHT
TZOFFSETFROM:+0100
TZOFFSETTO:+0200
TZNAME:CEST
DTSTART:20280326T010000
END:DAYLIGHT
BEGIN:STANDARD
TZOFFSETFROM:+0200
TZOFFSETTO:+0100
TZNAME:CET
DTSTART:20281029T010000
END:STANDARD
BEGIN:DAYLIGHT
TZOFFSETFROM:+0100
TZOFFSETTO:+0200
TZNAME:CEST
DTSTART:20290325T010000
END:DAYLIGHT
BEGIN:STANDARD
TZOFFSETFROM:+0200
TZOFFSETTO:+0100
TZNAME:CET
DTSTART:20291028T010000
END:STANDARD
END:VTIMEZONE
BEGIN:VEVENT
DTSTART;TZID=Europe/Budapest:20280814T170000
DTEND;TZID=Europe/Budapest:20280814T180000
DTSTAMP:20260426T050111
CREATED:20260104T105839Z
LAST-MODIFIED:20260104T105848Z
UID:10001507-1849885200-1849888800@mikepercsifoci.hu
SUMMARY:U7 edzés
DESCRIPTION:
URL:https://mikepercsifoci.hu/esemeny/u7-edzes-3/2028-08-14/
LOCATION:Mikepércsi Hunyadi János Általános Iskola\, Nagyváradi utca 1.\, Mikepércs\, 4271\, Hungary
CATEGORIES:U7 edzések
END:VEVENT
BEGIN:VEVENT
DTSTART;TZID=Europe/Budapest:20280818T170000
DTEND;TZID=Europe/Budapest:20280818T180000
DTSTAMP:20260426T050111
CREATED:20260104T105755Z
LAST-MODIFIED:20260104T105806Z
UID:10001247-1850230800-1850234400@mikepercsifoci.hu
SUMMARY:U7 edzés
DESCRIPTION:
URL:https://mikepercsifoci.hu/esemeny/u7-edzes-2-2/2028-08-18/
LOCATION:Mikepércsi Hunyadi János Általános Iskola\, Nagyváradi utca 1.\, Mikepércs\, 4271\, Hungary
CATEGORIES:U7 edzések
END:VEVENT
BEGIN:VEVENT
DTSTART;TZID=Europe/Budapest:20280821T170000
DTEND;TZID=Europe/Budapest:20280821T180000
DTSTAMP:20260426T050111
CREATED:20260104T105839Z
LAST-MODIFIED:20260104T105848Z
UID:10001508-1850490000-1850493600@mikepercsifoci.hu
SUMMARY:U7 edzés
DESCRIPTION:
URL:https://mikepercsifoci.hu/esemeny/u7-edzes-3/2028-08-21/
LOCATION:Mikepércsi Hunyadi János Általános Iskola\, Nagyváradi utca 1.\, Mikepércs\, 4271\, Hungary
CATEGORIES:U7 edzések
END:VEVENT
BEGIN:VEVENT
DTSTART;TZID=Europe/Budapest:20280825T170000
DTEND;TZID=Europe/Budapest:20280825T180000
DTSTAMP:20260426T050111
CREATED:20260104T105755Z
LAST-MODIFIED:20260104T105806Z
UID:10001248-1850835600-1850839200@mikepercsifoci.hu
SUMMARY:U7 edzés
DESCRIPTION:
URL:https://mikepercsifoci.hu/esemeny/u7-edzes-2-2/2028-08-25/
LOCATION:Mikepércsi Hunyadi János Általános Iskola\, Nagyváradi utca 1.\, Mikepércs\, 4271\, Hungary
CATEGORIES:U7 edzések
END:VEVENT
BEGIN:VEVENT
DTSTART;TZID=Europe/Budapest:20280828T170000
DTEND;TZID=Europe/Budapest:20280828T180000
DTSTAMP:20260426T050111
CREATED:20260104T105839Z
LAST-MODIFIED:20260104T105848Z
UID:10001509-1851094800-1851098400@mikepercsifoci.hu
SUMMARY:U7 edzés
DESCRIPTION:
URL:https://mikepercsifoci.hu/esemeny/u7-edzes-3/2028-08-28/
LOCATION:Mikepércsi Hunyadi János Általános Iskola\, Nagyváradi utca 1.\, Mikepércs\, 4271\, Hungary
CATEGORIES:U7 edzések
END:VEVENT
BEGIN:VEVENT
DTSTART;TZID=Europe/Budapest:20280901T170000
DTEND;TZID=Europe/Budapest:20280901T180000
DTSTAMP:20260426T050111
CREATED:20260104T105755Z
LAST-MODIFIED:20260104T105806Z
UID:10001249-1851440400-1851444000@mikepercsifoci.hu
SUMMARY:U7 edzés
DESCRIPTION:
URL:https://mikepercsifoci.hu/esemeny/u7-edzes-2-2/2028-09-01/
LOCATION:Mikepércsi Hunyadi János Általános Iskola\, Nagyváradi utca 1.\, Mikepércs\, 4271\, Hungary
CATEGORIES:U7 edzések
END:VEVENT
BEGIN:VEVENT
DTSTART;TZID=Europe/Budapest:20280904T170000
DTEND;TZID=Europe/Budapest:20280904T180000
DTSTAMP:20260426T050111
CREATED:20260104T105839Z
LAST-MODIFIED:20260104T105848Z
UID:10001510-1851699600-1851703200@mikepercsifoci.hu
SUMMARY:U7 edzés
DESCRIPTION:
URL:https://mikepercsifoci.hu/esemeny/u7-edzes-3/2028-09-04/
LOCATION:Mikepércsi Hunyadi János Általános Iskola\, Nagyváradi utca 1.\, Mikepércs\, 4271\, Hungary
CATEGORIES:U7 edzések
END:VEVENT
BEGIN:VEVENT
DTSTART;TZID=Europe/Budapest:20280908T170000
DTEND;TZID=Europe/Budapest:20280908T180000
DTSTAMP:20260426T050111
CREATED:20260104T105755Z
LAST-MODIFIED:20260104T105806Z
UID:10001250-1852045200-1852048800@mikepercsifoci.hu
SUMMARY:U7 edzés
DESCRIPTION:
URL:https://mikepercsifoci.hu/esemeny/u7-edzes-2-2/2028-09-08/
LOCATION:Mikepércsi Hunyadi János Általános Iskola\, Nagyváradi utca 1.\, Mikepércs\, 4271\, Hungary
CATEGORIES:U7 edzések
END:VEVENT
BEGIN:VEVENT
DTSTART;TZID=Europe/Budapest:20280911T170000
DTEND;TZID=Europe/Budapest:20280911T180000
DTSTAMP:20260426T050111
CREATED:20260104T105839Z
LAST-MODIFIED:20260104T105848Z
UID:10001511-1852304400-1852308000@mikepercsifoci.hu
SUMMARY:U7 edzés
DESCRIPTION:
URL:https://mikepercsifoci.hu/esemeny/u7-edzes-3/2028-09-11/
LOCATION:Mikepércsi Hunyadi János Általános Iskola\, Nagyváradi utca 1.\, Mikepércs\, 4271\, Hungary
CATEGORIES:U7 edzések
END:VEVENT
BEGIN:VEVENT
DTSTART;TZID=Europe/Budapest:20280915T170000
DTEND;TZID=Europe/Budapest:20280915T180000
DTSTAMP:20260426T050111
CREATED:20260104T105755Z
LAST-MODIFIED:20260104T105806Z
UID:10001251-1852650000-1852653600@mikepercsifoci.hu
SUMMARY:U7 edzés
DESCRIPTION:
URL:https://mikepercsifoci.hu/esemeny/u7-edzes-2-2/2028-09-15/
LOCATION:Mikepércsi Hunyadi János Általános Iskola\, Nagyváradi utca 1.\, Mikepércs\, 4271\, Hungary
CATEGORIES:U7 edzések
END:VEVENT
BEGIN:VEVENT
DTSTART;TZID=Europe/Budapest:20280918T170000
DTEND;TZID=Europe/Budapest:20280918T180000
DTSTAMP:20260426T050111
CREATED:20260104T105839Z
LAST-MODIFIED:20260104T105848Z
UID:10001512-1852909200-1852912800@mikepercsifoci.hu
SUMMARY:U7 edzés
DESCRIPTION:
URL:https://mikepercsifoci.hu/esemeny/u7-edzes-3/2028-09-18/
LOCATION:Mikepércsi Hunyadi János Általános Iskola\, Nagyváradi utca 1.\, Mikepércs\, 4271\, Hungary
CATEGORIES:U7 edzések
END:VEVENT
BEGIN:VEVENT
DTSTART;TZID=Europe/Budapest:20280922T170000
DTEND;TZID=Europe/Budapest:20280922T180000
DTSTAMP:20260426T050111
CREATED:20260104T105755Z
LAST-MODIFIED:20260104T105806Z
UID:10001252-1853254800-1853258400@mikepercsifoci.hu
SUMMARY:U7 edzés
DESCRIPTION:
URL:https://mikepercsifoci.hu/esemeny/u7-edzes-2-2/2028-09-22/
LOCATION:Mikepércsi Hunyadi János Általános Iskola\, Nagyváradi utca 1.\, Mikepércs\, 4271\, Hungary
CATEGORIES:U7 edzések
END:VEVENT
BEGIN:VEVENT
DTSTART;TZID=Europe/Budapest:20280925T170000
DTEND;TZID=Europe/Budapest:20280925T180000
DTSTAMP:20260426T050111
CREATED:20260104T105839Z
LAST-MODIFIED:20260104T105848Z
UID:10001513-1853514000-1853517600@mikepercsifoci.hu
SUMMARY:U7 edzés
DESCRIPTION:
URL:https://mikepercsifoci.hu/esemeny/u7-edzes-3/2028-09-25/
LOCATION:Mikepércsi Hunyadi János Általános Iskola\, Nagyváradi utca 1.\, Mikepércs\, 4271\, Hungary
CATEGORIES:U7 edzések
END:VEVENT
BEGIN:VEVENT
DTSTART;TZID=Europe/Budapest:20280929T170000
DTEND;TZID=Europe/Budapest:20280929T180000
DTSTAMP:20260426T050111
CREATED:20260104T105755Z
LAST-MODIFIED:20260104T105806Z
UID:10001253-1853859600-1853863200@mikepercsifoci.hu
SUMMARY:U7 edzés
DESCRIPTION:
URL:https://mikepercsifoci.hu/esemeny/u7-edzes-2-2/2028-09-29/
LOCATION:Mikepércsi Hunyadi János Általános Iskola\, Nagyváradi utca 1.\, Mikepércs\, 4271\, Hungary
CATEGORIES:U7 edzések
END:VEVENT
BEGIN:VEVENT
DTSTART;TZID=Europe/Budapest:20281002T170000
DTEND;TZID=Europe/Budapest:20281002T180000
DTSTAMP:20260426T050111
CREATED:20260104T105839Z
LAST-MODIFIED:20260104T105848Z
UID:10001514-1854118800-1854122400@mikepercsifoci.hu
SUMMARY:U7 edzés
DESCRIPTION:
URL:https://mikepercsifoci.hu/esemeny/u7-edzes-3/2028-10-02/
LOCATION:Mikepércsi Hunyadi János Általános Iskola\, Nagyváradi utca 1.\, Mikepércs\, 4271\, Hungary
CATEGORIES:U7 edzések
END:VEVENT
BEGIN:VEVENT
DTSTART;TZID=Europe/Budapest:20281006T170000
DTEND;TZID=Europe/Budapest:20281006T180000
DTSTAMP:20260426T050111
CREATED:20260104T105755Z
LAST-MODIFIED:20260104T105806Z
UID:10001254-1854464400-1854468000@mikepercsifoci.hu
SUMMARY:U7 edzés
DESCRIPTION:
URL:https://mikepercsifoci.hu/esemeny/u7-edzes-2-2/2028-10-06/
LOCATION:Mikepércsi Hunyadi János Általános Iskola\, Nagyváradi utca 1.\, Mikepércs\, 4271\, Hungary
CATEGORIES:U7 edzések
END:VEVENT
BEGIN:VEVENT
DTSTART;TZID=Europe/Budapest:20281009T170000
DTEND;TZID=Europe/Budapest:20281009T180000
DTSTAMP:20260426T050111
CREATED:20260104T105839Z
LAST-MODIFIED:20260104T105848Z
UID:10001515-1854723600-1854727200@mikepercsifoci.hu
SUMMARY:U7 edzés
DESCRIPTION:
URL:https://mikepercsifoci.hu/esemeny/u7-edzes-3/2028-10-09/
LOCATION:Mikepércsi Hunyadi János Általános Iskola\, Nagyváradi utca 1.\, Mikepércs\, 4271\, Hungary
CATEGORIES:U7 edzések
END:VEVENT
BEGIN:VEVENT
DTSTART;TZID=Europe/Budapest:20281013T170000
DTEND;TZID=Europe/Budapest:20281013T180000
DTSTAMP:20260426T050111
CREATED:20260104T105755Z
LAST-MODIFIED:20260104T105806Z
UID:10001255-1855069200-1855072800@mikepercsifoci.hu
SUMMARY:U7 edzés
DESCRIPTION:
URL:https://mikepercsifoci.hu/esemeny/u7-edzes-2-2/2028-10-13/
LOCATION:Mikepércsi Hunyadi János Általános Iskola\, Nagyváradi utca 1.\, Mikepércs\, 4271\, Hungary
CATEGORIES:U7 edzések
END:VEVENT
BEGIN:VEVENT
DTSTART;TZID=Europe/Budapest:20281016T170000
DTEND;TZID=Europe/Budapest:20281016T180000
DTSTAMP:20260426T050111
CREATED:20260104T105839Z
LAST-MODIFIED:20260104T105848Z
UID:10001516-1855328400-1855332000@mikepercsifoci.hu
SUMMARY:U7 edzés
DESCRIPTION:
URL:https://mikepercsifoci.hu/esemeny/u7-edzes-3/2028-10-16/
LOCATION:Mikepércsi Hunyadi János Általános Iskola\, Nagyváradi utca 1.\, Mikepércs\, 4271\, Hungary
CATEGORIES:U7 edzések
END:VEVENT
BEGIN:VEVENT
DTSTART;TZID=Europe/Budapest:20281020T170000
DTEND;TZID=Europe/Budapest:20281020T180000
DTSTAMP:20260426T050111
CREATED:20260104T105755Z
LAST-MODIFIED:20260104T105806Z
UID:10001256-1855674000-1855677600@mikepercsifoci.hu
SUMMARY:U7 edzés
DESCRIPTION:
URL:https://mikepercsifoci.hu/esemeny/u7-edzes-2-2/2028-10-20/
LOCATION:Mikepércsi Hunyadi János Általános Iskola\, Nagyváradi utca 1.\, Mikepércs\, 4271\, Hungary
CATEGORIES:U7 edzések
END:VEVENT
BEGIN:VEVENT
DTSTART;TZID=Europe/Budapest:20281023T170000
DTEND;TZID=Europe/Budapest:20281023T180000
DTSTAMP:20260426T050111
CREATED:20260104T105839Z
LAST-MODIFIED:20260104T105848Z
UID:10001517-1855933200-1855936800@mikepercsifoci.hu
SUMMARY:U7 edzés
DESCRIPTION:
URL:https://mikepercsifoci.hu/esemeny/u7-edzes-3/2028-10-23/
LOCATION:Mikepércsi Hunyadi János Általános Iskola\, Nagyváradi utca 1.\, Mikepércs\, 4271\, Hungary
CATEGORIES:U7 edzések
END:VEVENT
BEGIN:VEVENT
DTSTART;TZID=Europe/Budapest:20281027T170000
DTEND;TZID=Europe/Budapest:20281027T180000
DTSTAMP:20260426T050111
CREATED:20260104T105755Z
LAST-MODIFIED:20260104T105806Z
UID:10001257-1856278800-1856282400@mikepercsifoci.hu
SUMMARY:U7 edzés
DESCRIPTION:
URL:https://mikepercsifoci.hu/esemeny/u7-edzes-2-2/2028-10-27/
LOCATION:Mikepércsi Hunyadi János Általános Iskola\, Nagyváradi utca 1.\, Mikepércs\, 4271\, Hungary
CATEGORIES:U7 edzések
END:VEVENT
BEGIN:VEVENT
DTSTART;TZID=Europe/Budapest:20281030T170000
DTEND;TZID=Europe/Budapest:20281030T180000
DTSTAMP:20260426T050111
CREATED:20260104T105839Z
LAST-MODIFIED:20260104T105848Z
UID:10001518-1856538000-1856541600@mikepercsifoci.hu
SUMMARY:U7 edzés
DESCRIPTION:
URL:https://mikepercsifoci.hu/esemeny/u7-edzes-3/2028-10-30/
LOCATION:Mikepércsi Hunyadi János Általános Iskola\, Nagyváradi utca 1.\, Mikepércs\, 4271\, Hungary
CATEGORIES:U7 edzések
END:VEVENT
BEGIN:VEVENT
DTSTART;TZID=Europe/Budapest:20281103T170000
DTEND;TZID=Europe/Budapest:20281103T180000
DTSTAMP:20260426T050111
CREATED:20260104T105755Z
LAST-MODIFIED:20260104T105806Z
UID:10001258-1856883600-1856887200@mikepercsifoci.hu
SUMMARY:U7 edzés
DESCRIPTION:
URL:https://mikepercsifoci.hu/esemeny/u7-edzes-2-2/2028-11-03/
LOCATION:Mikepércsi Hunyadi János Általános Iskola\, Nagyváradi utca 1.\, Mikepércs\, 4271\, Hungary
CATEGORIES:U7 edzések
END:VEVENT
BEGIN:VEVENT
DTSTART;TZID=Europe/Budapest:20281106T170000
DTEND;TZID=Europe/Budapest:20281106T180000
DTSTAMP:20260426T050111
CREATED:20260104T105839Z
LAST-MODIFIED:20260104T105848Z
UID:10001519-1857142800-1857146400@mikepercsifoci.hu
SUMMARY:U7 edzés
DESCRIPTION:
URL:https://mikepercsifoci.hu/esemeny/u7-edzes-3/2028-11-06/
LOCATION:Mikepércsi Hunyadi János Általános Iskola\, Nagyváradi utca 1.\, Mikepércs\, 4271\, Hungary
CATEGORIES:U7 edzések
END:VEVENT
BEGIN:VEVENT
DTSTART;TZID=Europe/Budapest:20281110T170000
DTEND;TZID=Europe/Budapest:20281110T180000
DTSTAMP:20260426T050111
CREATED:20260104T105755Z
LAST-MODIFIED:20260104T105806Z
UID:10001259-1857488400-1857492000@mikepercsifoci.hu
SUMMARY:U7 edzés
DESCRIPTION:
URL:https://mikepercsifoci.hu/esemeny/u7-edzes-2-2/2028-11-10/
LOCATION:Mikepércsi Hunyadi János Általános Iskola\, Nagyváradi utca 1.\, Mikepércs\, 4271\, Hungary
CATEGORIES:U7 edzések
END:VEVENT
BEGIN:VEVENT
DTSTART;TZID=Europe/Budapest:20281113T170000
DTEND;TZID=Europe/Budapest:20281113T180000
DTSTAMP:20260426T050111
CREATED:20260104T105839Z
LAST-MODIFIED:20260104T105848Z
UID:10001520-1857747600-1857751200@mikepercsifoci.hu
SUMMARY:U7 edzés
DESCRIPTION:
URL:https://mikepercsifoci.hu/esemeny/u7-edzes-3/2028-11-13/
LOCATION:Mikepércsi Hunyadi János Általános Iskola\, Nagyváradi utca 1.\, Mikepércs\, 4271\, Hungary
CATEGORIES:U7 edzések
END:VEVENT
BEGIN:VEVENT
DTSTART;TZID=Europe/Budapest:20281117T170000
DTEND;TZID=Europe/Budapest:20281117T180000
DTSTAMP:20260426T050111
CREATED:20260104T105755Z
LAST-MODIFIED:20260104T105806Z
UID:10001260-1858093200-1858096800@mikepercsifoci.hu
SUMMARY:U7 edzés
DESCRIPTION:
URL:https://mikepercsifoci.hu/esemeny/u7-edzes-2-2/2028-11-17/
LOCATION:Mikepércsi Hunyadi János Általános Iskola\, Nagyváradi utca 1.\, Mikepércs\, 4271\, Hungary
CATEGORIES:U7 edzések
END:VEVENT
BEGIN:VEVENT
DTSTART;TZID=Europe/Budapest:20281120T170000
DTEND;TZID=Europe/Budapest:20281120T180000
DTSTAMP:20260426T050111
CREATED:20260104T105839Z
LAST-MODIFIED:20260104T105848Z
UID:10001521-1858352400-1858356000@mikepercsifoci.hu
SUMMARY:U7 edzés
DESCRIPTION:
URL:https://mikepercsifoci.hu/esemeny/u7-edzes-3/2028-11-20/
LOCATION:Mikepércsi Hunyadi János Általános Iskola\, Nagyváradi utca 1.\, Mikepércs\, 4271\, Hungary
CATEGORIES:U7 edzések
END:VEVENT
BEGIN:VEVENT
DTSTART;TZID=Europe/Budapest:20281124T170000
DTEND;TZID=Europe/Budapest:20281124T180000
DTSTAMP:20260426T050111
CREATED:20260104T105755Z
LAST-MODIFIED:20260104T105806Z
UID:10001261-1858698000-1858701600@mikepercsifoci.hu
SUMMARY:U7 edzés
DESCRIPTION:
URL:https://mikepercsifoci.hu/esemeny/u7-edzes-2-2/2028-11-24/
LOCATION:Mikepércsi Hunyadi János Általános Iskola\, Nagyváradi utca 1.\, Mikepércs\, 4271\, Hungary
CATEGORIES:U7 edzések
END:VEVENT
END:VCALENDAR