BEGIN:VCALENDAR
VERSION:2.0
PRODID:-//Mikepércsi Foci - ECPv6.15.12.2//NONSGML v1.0//EN
CALSCALE:GREGORIAN
METHOD:PUBLISH
X-WR-CALNAME:Mikepércsi Foci
X-ORIGINAL-URL:https://mikepercsifoci.hu
X-WR-CALDESC:Események Mikepércsi Foci
REFRESH-INTERVAL;VALUE=DURATION:PT1H
X-Robots-Tag:noindex
X-PUBLISHED-TTL:PT1H
BEGIN:VTIMEZONE
TZID:Europe/Budapest
BEGIN:DAYLIGHT
TZOFFSETFROM:+0100
TZOFFSETTO:+0200
TZNAME:CEST
DTSTART:20270328T010000
END:DAYLIGHT
BEGIN:STANDARD
TZOFFSETFROM:+0200
TZOFFSETTO:+0100
TZNAME:CET
DTSTART:20271031T010000
END:STANDARD
BEGIN:DAYLIGHT
TZOFFSETFROM:+0100
TZOFFSETTO:+0200
TZNAME:CEST
DTSTART:20280326T010000
END:DAYLIGHT
BEGIN:STANDARD
TZOFFSETFROM:+0200
TZOFFSETTO:+0100
TZNAME:CET
DTSTART:20281029T010000
END:STANDARD
BEGIN:DAYLIGHT
TZOFFSETFROM:+0100
TZOFFSETTO:+0200
TZNAME:CEST
DTSTART:20290325T010000
END:DAYLIGHT
BEGIN:STANDARD
TZOFFSETFROM:+0200
TZOFFSETTO:+0100
TZNAME:CET
DTSTART:20291028T010000
END:STANDARD
END:VTIMEZONE
BEGIN:VEVENT
DTSTART;TZID=Europe/Budapest:20280118T190000
DTEND;TZID=Europe/Budapest:20280118T200000
DTSTAMP:20260425T193203
CREATED:20260104T105409Z
LAST-MODIFIED:20260104T105449Z
UID:10000177-1831834800-1831838400@mikepercsifoci.hu
SUMMARY:U11 edzés
DESCRIPTION:
URL:https://mikepercsifoci.hu/esemeny/u11-edzes-3/2028-01-18/
LOCATION:Mikepércsi Hunyadi János Általános Iskola\, Nagyváradi utca 1.\, Mikepércs\, 4271\, Hungary
CATEGORIES:U11 edzések
END:VEVENT
BEGIN:VEVENT
DTSTART;TZID=Europe/Budapest:20280121T180000
DTEND;TZID=Europe/Budapest:20280121T190000
DTSTAMP:20260425T193203
CREATED:20260104T105249Z
LAST-MODIFIED:20260104T105515Z
UID:10000437-1832090400-1832094000@mikepercsifoci.hu
SUMMARY:U11 edzés
DESCRIPTION:
URL:https://mikepercsifoci.hu/esemeny/u11-edzes-2-2/2028-01-21/
LOCATION:Mikepércsi Hunyadi János Általános Iskola\, Nagyváradi utca 1.\, Mikepércs\, 4271\, Hungary
CATEGORIES:U11 edzések
END:VEVENT
BEGIN:VEVENT
DTSTART;TZID=Europe/Budapest:20280125T190000
DTEND;TZID=Europe/Budapest:20280125T200000
DTSTAMP:20260425T193203
CREATED:20260104T105409Z
LAST-MODIFIED:20260104T105449Z
UID:10000178-1832439600-1832443200@mikepercsifoci.hu
SUMMARY:U11 edzés
DESCRIPTION:
URL:https://mikepercsifoci.hu/esemeny/u11-edzes-3/2028-01-25/
LOCATION:Mikepércsi Hunyadi János Általános Iskola\, Nagyváradi utca 1.\, Mikepércs\, 4271\, Hungary
CATEGORIES:U11 edzések
END:VEVENT
BEGIN:VEVENT
DTSTART;TZID=Europe/Budapest:20280128T180000
DTEND;TZID=Europe/Budapest:20280128T190000
DTSTAMP:20260425T193203
CREATED:20260104T105249Z
LAST-MODIFIED:20260104T105515Z
UID:10000438-1832695200-1832698800@mikepercsifoci.hu
SUMMARY:U11 edzés
DESCRIPTION:
URL:https://mikepercsifoci.hu/esemeny/u11-edzes-2-2/2028-01-28/
LOCATION:Mikepércsi Hunyadi János Általános Iskola\, Nagyváradi utca 1.\, Mikepércs\, 4271\, Hungary
CATEGORIES:U11 edzések
END:VEVENT
BEGIN:VEVENT
DTSTART;TZID=Europe/Budapest:20280201T190000
DTEND;TZID=Europe/Budapest:20280201T200000
DTSTAMP:20260425T193203
CREATED:20260104T105409Z
LAST-MODIFIED:20260104T105449Z
UID:10000179-1833044400-1833048000@mikepercsifoci.hu
SUMMARY:U11 edzés
DESCRIPTION:
URL:https://mikepercsifoci.hu/esemeny/u11-edzes-3/2028-02-01/
LOCATION:Mikepércsi Hunyadi János Általános Iskola\, Nagyváradi utca 1.\, Mikepércs\, 4271\, Hungary
CATEGORIES:U11 edzések
END:VEVENT
BEGIN:VEVENT
DTSTART;TZID=Europe/Budapest:20280204T180000
DTEND;TZID=Europe/Budapest:20280204T190000
DTSTAMP:20260425T193203
CREATED:20260104T105249Z
LAST-MODIFIED:20260104T105515Z
UID:10000439-1833300000-1833303600@mikepercsifoci.hu
SUMMARY:U11 edzés
DESCRIPTION:
URL:https://mikepercsifoci.hu/esemeny/u11-edzes-2-2/2028-02-04/
LOCATION:Mikepércsi Hunyadi János Általános Iskola\, Nagyváradi utca 1.\, Mikepércs\, 4271\, Hungary
CATEGORIES:U11 edzések
END:VEVENT
BEGIN:VEVENT
DTSTART;TZID=Europe/Budapest:20280208T190000
DTEND;TZID=Europe/Budapest:20280208T200000
DTSTAMP:20260425T193203
CREATED:20260104T105409Z
LAST-MODIFIED:20260104T105449Z
UID:10000180-1833649200-1833652800@mikepercsifoci.hu
SUMMARY:U11 edzés
DESCRIPTION:
URL:https://mikepercsifoci.hu/esemeny/u11-edzes-3/2028-02-08/
LOCATION:Mikepércsi Hunyadi János Általános Iskola\, Nagyváradi utca 1.\, Mikepércs\, 4271\, Hungary
CATEGORIES:U11 edzések
END:VEVENT
BEGIN:VEVENT
DTSTART;TZID=Europe/Budapest:20280211T180000
DTEND;TZID=Europe/Budapest:20280211T190000
DTSTAMP:20260425T193203
CREATED:20260104T105249Z
LAST-MODIFIED:20260104T105515Z
UID:10000440-1833904800-1833908400@mikepercsifoci.hu
SUMMARY:U11 edzés
DESCRIPTION:
URL:https://mikepercsifoci.hu/esemeny/u11-edzes-2-2/2028-02-11/
LOCATION:Mikepércsi Hunyadi János Általános Iskola\, Nagyváradi utca 1.\, Mikepércs\, 4271\, Hungary
CATEGORIES:U11 edzések
END:VEVENT
BEGIN:VEVENT
DTSTART;TZID=Europe/Budapest:20280215T190000
DTEND;TZID=Europe/Budapest:20280215T200000
DTSTAMP:20260425T193203
CREATED:20260104T105409Z
LAST-MODIFIED:20260104T105449Z
UID:10000181-1834254000-1834257600@mikepercsifoci.hu
SUMMARY:U11 edzés
DESCRIPTION:
URL:https://mikepercsifoci.hu/esemeny/u11-edzes-3/2028-02-15/
LOCATION:Mikepércsi Hunyadi János Általános Iskola\, Nagyváradi utca 1.\, Mikepércs\, 4271\, Hungary
CATEGORIES:U11 edzések
END:VEVENT
BEGIN:VEVENT
DTSTART;TZID=Europe/Budapest:20280218T180000
DTEND;TZID=Europe/Budapest:20280218T190000
DTSTAMP:20260425T193203
CREATED:20260104T105249Z
LAST-MODIFIED:20260104T105515Z
UID:10000441-1834509600-1834513200@mikepercsifoci.hu
SUMMARY:U11 edzés
DESCRIPTION:
URL:https://mikepercsifoci.hu/esemeny/u11-edzes-2-2/2028-02-18/
LOCATION:Mikepércsi Hunyadi János Általános Iskola\, Nagyváradi utca 1.\, Mikepércs\, 4271\, Hungary
CATEGORIES:U11 edzések
END:VEVENT
BEGIN:VEVENT
DTSTART;TZID=Europe/Budapest:20280222T190000
DTEND;TZID=Europe/Budapest:20280222T200000
DTSTAMP:20260425T193203
CREATED:20260104T105409Z
LAST-MODIFIED:20260104T105449Z
UID:10000182-1834858800-1834862400@mikepercsifoci.hu
SUMMARY:U11 edzés
DESCRIPTION:
URL:https://mikepercsifoci.hu/esemeny/u11-edzes-3/2028-02-22/
LOCATION:Mikepércsi Hunyadi János Általános Iskola\, Nagyváradi utca 1.\, Mikepércs\, 4271\, Hungary
CATEGORIES:U11 edzések
END:VEVENT
BEGIN:VEVENT
DTSTART;TZID=Europe/Budapest:20280225T180000
DTEND;TZID=Europe/Budapest:20280225T190000
DTSTAMP:20260425T193203
CREATED:20260104T105249Z
LAST-MODIFIED:20260104T105515Z
UID:10000442-1835114400-1835118000@mikepercsifoci.hu
SUMMARY:U11 edzés
DESCRIPTION:
URL:https://mikepercsifoci.hu/esemeny/u11-edzes-2-2/2028-02-25/
LOCATION:Mikepércsi Hunyadi János Általános Iskola\, Nagyváradi utca 1.\, Mikepércs\, 4271\, Hungary
CATEGORIES:U11 edzések
END:VEVENT
BEGIN:VEVENT
DTSTART;TZID=Europe/Budapest:20280229T190000
DTEND;TZID=Europe/Budapest:20280229T200000
DTSTAMP:20260425T193203
CREATED:20260104T105409Z
LAST-MODIFIED:20260104T105449Z
UID:10000183-1835463600-1835467200@mikepercsifoci.hu
SUMMARY:U11 edzés
DESCRIPTION:
URL:https://mikepercsifoci.hu/esemeny/u11-edzes-3/2028-02-29/
LOCATION:Mikepércsi Hunyadi János Általános Iskola\, Nagyváradi utca 1.\, Mikepércs\, 4271\, Hungary
CATEGORIES:U11 edzések
END:VEVENT
BEGIN:VEVENT
DTSTART;TZID=Europe/Budapest:20280303T180000
DTEND;TZID=Europe/Budapest:20280303T190000
DTSTAMP:20260425T193203
CREATED:20260104T105249Z
LAST-MODIFIED:20260104T105515Z
UID:10000443-1835719200-1835722800@mikepercsifoci.hu
SUMMARY:U11 edzés
DESCRIPTION:
URL:https://mikepercsifoci.hu/esemeny/u11-edzes-2-2/2028-03-03/
LOCATION:Mikepércsi Hunyadi János Általános Iskola\, Nagyváradi utca 1.\, Mikepércs\, 4271\, Hungary
CATEGORIES:U11 edzések
END:VEVENT
BEGIN:VEVENT
DTSTART;TZID=Europe/Budapest:20280307T190000
DTEND;TZID=Europe/Budapest:20280307T200000
DTSTAMP:20260425T193203
CREATED:20260104T105409Z
LAST-MODIFIED:20260104T105449Z
UID:10000184-1836068400-1836072000@mikepercsifoci.hu
SUMMARY:U11 edzés
DESCRIPTION:
URL:https://mikepercsifoci.hu/esemeny/u11-edzes-3/2028-03-07/
LOCATION:Mikepércsi Hunyadi János Általános Iskola\, Nagyváradi utca 1.\, Mikepércs\, 4271\, Hungary
CATEGORIES:U11 edzések
END:VEVENT
BEGIN:VEVENT
DTSTART;TZID=Europe/Budapest:20280310T180000
DTEND;TZID=Europe/Budapest:20280310T190000
DTSTAMP:20260425T193203
CREATED:20260104T105249Z
LAST-MODIFIED:20260104T105515Z
UID:10000444-1836324000-1836327600@mikepercsifoci.hu
SUMMARY:U11 edzés
DESCRIPTION:
URL:https://mikepercsifoci.hu/esemeny/u11-edzes-2-2/2028-03-10/
LOCATION:Mikepércsi Hunyadi János Általános Iskola\, Nagyváradi utca 1.\, Mikepércs\, 4271\, Hungary
CATEGORIES:U11 edzések
END:VEVENT
BEGIN:VEVENT
DTSTART;TZID=Europe/Budapest:20280314T190000
DTEND;TZID=Europe/Budapest:20280314T200000
DTSTAMP:20260425T193203
CREATED:20260104T105409Z
LAST-MODIFIED:20260104T105449Z
UID:10000185-1836673200-1836676800@mikepercsifoci.hu
SUMMARY:U11 edzés
DESCRIPTION:
URL:https://mikepercsifoci.hu/esemeny/u11-edzes-3/2028-03-14/
LOCATION:Mikepércsi Hunyadi János Általános Iskola\, Nagyváradi utca 1.\, Mikepércs\, 4271\, Hungary
CATEGORIES:U11 edzések
END:VEVENT
BEGIN:VEVENT
DTSTART;TZID=Europe/Budapest:20280317T180000
DTEND;TZID=Europe/Budapest:20280317T190000
DTSTAMP:20260425T193203
CREATED:20260104T105249Z
LAST-MODIFIED:20260104T105515Z
UID:10000445-1836928800-1836932400@mikepercsifoci.hu
SUMMARY:U11 edzés
DESCRIPTION:
URL:https://mikepercsifoci.hu/esemeny/u11-edzes-2-2/2028-03-17/
LOCATION:Mikepércsi Hunyadi János Általános Iskola\, Nagyváradi utca 1.\, Mikepércs\, 4271\, Hungary
CATEGORIES:U11 edzések
END:VEVENT
BEGIN:VEVENT
DTSTART;TZID=Europe/Budapest:20280321T190000
DTEND;TZID=Europe/Budapest:20280321T200000
DTSTAMP:20260425T193203
CREATED:20260104T105409Z
LAST-MODIFIED:20260104T105449Z
UID:10000186-1837278000-1837281600@mikepercsifoci.hu
SUMMARY:U11 edzés
DESCRIPTION:
URL:https://mikepercsifoci.hu/esemeny/u11-edzes-3/2028-03-21/
LOCATION:Mikepércsi Hunyadi János Általános Iskola\, Nagyváradi utca 1.\, Mikepércs\, 4271\, Hungary
CATEGORIES:U11 edzések
END:VEVENT
BEGIN:VEVENT
DTSTART;TZID=Europe/Budapest:20280324T180000
DTEND;TZID=Europe/Budapest:20280324T190000
DTSTAMP:20260425T193203
CREATED:20260104T105249Z
LAST-MODIFIED:20260104T105515Z
UID:10000446-1837533600-1837537200@mikepercsifoci.hu
SUMMARY:U11 edzés
DESCRIPTION:
URL:https://mikepercsifoci.hu/esemeny/u11-edzes-2-2/2028-03-24/
LOCATION:Mikepércsi Hunyadi János Általános Iskola\, Nagyváradi utca 1.\, Mikepércs\, 4271\, Hungary
CATEGORIES:U11 edzések
END:VEVENT
BEGIN:VEVENT
DTSTART;TZID=Europe/Budapest:20280328T190000
DTEND;TZID=Europe/Budapest:20280328T200000
DTSTAMP:20260425T193203
CREATED:20260104T105409Z
LAST-MODIFIED:20260104T105449Z
UID:10000187-1837882800-1837886400@mikepercsifoci.hu
SUMMARY:U11 edzés
DESCRIPTION:
URL:https://mikepercsifoci.hu/esemeny/u11-edzes-3/2028-03-28/
LOCATION:Mikepércsi Hunyadi János Általános Iskola\, Nagyváradi utca 1.\, Mikepércs\, 4271\, Hungary
CATEGORIES:U11 edzések
END:VEVENT
BEGIN:VEVENT
DTSTART;TZID=Europe/Budapest:20280331T180000
DTEND;TZID=Europe/Budapest:20280331T190000
DTSTAMP:20260425T193203
CREATED:20260104T105249Z
LAST-MODIFIED:20260104T105515Z
UID:10000447-1838138400-1838142000@mikepercsifoci.hu
SUMMARY:U11 edzés
DESCRIPTION:
URL:https://mikepercsifoci.hu/esemeny/u11-edzes-2-2/2028-03-31/
LOCATION:Mikepércsi Hunyadi János Általános Iskola\, Nagyváradi utca 1.\, Mikepércs\, 4271\, Hungary
CATEGORIES:U11 edzések
END:VEVENT
BEGIN:VEVENT
DTSTART;TZID=Europe/Budapest:20280404T190000
DTEND;TZID=Europe/Budapest:20280404T200000
DTSTAMP:20260425T193203
CREATED:20260104T105409Z
LAST-MODIFIED:20260104T105449Z
UID:10000188-1838487600-1838491200@mikepercsifoci.hu
SUMMARY:U11 edzés
DESCRIPTION:
URL:https://mikepercsifoci.hu/esemeny/u11-edzes-3/2028-04-04/
LOCATION:Mikepércsi Hunyadi János Általános Iskola\, Nagyváradi utca 1.\, Mikepércs\, 4271\, Hungary
CATEGORIES:U11 edzések
END:VEVENT
BEGIN:VEVENT
DTSTART;TZID=Europe/Budapest:20280407T180000
DTEND;TZID=Europe/Budapest:20280407T190000
DTSTAMP:20260425T193203
CREATED:20260104T105249Z
LAST-MODIFIED:20260104T105515Z
UID:10000448-1838743200-1838746800@mikepercsifoci.hu
SUMMARY:U11 edzés
DESCRIPTION:
URL:https://mikepercsifoci.hu/esemeny/u11-edzes-2-2/2028-04-07/
LOCATION:Mikepércsi Hunyadi János Általános Iskola\, Nagyváradi utca 1.\, Mikepércs\, 4271\, Hungary
CATEGORIES:U11 edzések
END:VEVENT
BEGIN:VEVENT
DTSTART;TZID=Europe/Budapest:20280411T190000
DTEND;TZID=Europe/Budapest:20280411T200000
DTSTAMP:20260425T193203
CREATED:20260104T105409Z
LAST-MODIFIED:20260104T105449Z
UID:10000189-1839092400-1839096000@mikepercsifoci.hu
SUMMARY:U11 edzés
DESCRIPTION:
URL:https://mikepercsifoci.hu/esemeny/u11-edzes-3/2028-04-11/
LOCATION:Mikepércsi Hunyadi János Általános Iskola\, Nagyváradi utca 1.\, Mikepércs\, 4271\, Hungary
CATEGORIES:U11 edzések
END:VEVENT
BEGIN:VEVENT
DTSTART;TZID=Europe/Budapest:20280414T180000
DTEND;TZID=Europe/Budapest:20280414T190000
DTSTAMP:20260425T193203
CREATED:20260104T105249Z
LAST-MODIFIED:20260104T105515Z
UID:10000449-1839348000-1839351600@mikepercsifoci.hu
SUMMARY:U11 edzés
DESCRIPTION:
URL:https://mikepercsifoci.hu/esemeny/u11-edzes-2-2/2028-04-14/
LOCATION:Mikepércsi Hunyadi János Általános Iskola\, Nagyváradi utca 1.\, Mikepércs\, 4271\, Hungary
CATEGORIES:U11 edzések
END:VEVENT
BEGIN:VEVENT
DTSTART;TZID=Europe/Budapest:20280418T190000
DTEND;TZID=Europe/Budapest:20280418T200000
DTSTAMP:20260425T193203
CREATED:20260104T105409Z
LAST-MODIFIED:20260104T105449Z
UID:10000190-1839697200-1839700800@mikepercsifoci.hu
SUMMARY:U11 edzés
DESCRIPTION:
URL:https://mikepercsifoci.hu/esemeny/u11-edzes-3/2028-04-18/
LOCATION:Mikepércsi Hunyadi János Általános Iskola\, Nagyváradi utca 1.\, Mikepércs\, 4271\, Hungary
CATEGORIES:U11 edzések
END:VEVENT
BEGIN:VEVENT
DTSTART;TZID=Europe/Budapest:20280421T180000
DTEND;TZID=Europe/Budapest:20280421T190000
DTSTAMP:20260425T193203
CREATED:20260104T105249Z
LAST-MODIFIED:20260104T105515Z
UID:10000450-1839952800-1839956400@mikepercsifoci.hu
SUMMARY:U11 edzés
DESCRIPTION:
URL:https://mikepercsifoci.hu/esemeny/u11-edzes-2-2/2028-04-21/
LOCATION:Mikepércsi Hunyadi János Általános Iskola\, Nagyváradi utca 1.\, Mikepércs\, 4271\, Hungary
CATEGORIES:U11 edzések
END:VEVENT
BEGIN:VEVENT
DTSTART;TZID=Europe/Budapest:20280425T190000
DTEND;TZID=Europe/Budapest:20280425T200000
DTSTAMP:20260425T193203
CREATED:20260104T105409Z
LAST-MODIFIED:20260104T105449Z
UID:10000191-1840302000-1840305600@mikepercsifoci.hu
SUMMARY:U11 edzés
DESCRIPTION:
URL:https://mikepercsifoci.hu/esemeny/u11-edzes-3/2028-04-25/
LOCATION:Mikepércsi Hunyadi János Általános Iskola\, Nagyváradi utca 1.\, Mikepércs\, 4271\, Hungary
CATEGORIES:U11 edzések
END:VEVENT
BEGIN:VEVENT
DTSTART;TZID=Europe/Budapest:20280428T180000
DTEND;TZID=Europe/Budapest:20280428T190000
DTSTAMP:20260425T193203
CREATED:20260104T105249Z
LAST-MODIFIED:20260104T105515Z
UID:10000451-1840557600-1840561200@mikepercsifoci.hu
SUMMARY:U11 edzés
DESCRIPTION:
URL:https://mikepercsifoci.hu/esemeny/u11-edzes-2-2/2028-04-28/
LOCATION:Mikepércsi Hunyadi János Általános Iskola\, Nagyváradi utca 1.\, Mikepércs\, 4271\, Hungary
CATEGORIES:U11 edzések
END:VEVENT
END:VCALENDAR