BEGIN:VCALENDAR
VERSION:2.0
PRODID:-//Mikepércsi Foci - ECPv6.15.12.2//NONSGML v1.0//EN
CALSCALE:GREGORIAN
METHOD:PUBLISH
X-WR-CALNAME:Mikepércsi Foci
X-ORIGINAL-URL:https://mikepercsifoci.hu
X-WR-CALDESC:Események Mikepércsi Foci
REFRESH-INTERVAL;VALUE=DURATION:PT1H
X-Robots-Tag:noindex
X-PUBLISHED-TTL:PT1H
BEGIN:VTIMEZONE
TZID:Europe/Budapest
BEGIN:DAYLIGHT
TZOFFSETFROM:+0100
TZOFFSETTO:+0200
TZNAME:CEST
DTSTART:20270328T010000
END:DAYLIGHT
BEGIN:STANDARD
TZOFFSETFROM:+0200
TZOFFSETTO:+0100
TZNAME:CET
DTSTART:20271031T010000
END:STANDARD
BEGIN:DAYLIGHT
TZOFFSETFROM:+0100
TZOFFSETTO:+0200
TZNAME:CEST
DTSTART:20280326T010000
END:DAYLIGHT
BEGIN:STANDARD
TZOFFSETFROM:+0200
TZOFFSETTO:+0100
TZNAME:CET
DTSTART:20281029T010000
END:STANDARD
BEGIN:DAYLIGHT
TZOFFSETFROM:+0100
TZOFFSETTO:+0200
TZNAME:CEST
DTSTART:20290325T010000
END:DAYLIGHT
BEGIN:STANDARD
TZOFFSETFROM:+0200
TZOFFSETTO:+0100
TZNAME:CET
DTSTART:20291028T010000
END:STANDARD
END:VTIMEZONE
BEGIN:VEVENT
DTSTART;TZID=Europe/Budapest:20280523T190000
DTEND;TZID=Europe/Budapest:20280523T200000
DTSTAMP:20260426T002251
CREATED:20260104T105409Z
LAST-MODIFIED:20260104T105449Z
UID:10000195-1842721200-1842724800@mikepercsifoci.hu
SUMMARY:U11 edzés
DESCRIPTION:
URL:https://mikepercsifoci.hu/esemeny/u11-edzes-3/2028-05-23/
LOCATION:Mikepércsi Hunyadi János Általános Iskola\, Nagyváradi utca 1.\, Mikepércs\, 4271\, Hungary
CATEGORIES:U11 edzések
END:VEVENT
BEGIN:VEVENT
DTSTART;TZID=Europe/Budapest:20280526T180000
DTEND;TZID=Europe/Budapest:20280526T190000
DTSTAMP:20260426T002251
CREATED:20260104T105249Z
LAST-MODIFIED:20260104T105515Z
UID:10000455-1842976800-1842980400@mikepercsifoci.hu
SUMMARY:U11 edzés
DESCRIPTION:
URL:https://mikepercsifoci.hu/esemeny/u11-edzes-2-2/2028-05-26/
LOCATION:Mikepércsi Hunyadi János Általános Iskola\, Nagyváradi utca 1.\, Mikepércs\, 4271\, Hungary
CATEGORIES:U11 edzések
END:VEVENT
BEGIN:VEVENT
DTSTART;TZID=Europe/Budapest:20280530T190000
DTEND;TZID=Europe/Budapest:20280530T200000
DTSTAMP:20260426T002251
CREATED:20260104T105409Z
LAST-MODIFIED:20260104T105449Z
UID:10000196-1843326000-1843329600@mikepercsifoci.hu
SUMMARY:U11 edzés
DESCRIPTION:
URL:https://mikepercsifoci.hu/esemeny/u11-edzes-3/2028-05-30/
LOCATION:Mikepércsi Hunyadi János Általános Iskola\, Nagyváradi utca 1.\, Mikepércs\, 4271\, Hungary
CATEGORIES:U11 edzések
END:VEVENT
BEGIN:VEVENT
DTSTART;TZID=Europe/Budapest:20280602T180000
DTEND;TZID=Europe/Budapest:20280602T190000
DTSTAMP:20260426T002251
CREATED:20260104T105249Z
LAST-MODIFIED:20260104T105515Z
UID:10000456-1843581600-1843585200@mikepercsifoci.hu
SUMMARY:U11 edzés
DESCRIPTION:
URL:https://mikepercsifoci.hu/esemeny/u11-edzes-2-2/2028-06-02/
LOCATION:Mikepércsi Hunyadi János Általános Iskola\, Nagyváradi utca 1.\, Mikepércs\, 4271\, Hungary
CATEGORIES:U11 edzések
END:VEVENT
BEGIN:VEVENT
DTSTART;TZID=Europe/Budapest:20280606T190000
DTEND;TZID=Europe/Budapest:20280606T200000
DTSTAMP:20260426T002251
CREATED:20260104T105409Z
LAST-MODIFIED:20260104T105449Z
UID:10000197-1843930800-1843934400@mikepercsifoci.hu
SUMMARY:U11 edzés
DESCRIPTION:
URL:https://mikepercsifoci.hu/esemeny/u11-edzes-3/2028-06-06/
LOCATION:Mikepércsi Hunyadi János Általános Iskola\, Nagyváradi utca 1.\, Mikepércs\, 4271\, Hungary
CATEGORIES:U11 edzések
END:VEVENT
BEGIN:VEVENT
DTSTART;TZID=Europe/Budapest:20280609T180000
DTEND;TZID=Europe/Budapest:20280609T190000
DTSTAMP:20260426T002251
CREATED:20260104T105249Z
LAST-MODIFIED:20260104T105515Z
UID:10000457-1844186400-1844190000@mikepercsifoci.hu
SUMMARY:U11 edzés
DESCRIPTION:
URL:https://mikepercsifoci.hu/esemeny/u11-edzes-2-2/2028-06-09/
LOCATION:Mikepércsi Hunyadi János Általános Iskola\, Nagyváradi utca 1.\, Mikepércs\, 4271\, Hungary
CATEGORIES:U11 edzések
END:VEVENT
BEGIN:VEVENT
DTSTART;TZID=Europe/Budapest:20280613T190000
DTEND;TZID=Europe/Budapest:20280613T200000
DTSTAMP:20260426T002251
CREATED:20260104T105409Z
LAST-MODIFIED:20260104T105449Z
UID:10000198-1844535600-1844539200@mikepercsifoci.hu
SUMMARY:U11 edzés
DESCRIPTION:
URL:https://mikepercsifoci.hu/esemeny/u11-edzes-3/2028-06-13/
LOCATION:Mikepércsi Hunyadi János Általános Iskola\, Nagyváradi utca 1.\, Mikepércs\, 4271\, Hungary
CATEGORIES:U11 edzések
END:VEVENT
BEGIN:VEVENT
DTSTART;TZID=Europe/Budapest:20280616T180000
DTEND;TZID=Europe/Budapest:20280616T190000
DTSTAMP:20260426T002251
CREATED:20260104T105249Z
LAST-MODIFIED:20260104T105515Z
UID:10000458-1844791200-1844794800@mikepercsifoci.hu
SUMMARY:U11 edzés
DESCRIPTION:
URL:https://mikepercsifoci.hu/esemeny/u11-edzes-2-2/2028-06-16/
LOCATION:Mikepércsi Hunyadi János Általános Iskola\, Nagyváradi utca 1.\, Mikepércs\, 4271\, Hungary
CATEGORIES:U11 edzések
END:VEVENT
BEGIN:VEVENT
DTSTART;TZID=Europe/Budapest:20280620T190000
DTEND;TZID=Europe/Budapest:20280620T200000
DTSTAMP:20260426T002251
CREATED:20260104T105409Z
LAST-MODIFIED:20260104T105449Z
UID:10000199-1845140400-1845144000@mikepercsifoci.hu
SUMMARY:U11 edzés
DESCRIPTION:
URL:https://mikepercsifoci.hu/esemeny/u11-edzes-3/2028-06-20/
LOCATION:Mikepércsi Hunyadi János Általános Iskola\, Nagyváradi utca 1.\, Mikepércs\, 4271\, Hungary
CATEGORIES:U11 edzések
END:VEVENT
BEGIN:VEVENT
DTSTART;TZID=Europe/Budapest:20280623T180000
DTEND;TZID=Europe/Budapest:20280623T190000
DTSTAMP:20260426T002251
CREATED:20260104T105249Z
LAST-MODIFIED:20260104T105515Z
UID:10000459-1845396000-1845399600@mikepercsifoci.hu
SUMMARY:U11 edzés
DESCRIPTION:
URL:https://mikepercsifoci.hu/esemeny/u11-edzes-2-2/2028-06-23/
LOCATION:Mikepércsi Hunyadi János Általános Iskola\, Nagyváradi utca 1.\, Mikepércs\, 4271\, Hungary
CATEGORIES:U11 edzések
END:VEVENT
BEGIN:VEVENT
DTSTART;TZID=Europe/Budapest:20280627T190000
DTEND;TZID=Europe/Budapest:20280627T200000
DTSTAMP:20260426T002251
CREATED:20260104T105409Z
LAST-MODIFIED:20260104T105449Z
UID:10000200-1845745200-1845748800@mikepercsifoci.hu
SUMMARY:U11 edzés
DESCRIPTION:
URL:https://mikepercsifoci.hu/esemeny/u11-edzes-3/2028-06-27/
LOCATION:Mikepércsi Hunyadi János Általános Iskola\, Nagyváradi utca 1.\, Mikepércs\, 4271\, Hungary
CATEGORIES:U11 edzések
END:VEVENT
BEGIN:VEVENT
DTSTART;TZID=Europe/Budapest:20280630T180000
DTEND;TZID=Europe/Budapest:20280630T190000
DTSTAMP:20260426T002251
CREATED:20260104T105249Z
LAST-MODIFIED:20260104T105515Z
UID:10000460-1846000800-1846004400@mikepercsifoci.hu
SUMMARY:U11 edzés
DESCRIPTION:
URL:https://mikepercsifoci.hu/esemeny/u11-edzes-2-2/2028-06-30/
LOCATION:Mikepércsi Hunyadi János Általános Iskola\, Nagyváradi utca 1.\, Mikepércs\, 4271\, Hungary
CATEGORIES:U11 edzések
END:VEVENT
BEGIN:VEVENT
DTSTART;TZID=Europe/Budapest:20280704T190000
DTEND;TZID=Europe/Budapest:20280704T200000
DTSTAMP:20260426T002251
CREATED:20260104T105409Z
LAST-MODIFIED:20260104T105449Z
UID:10000201-1846350000-1846353600@mikepercsifoci.hu
SUMMARY:U11 edzés
DESCRIPTION:
URL:https://mikepercsifoci.hu/esemeny/u11-edzes-3/2028-07-04/
LOCATION:Mikepércsi Hunyadi János Általános Iskola\, Nagyváradi utca 1.\, Mikepércs\, 4271\, Hungary
CATEGORIES:U11 edzések
END:VEVENT
BEGIN:VEVENT
DTSTART;TZID=Europe/Budapest:20280707T180000
DTEND;TZID=Europe/Budapest:20280707T190000
DTSTAMP:20260426T002251
CREATED:20260104T105249Z
LAST-MODIFIED:20260104T105515Z
UID:10000461-1846605600-1846609200@mikepercsifoci.hu
SUMMARY:U11 edzés
DESCRIPTION:
URL:https://mikepercsifoci.hu/esemeny/u11-edzes-2-2/2028-07-07/
LOCATION:Mikepércsi Hunyadi János Általános Iskola\, Nagyváradi utca 1.\, Mikepércs\, 4271\, Hungary
CATEGORIES:U11 edzések
END:VEVENT
BEGIN:VEVENT
DTSTART;TZID=Europe/Budapest:20280711T190000
DTEND;TZID=Europe/Budapest:20280711T200000
DTSTAMP:20260426T002251
CREATED:20260104T105409Z
LAST-MODIFIED:20260104T105449Z
UID:10000202-1846954800-1846958400@mikepercsifoci.hu
SUMMARY:U11 edzés
DESCRIPTION:
URL:https://mikepercsifoci.hu/esemeny/u11-edzes-3/2028-07-11/
LOCATION:Mikepércsi Hunyadi János Általános Iskola\, Nagyváradi utca 1.\, Mikepércs\, 4271\, Hungary
CATEGORIES:U11 edzések
END:VEVENT
BEGIN:VEVENT
DTSTART;TZID=Europe/Budapest:20280714T180000
DTEND;TZID=Europe/Budapest:20280714T190000
DTSTAMP:20260426T002251
CREATED:20260104T105249Z
LAST-MODIFIED:20260104T105515Z
UID:10000462-1847210400-1847214000@mikepercsifoci.hu
SUMMARY:U11 edzés
DESCRIPTION:
URL:https://mikepercsifoci.hu/esemeny/u11-edzes-2-2/2028-07-14/
LOCATION:Mikepércsi Hunyadi János Általános Iskola\, Nagyváradi utca 1.\, Mikepércs\, 4271\, Hungary
CATEGORIES:U11 edzések
END:VEVENT
BEGIN:VEVENT
DTSTART;TZID=Europe/Budapest:20280718T190000
DTEND;TZID=Europe/Budapest:20280718T200000
DTSTAMP:20260426T002251
CREATED:20260104T105409Z
LAST-MODIFIED:20260104T105449Z
UID:10000203-1847559600-1847563200@mikepercsifoci.hu
SUMMARY:U11 edzés
DESCRIPTION:
URL:https://mikepercsifoci.hu/esemeny/u11-edzes-3/2028-07-18/
LOCATION:Mikepércsi Hunyadi János Általános Iskola\, Nagyváradi utca 1.\, Mikepércs\, 4271\, Hungary
CATEGORIES:U11 edzések
END:VEVENT
BEGIN:VEVENT
DTSTART;TZID=Europe/Budapest:20280721T180000
DTEND;TZID=Europe/Budapest:20280721T190000
DTSTAMP:20260426T002251
CREATED:20260104T105249Z
LAST-MODIFIED:20260104T105515Z
UID:10000463-1847815200-1847818800@mikepercsifoci.hu
SUMMARY:U11 edzés
DESCRIPTION:
URL:https://mikepercsifoci.hu/esemeny/u11-edzes-2-2/2028-07-21/
LOCATION:Mikepércsi Hunyadi János Általános Iskola\, Nagyváradi utca 1.\, Mikepércs\, 4271\, Hungary
CATEGORIES:U11 edzések
END:VEVENT
BEGIN:VEVENT
DTSTART;TZID=Europe/Budapest:20280725T190000
DTEND;TZID=Europe/Budapest:20280725T200000
DTSTAMP:20260426T002251
CREATED:20260104T105409Z
LAST-MODIFIED:20260104T105449Z
UID:10000204-1848164400-1848168000@mikepercsifoci.hu
SUMMARY:U11 edzés
DESCRIPTION:
URL:https://mikepercsifoci.hu/esemeny/u11-edzes-3/2028-07-25/
LOCATION:Mikepércsi Hunyadi János Általános Iskola\, Nagyváradi utca 1.\, Mikepércs\, 4271\, Hungary
CATEGORIES:U11 edzések
END:VEVENT
BEGIN:VEVENT
DTSTART;TZID=Europe/Budapest:20280728T180000
DTEND;TZID=Europe/Budapest:20280728T190000
DTSTAMP:20260426T002251
CREATED:20260104T105249Z
LAST-MODIFIED:20260104T105515Z
UID:10000464-1848420000-1848423600@mikepercsifoci.hu
SUMMARY:U11 edzés
DESCRIPTION:
URL:https://mikepercsifoci.hu/esemeny/u11-edzes-2-2/2028-07-28/
LOCATION:Mikepércsi Hunyadi János Általános Iskola\, Nagyváradi utca 1.\, Mikepércs\, 4271\, Hungary
CATEGORIES:U11 edzések
END:VEVENT
BEGIN:VEVENT
DTSTART;TZID=Europe/Budapest:20280801T190000
DTEND;TZID=Europe/Budapest:20280801T200000
DTSTAMP:20260426T002251
CREATED:20260104T105409Z
LAST-MODIFIED:20260104T105449Z
UID:10000205-1848769200-1848772800@mikepercsifoci.hu
SUMMARY:U11 edzés
DESCRIPTION:
URL:https://mikepercsifoci.hu/esemeny/u11-edzes-3/2028-08-01/
LOCATION:Mikepércsi Hunyadi János Általános Iskola\, Nagyváradi utca 1.\, Mikepércs\, 4271\, Hungary
CATEGORIES:U11 edzések
END:VEVENT
BEGIN:VEVENT
DTSTART;TZID=Europe/Budapest:20280804T180000
DTEND;TZID=Europe/Budapest:20280804T190000
DTSTAMP:20260426T002251
CREATED:20260104T105249Z
LAST-MODIFIED:20260104T105515Z
UID:10000465-1849024800-1849028400@mikepercsifoci.hu
SUMMARY:U11 edzés
DESCRIPTION:
URL:https://mikepercsifoci.hu/esemeny/u11-edzes-2-2/2028-08-04/
LOCATION:Mikepércsi Hunyadi János Általános Iskola\, Nagyváradi utca 1.\, Mikepércs\, 4271\, Hungary
CATEGORIES:U11 edzések
END:VEVENT
BEGIN:VEVENT
DTSTART;TZID=Europe/Budapest:20280808T190000
DTEND;TZID=Europe/Budapest:20280808T200000
DTSTAMP:20260426T002251
CREATED:20260104T105409Z
LAST-MODIFIED:20260104T105449Z
UID:10000206-1849374000-1849377600@mikepercsifoci.hu
SUMMARY:U11 edzés
DESCRIPTION:
URL:https://mikepercsifoci.hu/esemeny/u11-edzes-3/2028-08-08/
LOCATION:Mikepércsi Hunyadi János Általános Iskola\, Nagyváradi utca 1.\, Mikepércs\, 4271\, Hungary
CATEGORIES:U11 edzések
END:VEVENT
BEGIN:VEVENT
DTSTART;TZID=Europe/Budapest:20280811T180000
DTEND;TZID=Europe/Budapest:20280811T190000
DTSTAMP:20260426T002251
CREATED:20260104T105249Z
LAST-MODIFIED:20260104T105515Z
UID:10000466-1849629600-1849633200@mikepercsifoci.hu
SUMMARY:U11 edzés
DESCRIPTION:
URL:https://mikepercsifoci.hu/esemeny/u11-edzes-2-2/2028-08-11/
LOCATION:Mikepércsi Hunyadi János Általános Iskola\, Nagyváradi utca 1.\, Mikepércs\, 4271\, Hungary
CATEGORIES:U11 edzések
END:VEVENT
BEGIN:VEVENT
DTSTART;TZID=Europe/Budapest:20280815T190000
DTEND;TZID=Europe/Budapest:20280815T200000
DTSTAMP:20260426T002251
CREATED:20260104T105409Z
LAST-MODIFIED:20260104T105449Z
UID:10000207-1849978800-1849982400@mikepercsifoci.hu
SUMMARY:U11 edzés
DESCRIPTION:
URL:https://mikepercsifoci.hu/esemeny/u11-edzes-3/2028-08-15/
LOCATION:Mikepércsi Hunyadi János Általános Iskola\, Nagyváradi utca 1.\, Mikepércs\, 4271\, Hungary
CATEGORIES:U11 edzések
END:VEVENT
BEGIN:VEVENT
DTSTART;TZID=Europe/Budapest:20280818T180000
DTEND;TZID=Europe/Budapest:20280818T190000
DTSTAMP:20260426T002251
CREATED:20260104T105249Z
LAST-MODIFIED:20260104T105515Z
UID:10000467-1850234400-1850238000@mikepercsifoci.hu
SUMMARY:U11 edzés
DESCRIPTION:
URL:https://mikepercsifoci.hu/esemeny/u11-edzes-2-2/2028-08-18/
LOCATION:Mikepércsi Hunyadi János Általános Iskola\, Nagyváradi utca 1.\, Mikepércs\, 4271\, Hungary
CATEGORIES:U11 edzések
END:VEVENT
BEGIN:VEVENT
DTSTART;TZID=Europe/Budapest:20280822T190000
DTEND;TZID=Europe/Budapest:20280822T200000
DTSTAMP:20260426T002251
CREATED:20260104T105409Z
LAST-MODIFIED:20260104T105449Z
UID:10000208-1850583600-1850587200@mikepercsifoci.hu
SUMMARY:U11 edzés
DESCRIPTION:
URL:https://mikepercsifoci.hu/esemeny/u11-edzes-3/2028-08-22/
LOCATION:Mikepércsi Hunyadi János Általános Iskola\, Nagyváradi utca 1.\, Mikepércs\, 4271\, Hungary
CATEGORIES:U11 edzések
END:VEVENT
BEGIN:VEVENT
DTSTART;TZID=Europe/Budapest:20280825T180000
DTEND;TZID=Europe/Budapest:20280825T190000
DTSTAMP:20260426T002251
CREATED:20260104T105249Z
LAST-MODIFIED:20260104T105515Z
UID:10000468-1850839200-1850842800@mikepercsifoci.hu
SUMMARY:U11 edzés
DESCRIPTION:
URL:https://mikepercsifoci.hu/esemeny/u11-edzes-2-2/2028-08-25/
LOCATION:Mikepércsi Hunyadi János Általános Iskola\, Nagyváradi utca 1.\, Mikepércs\, 4271\, Hungary
CATEGORIES:U11 edzések
END:VEVENT
BEGIN:VEVENT
DTSTART;TZID=Europe/Budapest:20280829T190000
DTEND;TZID=Europe/Budapest:20280829T200000
DTSTAMP:20260426T002251
CREATED:20260104T105409Z
LAST-MODIFIED:20260104T105449Z
UID:10000209-1851188400-1851192000@mikepercsifoci.hu
SUMMARY:U11 edzés
DESCRIPTION:
URL:https://mikepercsifoci.hu/esemeny/u11-edzes-3/2028-08-29/
LOCATION:Mikepércsi Hunyadi János Általános Iskola\, Nagyváradi utca 1.\, Mikepércs\, 4271\, Hungary
CATEGORIES:U11 edzések
END:VEVENT
BEGIN:VEVENT
DTSTART;TZID=Europe/Budapest:20280901T180000
DTEND;TZID=Europe/Budapest:20280901T190000
DTSTAMP:20260426T002251
CREATED:20260104T105249Z
LAST-MODIFIED:20260104T105515Z
UID:10000469-1851444000-1851447600@mikepercsifoci.hu
SUMMARY:U11 edzés
DESCRIPTION:
URL:https://mikepercsifoci.hu/esemeny/u11-edzes-2-2/2028-09-01/
LOCATION:Mikepércsi Hunyadi János Általános Iskola\, Nagyváradi utca 1.\, Mikepércs\, 4271\, Hungary
CATEGORIES:U11 edzések
END:VEVENT
END:VCALENDAR