BEGIN:VCALENDAR
VERSION:2.0
PRODID:-//Mikepércsi Foci - ECPv6.15.12.2//NONSGML v1.0//EN
CALSCALE:GREGORIAN
METHOD:PUBLISH
X-WR-CALNAME:Mikepércsi Foci
X-ORIGINAL-URL:https://mikepercsifoci.hu
X-WR-CALDESC:Események Mikepércsi Foci
REFRESH-INTERVAL;VALUE=DURATION:PT1H
X-Robots-Tag:noindex
X-PUBLISHED-TTL:PT1H
BEGIN:VTIMEZONE
TZID:Europe/Budapest
BEGIN:DAYLIGHT
TZOFFSETFROM:+0100
TZOFFSETTO:+0200
TZNAME:CEST
DTSTART:20270328T010000
END:DAYLIGHT
BEGIN:STANDARD
TZOFFSETFROM:+0200
TZOFFSETTO:+0100
TZNAME:CET
DTSTART:20271031T010000
END:STANDARD
BEGIN:DAYLIGHT
TZOFFSETFROM:+0100
TZOFFSETTO:+0200
TZNAME:CEST
DTSTART:20280326T010000
END:DAYLIGHT
BEGIN:STANDARD
TZOFFSETFROM:+0200
TZOFFSETTO:+0100
TZNAME:CET
DTSTART:20281029T010000
END:STANDARD
BEGIN:DAYLIGHT
TZOFFSETFROM:+0100
TZOFFSETTO:+0200
TZNAME:CEST
DTSTART:20290325T010000
END:DAYLIGHT
BEGIN:STANDARD
TZOFFSETFROM:+0200
TZOFFSETTO:+0100
TZNAME:CET
DTSTART:20291028T010000
END:STANDARD
END:VTIMEZONE
BEGIN:VEVENT
DTSTART;TZID=Europe/Budapest:20280815T190000
DTEND;TZID=Europe/Budapest:20280815T200000
DTSTAMP:20260426T033341
CREATED:20260104T105409Z
LAST-MODIFIED:20260104T105449Z
UID:10000207-1849978800-1849982400@mikepercsifoci.hu
SUMMARY:U11 edzés
DESCRIPTION:
URL:https://mikepercsifoci.hu/esemeny/u11-edzes-3/2028-08-15/
LOCATION:Mikepércsi Hunyadi János Általános Iskola\, Nagyváradi utca 1.\, Mikepércs\, 4271\, Hungary
CATEGORIES:U11 edzések
END:VEVENT
BEGIN:VEVENT
DTSTART;TZID=Europe/Budapest:20280818T180000
DTEND;TZID=Europe/Budapest:20280818T190000
DTSTAMP:20260426T033341
CREATED:20260104T105249Z
LAST-MODIFIED:20260104T105515Z
UID:10000467-1850234400-1850238000@mikepercsifoci.hu
SUMMARY:U11 edzés
DESCRIPTION:
URL:https://mikepercsifoci.hu/esemeny/u11-edzes-2-2/2028-08-18/
LOCATION:Mikepércsi Hunyadi János Általános Iskola\, Nagyváradi utca 1.\, Mikepércs\, 4271\, Hungary
CATEGORIES:U11 edzések
END:VEVENT
BEGIN:VEVENT
DTSTART;TZID=Europe/Budapest:20280822T190000
DTEND;TZID=Europe/Budapest:20280822T200000
DTSTAMP:20260426T033341
CREATED:20260104T105409Z
LAST-MODIFIED:20260104T105449Z
UID:10000208-1850583600-1850587200@mikepercsifoci.hu
SUMMARY:U11 edzés
DESCRIPTION:
URL:https://mikepercsifoci.hu/esemeny/u11-edzes-3/2028-08-22/
LOCATION:Mikepércsi Hunyadi János Általános Iskola\, Nagyváradi utca 1.\, Mikepércs\, 4271\, Hungary
CATEGORIES:U11 edzések
END:VEVENT
BEGIN:VEVENT
DTSTART;TZID=Europe/Budapest:20280825T180000
DTEND;TZID=Europe/Budapest:20280825T190000
DTSTAMP:20260426T033341
CREATED:20260104T105249Z
LAST-MODIFIED:20260104T105515Z
UID:10000468-1850839200-1850842800@mikepercsifoci.hu
SUMMARY:U11 edzés
DESCRIPTION:
URL:https://mikepercsifoci.hu/esemeny/u11-edzes-2-2/2028-08-25/
LOCATION:Mikepércsi Hunyadi János Általános Iskola\, Nagyváradi utca 1.\, Mikepércs\, 4271\, Hungary
CATEGORIES:U11 edzések
END:VEVENT
BEGIN:VEVENT
DTSTART;TZID=Europe/Budapest:20280829T190000
DTEND;TZID=Europe/Budapest:20280829T200000
DTSTAMP:20260426T033341
CREATED:20260104T105409Z
LAST-MODIFIED:20260104T105449Z
UID:10000209-1851188400-1851192000@mikepercsifoci.hu
SUMMARY:U11 edzés
DESCRIPTION:
URL:https://mikepercsifoci.hu/esemeny/u11-edzes-3/2028-08-29/
LOCATION:Mikepércsi Hunyadi János Általános Iskola\, Nagyváradi utca 1.\, Mikepércs\, 4271\, Hungary
CATEGORIES:U11 edzések
END:VEVENT
BEGIN:VEVENT
DTSTART;TZID=Europe/Budapest:20280901T180000
DTEND;TZID=Europe/Budapest:20280901T190000
DTSTAMP:20260426T033341
CREATED:20260104T105249Z
LAST-MODIFIED:20260104T105515Z
UID:10000469-1851444000-1851447600@mikepercsifoci.hu
SUMMARY:U11 edzés
DESCRIPTION:
URL:https://mikepercsifoci.hu/esemeny/u11-edzes-2-2/2028-09-01/
LOCATION:Mikepércsi Hunyadi János Általános Iskola\, Nagyváradi utca 1.\, Mikepércs\, 4271\, Hungary
CATEGORIES:U11 edzések
END:VEVENT
BEGIN:VEVENT
DTSTART;TZID=Europe/Budapest:20280905T190000
DTEND;TZID=Europe/Budapest:20280905T200000
DTSTAMP:20260426T033341
CREATED:20260104T105409Z
LAST-MODIFIED:20260104T105449Z
UID:10000210-1851793200-1851796800@mikepercsifoci.hu
SUMMARY:U11 edzés
DESCRIPTION:
URL:https://mikepercsifoci.hu/esemeny/u11-edzes-3/2028-09-05/
LOCATION:Mikepércsi Hunyadi János Általános Iskola\, Nagyváradi utca 1.\, Mikepércs\, 4271\, Hungary
CATEGORIES:U11 edzések
END:VEVENT
BEGIN:VEVENT
DTSTART;TZID=Europe/Budapest:20280908T180000
DTEND;TZID=Europe/Budapest:20280908T190000
DTSTAMP:20260426T033341
CREATED:20260104T105249Z
LAST-MODIFIED:20260104T105515Z
UID:10000470-1852048800-1852052400@mikepercsifoci.hu
SUMMARY:U11 edzés
DESCRIPTION:
URL:https://mikepercsifoci.hu/esemeny/u11-edzes-2-2/2028-09-08/
LOCATION:Mikepércsi Hunyadi János Általános Iskola\, Nagyváradi utca 1.\, Mikepércs\, 4271\, Hungary
CATEGORIES:U11 edzések
END:VEVENT
BEGIN:VEVENT
DTSTART;TZID=Europe/Budapest:20280912T190000
DTEND;TZID=Europe/Budapest:20280912T200000
DTSTAMP:20260426T033341
CREATED:20260104T105409Z
LAST-MODIFIED:20260104T105449Z
UID:10000211-1852398000-1852401600@mikepercsifoci.hu
SUMMARY:U11 edzés
DESCRIPTION:
URL:https://mikepercsifoci.hu/esemeny/u11-edzes-3/2028-09-12/
LOCATION:Mikepércsi Hunyadi János Általános Iskola\, Nagyváradi utca 1.\, Mikepércs\, 4271\, Hungary
CATEGORIES:U11 edzések
END:VEVENT
BEGIN:VEVENT
DTSTART;TZID=Europe/Budapest:20280915T180000
DTEND;TZID=Europe/Budapest:20280915T190000
DTSTAMP:20260426T033341
CREATED:20260104T105249Z
LAST-MODIFIED:20260104T105515Z
UID:10000471-1852653600-1852657200@mikepercsifoci.hu
SUMMARY:U11 edzés
DESCRIPTION:
URL:https://mikepercsifoci.hu/esemeny/u11-edzes-2-2/2028-09-15/
LOCATION:Mikepércsi Hunyadi János Általános Iskola\, Nagyváradi utca 1.\, Mikepércs\, 4271\, Hungary
CATEGORIES:U11 edzések
END:VEVENT
BEGIN:VEVENT
DTSTART;TZID=Europe/Budapest:20280919T190000
DTEND;TZID=Europe/Budapest:20280919T200000
DTSTAMP:20260426T033341
CREATED:20260104T105409Z
LAST-MODIFIED:20260104T105449Z
UID:10000212-1853002800-1853006400@mikepercsifoci.hu
SUMMARY:U11 edzés
DESCRIPTION:
URL:https://mikepercsifoci.hu/esemeny/u11-edzes-3/2028-09-19/
LOCATION:Mikepércsi Hunyadi János Általános Iskola\, Nagyváradi utca 1.\, Mikepércs\, 4271\, Hungary
CATEGORIES:U11 edzések
END:VEVENT
BEGIN:VEVENT
DTSTART;TZID=Europe/Budapest:20280922T180000
DTEND;TZID=Europe/Budapest:20280922T190000
DTSTAMP:20260426T033341
CREATED:20260104T105249Z
LAST-MODIFIED:20260104T105515Z
UID:10000472-1853258400-1853262000@mikepercsifoci.hu
SUMMARY:U11 edzés
DESCRIPTION:
URL:https://mikepercsifoci.hu/esemeny/u11-edzes-2-2/2028-09-22/
LOCATION:Mikepércsi Hunyadi János Általános Iskola\, Nagyváradi utca 1.\, Mikepércs\, 4271\, Hungary
CATEGORIES:U11 edzések
END:VEVENT
BEGIN:VEVENT
DTSTART;TZID=Europe/Budapest:20280926T190000
DTEND;TZID=Europe/Budapest:20280926T200000
DTSTAMP:20260426T033341
CREATED:20260104T105409Z
LAST-MODIFIED:20260104T105449Z
UID:10000213-1853607600-1853611200@mikepercsifoci.hu
SUMMARY:U11 edzés
DESCRIPTION:
URL:https://mikepercsifoci.hu/esemeny/u11-edzes-3/2028-09-26/
LOCATION:Mikepércsi Hunyadi János Általános Iskola\, Nagyváradi utca 1.\, Mikepércs\, 4271\, Hungary
CATEGORIES:U11 edzések
END:VEVENT
BEGIN:VEVENT
DTSTART;TZID=Europe/Budapest:20280929T180000
DTEND;TZID=Europe/Budapest:20280929T190000
DTSTAMP:20260426T033341
CREATED:20260104T105249Z
LAST-MODIFIED:20260104T105515Z
UID:10000473-1853863200-1853866800@mikepercsifoci.hu
SUMMARY:U11 edzés
DESCRIPTION:
URL:https://mikepercsifoci.hu/esemeny/u11-edzes-2-2/2028-09-29/
LOCATION:Mikepércsi Hunyadi János Általános Iskola\, Nagyváradi utca 1.\, Mikepércs\, 4271\, Hungary
CATEGORIES:U11 edzések
END:VEVENT
BEGIN:VEVENT
DTSTART;TZID=Europe/Budapest:20281003T190000
DTEND;TZID=Europe/Budapest:20281003T200000
DTSTAMP:20260426T033341
CREATED:20260104T105409Z
LAST-MODIFIED:20260104T105449Z
UID:10000214-1854212400-1854216000@mikepercsifoci.hu
SUMMARY:U11 edzés
DESCRIPTION:
URL:https://mikepercsifoci.hu/esemeny/u11-edzes-3/2028-10-03/
LOCATION:Mikepércsi Hunyadi János Általános Iskola\, Nagyváradi utca 1.\, Mikepércs\, 4271\, Hungary
CATEGORIES:U11 edzések
END:VEVENT
BEGIN:VEVENT
DTSTART;TZID=Europe/Budapest:20281006T180000
DTEND;TZID=Europe/Budapest:20281006T190000
DTSTAMP:20260426T033341
CREATED:20260104T105249Z
LAST-MODIFIED:20260104T105515Z
UID:10000474-1854468000-1854471600@mikepercsifoci.hu
SUMMARY:U11 edzés
DESCRIPTION:
URL:https://mikepercsifoci.hu/esemeny/u11-edzes-2-2/2028-10-06/
LOCATION:Mikepércsi Hunyadi János Általános Iskola\, Nagyváradi utca 1.\, Mikepércs\, 4271\, Hungary
CATEGORIES:U11 edzések
END:VEVENT
BEGIN:VEVENT
DTSTART;TZID=Europe/Budapest:20281010T190000
DTEND;TZID=Europe/Budapest:20281010T200000
DTSTAMP:20260426T033341
CREATED:20260104T105409Z
LAST-MODIFIED:20260104T105449Z
UID:10000215-1854817200-1854820800@mikepercsifoci.hu
SUMMARY:U11 edzés
DESCRIPTION:
URL:https://mikepercsifoci.hu/esemeny/u11-edzes-3/2028-10-10/
LOCATION:Mikepércsi Hunyadi János Általános Iskola\, Nagyváradi utca 1.\, Mikepércs\, 4271\, Hungary
CATEGORIES:U11 edzések
END:VEVENT
BEGIN:VEVENT
DTSTART;TZID=Europe/Budapest:20281013T180000
DTEND;TZID=Europe/Budapest:20281013T190000
DTSTAMP:20260426T033341
CREATED:20260104T105249Z
LAST-MODIFIED:20260104T105515Z
UID:10000475-1855072800-1855076400@mikepercsifoci.hu
SUMMARY:U11 edzés
DESCRIPTION:
URL:https://mikepercsifoci.hu/esemeny/u11-edzes-2-2/2028-10-13/
LOCATION:Mikepércsi Hunyadi János Általános Iskola\, Nagyváradi utca 1.\, Mikepércs\, 4271\, Hungary
CATEGORIES:U11 edzések
END:VEVENT
BEGIN:VEVENT
DTSTART;TZID=Europe/Budapest:20281017T190000
DTEND;TZID=Europe/Budapest:20281017T200000
DTSTAMP:20260426T033341
CREATED:20260104T105409Z
LAST-MODIFIED:20260104T105449Z
UID:10000216-1855422000-1855425600@mikepercsifoci.hu
SUMMARY:U11 edzés
DESCRIPTION:
URL:https://mikepercsifoci.hu/esemeny/u11-edzes-3/2028-10-17/
LOCATION:Mikepércsi Hunyadi János Általános Iskola\, Nagyváradi utca 1.\, Mikepércs\, 4271\, Hungary
CATEGORIES:U11 edzések
END:VEVENT
BEGIN:VEVENT
DTSTART;TZID=Europe/Budapest:20281020T180000
DTEND;TZID=Europe/Budapest:20281020T190000
DTSTAMP:20260426T033341
CREATED:20260104T105249Z
LAST-MODIFIED:20260104T105515Z
UID:10000476-1855677600-1855681200@mikepercsifoci.hu
SUMMARY:U11 edzés
DESCRIPTION:
URL:https://mikepercsifoci.hu/esemeny/u11-edzes-2-2/2028-10-20/
LOCATION:Mikepércsi Hunyadi János Általános Iskola\, Nagyváradi utca 1.\, Mikepércs\, 4271\, Hungary
CATEGORIES:U11 edzések
END:VEVENT
BEGIN:VEVENT
DTSTART;TZID=Europe/Budapest:20281024T190000
DTEND;TZID=Europe/Budapest:20281024T200000
DTSTAMP:20260426T033341
CREATED:20260104T105409Z
LAST-MODIFIED:20260104T105449Z
UID:10000217-1856026800-1856030400@mikepercsifoci.hu
SUMMARY:U11 edzés
DESCRIPTION:
URL:https://mikepercsifoci.hu/esemeny/u11-edzes-3/2028-10-24/
LOCATION:Mikepércsi Hunyadi János Általános Iskola\, Nagyváradi utca 1.\, Mikepércs\, 4271\, Hungary
CATEGORIES:U11 edzések
END:VEVENT
BEGIN:VEVENT
DTSTART;TZID=Europe/Budapest:20281027T180000
DTEND;TZID=Europe/Budapest:20281027T190000
DTSTAMP:20260426T033341
CREATED:20260104T105249Z
LAST-MODIFIED:20260104T105515Z
UID:10000477-1856282400-1856286000@mikepercsifoci.hu
SUMMARY:U11 edzés
DESCRIPTION:
URL:https://mikepercsifoci.hu/esemeny/u11-edzes-2-2/2028-10-27/
LOCATION:Mikepércsi Hunyadi János Általános Iskola\, Nagyváradi utca 1.\, Mikepércs\, 4271\, Hungary
CATEGORIES:U11 edzések
END:VEVENT
BEGIN:VEVENT
DTSTART;TZID=Europe/Budapest:20281031T190000
DTEND;TZID=Europe/Budapest:20281031T200000
DTSTAMP:20260426T033341
CREATED:20260104T105409Z
LAST-MODIFIED:20260104T105449Z
UID:10000218-1856631600-1856635200@mikepercsifoci.hu
SUMMARY:U11 edzés
DESCRIPTION:
URL:https://mikepercsifoci.hu/esemeny/u11-edzes-3/2028-10-31/
LOCATION:Mikepércsi Hunyadi János Általános Iskola\, Nagyváradi utca 1.\, Mikepércs\, 4271\, Hungary
CATEGORIES:U11 edzések
END:VEVENT
BEGIN:VEVENT
DTSTART;TZID=Europe/Budapest:20281103T180000
DTEND;TZID=Europe/Budapest:20281103T190000
DTSTAMP:20260426T033341
CREATED:20260104T105249Z
LAST-MODIFIED:20260104T105515Z
UID:10000478-1856887200-1856890800@mikepercsifoci.hu
SUMMARY:U11 edzés
DESCRIPTION:
URL:https://mikepercsifoci.hu/esemeny/u11-edzes-2-2/2028-11-03/
LOCATION:Mikepércsi Hunyadi János Általános Iskola\, Nagyváradi utca 1.\, Mikepércs\, 4271\, Hungary
CATEGORIES:U11 edzések
END:VEVENT
BEGIN:VEVENT
DTSTART;TZID=Europe/Budapest:20281107T190000
DTEND;TZID=Europe/Budapest:20281107T200000
DTSTAMP:20260426T033341
CREATED:20260104T105409Z
LAST-MODIFIED:20260104T105449Z
UID:10000219-1857236400-1857240000@mikepercsifoci.hu
SUMMARY:U11 edzés
DESCRIPTION:
URL:https://mikepercsifoci.hu/esemeny/u11-edzes-3/2028-11-07/
LOCATION:Mikepércsi Hunyadi János Általános Iskola\, Nagyváradi utca 1.\, Mikepércs\, 4271\, Hungary
CATEGORIES:U11 edzések
END:VEVENT
BEGIN:VEVENT
DTSTART;TZID=Europe/Budapest:20281110T180000
DTEND;TZID=Europe/Budapest:20281110T190000
DTSTAMP:20260426T033341
CREATED:20260104T105249Z
LAST-MODIFIED:20260104T105515Z
UID:10000479-1857492000-1857495600@mikepercsifoci.hu
SUMMARY:U11 edzés
DESCRIPTION:
URL:https://mikepercsifoci.hu/esemeny/u11-edzes-2-2/2028-11-10/
LOCATION:Mikepércsi Hunyadi János Általános Iskola\, Nagyváradi utca 1.\, Mikepércs\, 4271\, Hungary
CATEGORIES:U11 edzések
END:VEVENT
BEGIN:VEVENT
DTSTART;TZID=Europe/Budapest:20281114T190000
DTEND;TZID=Europe/Budapest:20281114T200000
DTSTAMP:20260426T033341
CREATED:20260104T105409Z
LAST-MODIFIED:20260104T105449Z
UID:10000220-1857841200-1857844800@mikepercsifoci.hu
SUMMARY:U11 edzés
DESCRIPTION:
URL:https://mikepercsifoci.hu/esemeny/u11-edzes-3/2028-11-14/
LOCATION:Mikepércsi Hunyadi János Általános Iskola\, Nagyváradi utca 1.\, Mikepércs\, 4271\, Hungary
CATEGORIES:U11 edzések
END:VEVENT
BEGIN:VEVENT
DTSTART;TZID=Europe/Budapest:20281117T180000
DTEND;TZID=Europe/Budapest:20281117T190000
DTSTAMP:20260426T033341
CREATED:20260104T105249Z
LAST-MODIFIED:20260104T105515Z
UID:10000480-1858096800-1858100400@mikepercsifoci.hu
SUMMARY:U11 edzés
DESCRIPTION:
URL:https://mikepercsifoci.hu/esemeny/u11-edzes-2-2/2028-11-17/
LOCATION:Mikepércsi Hunyadi János Általános Iskola\, Nagyváradi utca 1.\, Mikepércs\, 4271\, Hungary
CATEGORIES:U11 edzések
END:VEVENT
BEGIN:VEVENT
DTSTART;TZID=Europe/Budapest:20281121T190000
DTEND;TZID=Europe/Budapest:20281121T200000
DTSTAMP:20260426T033341
CREATED:20260104T105409Z
LAST-MODIFIED:20260104T105449Z
UID:10000221-1858446000-1858449600@mikepercsifoci.hu
SUMMARY:U11 edzés
DESCRIPTION:
URL:https://mikepercsifoci.hu/esemeny/u11-edzes-3/2028-11-21/
LOCATION:Mikepércsi Hunyadi János Általános Iskola\, Nagyváradi utca 1.\, Mikepércs\, 4271\, Hungary
CATEGORIES:U11 edzések
END:VEVENT
BEGIN:VEVENT
DTSTART;TZID=Europe/Budapest:20281124T180000
DTEND;TZID=Europe/Budapest:20281124T190000
DTSTAMP:20260426T033341
CREATED:20260104T105249Z
LAST-MODIFIED:20260104T105515Z
UID:10000481-1858701600-1858705200@mikepercsifoci.hu
SUMMARY:U11 edzés
DESCRIPTION:
URL:https://mikepercsifoci.hu/esemeny/u11-edzes-2-2/2028-11-24/
LOCATION:Mikepércsi Hunyadi János Általános Iskola\, Nagyváradi utca 1.\, Mikepércs\, 4271\, Hungary
CATEGORIES:U11 edzések
END:VEVENT
END:VCALENDAR