BEGIN:VCALENDAR
VERSION:2.0
PRODID:-//Mikepércsi Foci - ECPv6.15.12.2//NONSGML v1.0//EN
CALSCALE:GREGORIAN
METHOD:PUBLISH
X-WR-CALNAME:Mikepércsi Foci
X-ORIGINAL-URL:https://mikepercsifoci.hu
X-WR-CALDESC:Események Mikepércsi Foci
REFRESH-INTERVAL;VALUE=DURATION:PT1H
X-Robots-Tag:noindex
X-PUBLISHED-TTL:PT1H
BEGIN:VTIMEZONE
TZID:Europe/Budapest
BEGIN:DAYLIGHT
TZOFFSETFROM:+0100
TZOFFSETTO:+0200
TZNAME:CEST
DTSTART:20260329T010000
END:DAYLIGHT
BEGIN:STANDARD
TZOFFSETFROM:+0200
TZOFFSETTO:+0100
TZNAME:CET
DTSTART:20261025T010000
END:STANDARD
BEGIN:DAYLIGHT
TZOFFSETFROM:+0100
TZOFFSETTO:+0200
TZNAME:CEST
DTSTART:20270328T010000
END:DAYLIGHT
BEGIN:STANDARD
TZOFFSETFROM:+0200
TZOFFSETTO:+0100
TZNAME:CET
DTSTART:20271031T010000
END:STANDARD
BEGIN:DAYLIGHT
TZOFFSETFROM:+0100
TZOFFSETTO:+0200
TZNAME:CEST
DTSTART:20280326T010000
END:DAYLIGHT
BEGIN:STANDARD
TZOFFSETFROM:+0200
TZOFFSETTO:+0100
TZNAME:CET
DTSTART:20281029T010000
END:STANDARD
END:VTIMEZONE
BEGIN:VEVENT
DTSTART;TZID=Europe/Budapest:20270913T164500
DTEND;TZID=Europe/Budapest:20270913T174500
DTSTAMP:20260426T015452
CREATED:20260310T114641Z
LAST-MODIFIED:20260310T114659Z
UID:10003563-1820853900-1820857500@mikepercsifoci.hu
SUMMARY:U13 edzés
DESCRIPTION:
URL:https://mikepercsifoci.hu/esemeny/u13-edzes-4/2027-09-13/
LOCATION:Mikepércsi Sportpálya\, Sport utca 4.\, Mikepércs\, 4271\, Hungary
CATEGORIES:U13 edzések
END:VEVENT
BEGIN:VEVENT
DTSTART;TZID=Europe/Budapest:20270915T164500
DTEND;TZID=Europe/Budapest:20270915T174500
DTSTAMP:20260426T015452
CREATED:20260310T114518Z
LAST-MODIFIED:20260310T114548Z
UID:10003304-1821026700-1821030300@mikepercsifoci.hu
SUMMARY:U13 edzés
DESCRIPTION:
URL:https://mikepercsifoci.hu/esemeny/u13-edzes-2-2-2/2027-09-15/
LOCATION:Mikepércsi Sportpálya\, Sport utca 4.\, Mikepércs\, 4271\, Hungary
CATEGORIES:U13 edzések
END:VEVENT
BEGIN:VEVENT
DTSTART;TZID=Europe/Budapest:20270917T164500
DTEND;TZID=Europe/Budapest:20270917T174500
DTSTAMP:20260426T015452
CREATED:20260104T110102Z
LAST-MODIFIED:20260310T114423Z
UID:10002783-1821199500-1821203100@mikepercsifoci.hu
SUMMARY:U13 edzés
DESCRIPTION:
URL:https://mikepercsifoci.hu/esemeny/u13-edzes-3/2027-09-17/
LOCATION:Mikepércsi Sportpálya\, Sport utca 4.\, Mikepércs\, 4271\, Hungary
CATEGORIES:U13 edzések
END:VEVENT
BEGIN:VEVENT
DTSTART;TZID=Europe/Budapest:20270920T164500
DTEND;TZID=Europe/Budapest:20270920T174500
DTSTAMP:20260426T015452
CREATED:20260310T114641Z
LAST-MODIFIED:20260310T114659Z
UID:10003564-1821458700-1821462300@mikepercsifoci.hu
SUMMARY:U13 edzés
DESCRIPTION:
URL:https://mikepercsifoci.hu/esemeny/u13-edzes-4/2027-09-20/
LOCATION:Mikepércsi Sportpálya\, Sport utca 4.\, Mikepércs\, 4271\, Hungary
CATEGORIES:U13 edzések
END:VEVENT
BEGIN:VEVENT
DTSTART;TZID=Europe/Budapest:20270922T164500
DTEND;TZID=Europe/Budapest:20270922T174500
DTSTAMP:20260426T015452
CREATED:20260310T114518Z
LAST-MODIFIED:20260310T114548Z
UID:10003305-1821631500-1821635100@mikepercsifoci.hu
SUMMARY:U13 edzés
DESCRIPTION:
URL:https://mikepercsifoci.hu/esemeny/u13-edzes-2-2-2/2027-09-22/
LOCATION:Mikepércsi Sportpálya\, Sport utca 4.\, Mikepércs\, 4271\, Hungary
CATEGORIES:U13 edzések
END:VEVENT
BEGIN:VEVENT
DTSTART;TZID=Europe/Budapest:20270924T164500
DTEND;TZID=Europe/Budapest:20270924T174500
DTSTAMP:20260426T015452
CREATED:20260104T110102Z
LAST-MODIFIED:20260310T114423Z
UID:10002784-1821804300-1821807900@mikepercsifoci.hu
SUMMARY:U13 edzés
DESCRIPTION:
URL:https://mikepercsifoci.hu/esemeny/u13-edzes-3/2027-09-24/
LOCATION:Mikepércsi Sportpálya\, Sport utca 4.\, Mikepércs\, 4271\, Hungary
CATEGORIES:U13 edzések
END:VEVENT
BEGIN:VEVENT
DTSTART;TZID=Europe/Budapest:20270927T164500
DTEND;TZID=Europe/Budapest:20270927T174500
DTSTAMP:20260426T015452
CREATED:20260310T114641Z
LAST-MODIFIED:20260310T114659Z
UID:10003565-1822063500-1822067100@mikepercsifoci.hu
SUMMARY:U13 edzés
DESCRIPTION:
URL:https://mikepercsifoci.hu/esemeny/u13-edzes-4/2027-09-27/
LOCATION:Mikepércsi Sportpálya\, Sport utca 4.\, Mikepércs\, 4271\, Hungary
CATEGORIES:U13 edzések
END:VEVENT
BEGIN:VEVENT
DTSTART;TZID=Europe/Budapest:20270929T164500
DTEND;TZID=Europe/Budapest:20270929T174500
DTSTAMP:20260426T015452
CREATED:20260310T114518Z
LAST-MODIFIED:20260310T114548Z
UID:10003306-1822236300-1822239900@mikepercsifoci.hu
SUMMARY:U13 edzés
DESCRIPTION:
URL:https://mikepercsifoci.hu/esemeny/u13-edzes-2-2-2/2027-09-29/
LOCATION:Mikepércsi Sportpálya\, Sport utca 4.\, Mikepércs\, 4271\, Hungary
CATEGORIES:U13 edzések
END:VEVENT
BEGIN:VEVENT
DTSTART;TZID=Europe/Budapest:20271001T164500
DTEND;TZID=Europe/Budapest:20271001T174500
DTSTAMP:20260426T015452
CREATED:20260104T110102Z
LAST-MODIFIED:20260310T114423Z
UID:10002785-1822409100-1822412700@mikepercsifoci.hu
SUMMARY:U13 edzés
DESCRIPTION:
URL:https://mikepercsifoci.hu/esemeny/u13-edzes-3/2027-10-01/
LOCATION:Mikepércsi Sportpálya\, Sport utca 4.\, Mikepércs\, 4271\, Hungary
CATEGORIES:U13 edzések
END:VEVENT
BEGIN:VEVENT
DTSTART;TZID=Europe/Budapest:20271004T164500
DTEND;TZID=Europe/Budapest:20271004T174500
DTSTAMP:20260426T015452
CREATED:20260310T114641Z
LAST-MODIFIED:20260310T114659Z
UID:10003566-1822668300-1822671900@mikepercsifoci.hu
SUMMARY:U13 edzés
DESCRIPTION:
URL:https://mikepercsifoci.hu/esemeny/u13-edzes-4/2027-10-04/
LOCATION:Mikepércsi Sportpálya\, Sport utca 4.\, Mikepércs\, 4271\, Hungary
CATEGORIES:U13 edzések
END:VEVENT
BEGIN:VEVENT
DTSTART;TZID=Europe/Budapest:20271006T164500
DTEND;TZID=Europe/Budapest:20271006T174500
DTSTAMP:20260426T015452
CREATED:20260310T114518Z
LAST-MODIFIED:20260310T114548Z
UID:10003307-1822841100-1822844700@mikepercsifoci.hu
SUMMARY:U13 edzés
DESCRIPTION:
URL:https://mikepercsifoci.hu/esemeny/u13-edzes-2-2-2/2027-10-06/
LOCATION:Mikepércsi Sportpálya\, Sport utca 4.\, Mikepércs\, 4271\, Hungary
CATEGORIES:U13 edzések
END:VEVENT
BEGIN:VEVENT
DTSTART;TZID=Europe/Budapest:20271008T164500
DTEND;TZID=Europe/Budapest:20271008T174500
DTSTAMP:20260426T015452
CREATED:20260104T110102Z
LAST-MODIFIED:20260310T114423Z
UID:10002786-1823013900-1823017500@mikepercsifoci.hu
SUMMARY:U13 edzés
DESCRIPTION:
URL:https://mikepercsifoci.hu/esemeny/u13-edzes-3/2027-10-08/
LOCATION:Mikepércsi Sportpálya\, Sport utca 4.\, Mikepércs\, 4271\, Hungary
CATEGORIES:U13 edzések
END:VEVENT
BEGIN:VEVENT
DTSTART;TZID=Europe/Budapest:20271011T164500
DTEND;TZID=Europe/Budapest:20271011T174500
DTSTAMP:20260426T015452
CREATED:20260310T114641Z
LAST-MODIFIED:20260310T114659Z
UID:10003567-1823273100-1823276700@mikepercsifoci.hu
SUMMARY:U13 edzés
DESCRIPTION:
URL:https://mikepercsifoci.hu/esemeny/u13-edzes-4/2027-10-11/
LOCATION:Mikepércsi Sportpálya\, Sport utca 4.\, Mikepércs\, 4271\, Hungary
CATEGORIES:U13 edzések
END:VEVENT
BEGIN:VEVENT
DTSTART;TZID=Europe/Budapest:20271013T164500
DTEND;TZID=Europe/Budapest:20271013T174500
DTSTAMP:20260426T015452
CREATED:20260310T114518Z
LAST-MODIFIED:20260310T114548Z
UID:10003308-1823445900-1823449500@mikepercsifoci.hu
SUMMARY:U13 edzés
DESCRIPTION:
URL:https://mikepercsifoci.hu/esemeny/u13-edzes-2-2-2/2027-10-13/
LOCATION:Mikepércsi Sportpálya\, Sport utca 4.\, Mikepércs\, 4271\, Hungary
CATEGORIES:U13 edzések
END:VEVENT
BEGIN:VEVENT
DTSTART;TZID=Europe/Budapest:20271015T164500
DTEND;TZID=Europe/Budapest:20271015T174500
DTSTAMP:20260426T015452
CREATED:20260104T110102Z
LAST-MODIFIED:20260310T114423Z
UID:10002787-1823618700-1823622300@mikepercsifoci.hu
SUMMARY:U13 edzés
DESCRIPTION:
URL:https://mikepercsifoci.hu/esemeny/u13-edzes-3/2027-10-15/
LOCATION:Mikepércsi Sportpálya\, Sport utca 4.\, Mikepércs\, 4271\, Hungary
CATEGORIES:U13 edzések
END:VEVENT
BEGIN:VEVENT
DTSTART;TZID=Europe/Budapest:20271018T164500
DTEND;TZID=Europe/Budapest:20271018T174500
DTSTAMP:20260426T015452
CREATED:20260310T114641Z
LAST-MODIFIED:20260310T114659Z
UID:10003568-1823877900-1823881500@mikepercsifoci.hu
SUMMARY:U13 edzés
DESCRIPTION:
URL:https://mikepercsifoci.hu/esemeny/u13-edzes-4/2027-10-18/
LOCATION:Mikepércsi Sportpálya\, Sport utca 4.\, Mikepércs\, 4271\, Hungary
CATEGORIES:U13 edzések
END:VEVENT
BEGIN:VEVENT
DTSTART;TZID=Europe/Budapest:20271020T164500
DTEND;TZID=Europe/Budapest:20271020T174500
DTSTAMP:20260426T015452
CREATED:20260310T114518Z
LAST-MODIFIED:20260310T114548Z
UID:10003309-1824050700-1824054300@mikepercsifoci.hu
SUMMARY:U13 edzés
DESCRIPTION:
URL:https://mikepercsifoci.hu/esemeny/u13-edzes-2-2-2/2027-10-20/
LOCATION:Mikepércsi Sportpálya\, Sport utca 4.\, Mikepércs\, 4271\, Hungary
CATEGORIES:U13 edzések
END:VEVENT
BEGIN:VEVENT
DTSTART;TZID=Europe/Budapest:20271022T164500
DTEND;TZID=Europe/Budapest:20271022T174500
DTSTAMP:20260426T015452
CREATED:20260104T110102Z
LAST-MODIFIED:20260310T114423Z
UID:10002788-1824223500-1824227100@mikepercsifoci.hu
SUMMARY:U13 edzés
DESCRIPTION:
URL:https://mikepercsifoci.hu/esemeny/u13-edzes-3/2027-10-22/
LOCATION:Mikepércsi Sportpálya\, Sport utca 4.\, Mikepércs\, 4271\, Hungary
CATEGORIES:U13 edzések
END:VEVENT
BEGIN:VEVENT
DTSTART;TZID=Europe/Budapest:20271025T164500
DTEND;TZID=Europe/Budapest:20271025T174500
DTSTAMP:20260426T015452
CREATED:20260310T114641Z
LAST-MODIFIED:20260310T114659Z
UID:10003569-1824482700-1824486300@mikepercsifoci.hu
SUMMARY:U13 edzés
DESCRIPTION:
URL:https://mikepercsifoci.hu/esemeny/u13-edzes-4/2027-10-25/
LOCATION:Mikepércsi Sportpálya\, Sport utca 4.\, Mikepércs\, 4271\, Hungary
CATEGORIES:U13 edzések
END:VEVENT
BEGIN:VEVENT
DTSTART;TZID=Europe/Budapest:20271027T164500
DTEND;TZID=Europe/Budapest:20271027T174500
DTSTAMP:20260426T015452
CREATED:20260310T114518Z
LAST-MODIFIED:20260310T114548Z
UID:10003310-1824655500-1824659100@mikepercsifoci.hu
SUMMARY:U13 edzés
DESCRIPTION:
URL:https://mikepercsifoci.hu/esemeny/u13-edzes-2-2-2/2027-10-27/
LOCATION:Mikepércsi Sportpálya\, Sport utca 4.\, Mikepércs\, 4271\, Hungary
CATEGORIES:U13 edzések
END:VEVENT
BEGIN:VEVENT
DTSTART;TZID=Europe/Budapest:20271029T164500
DTEND;TZID=Europe/Budapest:20271029T174500
DTSTAMP:20260426T015452
CREATED:20260104T110102Z
LAST-MODIFIED:20260310T114423Z
UID:10002789-1824828300-1824831900@mikepercsifoci.hu
SUMMARY:U13 edzés
DESCRIPTION:
URL:https://mikepercsifoci.hu/esemeny/u13-edzes-3/2027-10-29/
LOCATION:Mikepércsi Sportpálya\, Sport utca 4.\, Mikepércs\, 4271\, Hungary
CATEGORIES:U13 edzések
END:VEVENT
BEGIN:VEVENT
DTSTART;TZID=Europe/Budapest:20271101T164500
DTEND;TZID=Europe/Budapest:20271101T174500
DTSTAMP:20260426T015452
CREATED:20260310T114641Z
LAST-MODIFIED:20260310T114659Z
UID:10003570-1825087500-1825091100@mikepercsifoci.hu
SUMMARY:U13 edzés
DESCRIPTION:
URL:https://mikepercsifoci.hu/esemeny/u13-edzes-4/2027-11-01/
LOCATION:Mikepércsi Sportpálya\, Sport utca 4.\, Mikepércs\, 4271\, Hungary
CATEGORIES:U13 edzések
END:VEVENT
BEGIN:VEVENT
DTSTART;TZID=Europe/Budapest:20271103T164500
DTEND;TZID=Europe/Budapest:20271103T174500
DTSTAMP:20260426T015452
CREATED:20260310T114518Z
LAST-MODIFIED:20260310T114548Z
UID:10003311-1825260300-1825263900@mikepercsifoci.hu
SUMMARY:U13 edzés
DESCRIPTION:
URL:https://mikepercsifoci.hu/esemeny/u13-edzes-2-2-2/2027-11-03/
LOCATION:Mikepércsi Sportpálya\, Sport utca 4.\, Mikepércs\, 4271\, Hungary
CATEGORIES:U13 edzések
END:VEVENT
BEGIN:VEVENT
DTSTART;TZID=Europe/Budapest:20271105T164500
DTEND;TZID=Europe/Budapest:20271105T174500
DTSTAMP:20260426T015452
CREATED:20260104T110102Z
LAST-MODIFIED:20260310T114423Z
UID:10002790-1825433100-1825436700@mikepercsifoci.hu
SUMMARY:U13 edzés
DESCRIPTION:
URL:https://mikepercsifoci.hu/esemeny/u13-edzes-3/2027-11-05/
LOCATION:Mikepércsi Sportpálya\, Sport utca 4.\, Mikepércs\, 4271\, Hungary
CATEGORIES:U13 edzések
END:VEVENT
BEGIN:VEVENT
DTSTART;TZID=Europe/Budapest:20271108T164500
DTEND;TZID=Europe/Budapest:20271108T174500
DTSTAMP:20260426T015452
CREATED:20260310T114641Z
LAST-MODIFIED:20260310T114659Z
UID:10003571-1825692300-1825695900@mikepercsifoci.hu
SUMMARY:U13 edzés
DESCRIPTION:
URL:https://mikepercsifoci.hu/esemeny/u13-edzes-4/2027-11-08/
LOCATION:Mikepércsi Sportpálya\, Sport utca 4.\, Mikepércs\, 4271\, Hungary
CATEGORIES:U13 edzések
END:VEVENT
BEGIN:VEVENT
DTSTART;TZID=Europe/Budapest:20271110T164500
DTEND;TZID=Europe/Budapest:20271110T174500
DTSTAMP:20260426T015452
CREATED:20260310T114518Z
LAST-MODIFIED:20260310T114548Z
UID:10003312-1825865100-1825868700@mikepercsifoci.hu
SUMMARY:U13 edzés
DESCRIPTION:
URL:https://mikepercsifoci.hu/esemeny/u13-edzes-2-2-2/2027-11-10/
LOCATION:Mikepércsi Sportpálya\, Sport utca 4.\, Mikepércs\, 4271\, Hungary
CATEGORIES:U13 edzések
END:VEVENT
BEGIN:VEVENT
DTSTART;TZID=Europe/Budapest:20271112T164500
DTEND;TZID=Europe/Budapest:20271112T174500
DTSTAMP:20260426T015452
CREATED:20260104T110102Z
LAST-MODIFIED:20260310T114423Z
UID:10002791-1826037900-1826041500@mikepercsifoci.hu
SUMMARY:U13 edzés
DESCRIPTION:
URL:https://mikepercsifoci.hu/esemeny/u13-edzes-3/2027-11-12/
LOCATION:Mikepércsi Sportpálya\, Sport utca 4.\, Mikepércs\, 4271\, Hungary
CATEGORIES:U13 edzések
END:VEVENT
BEGIN:VEVENT
DTSTART;TZID=Europe/Budapest:20271115T164500
DTEND;TZID=Europe/Budapest:20271115T174500
DTSTAMP:20260426T015452
CREATED:20260310T114641Z
LAST-MODIFIED:20260310T114659Z
UID:10003572-1826297100-1826300700@mikepercsifoci.hu
SUMMARY:U13 edzés
DESCRIPTION:
URL:https://mikepercsifoci.hu/esemeny/u13-edzes-4/2027-11-15/
LOCATION:Mikepércsi Sportpálya\, Sport utca 4.\, Mikepércs\, 4271\, Hungary
CATEGORIES:U13 edzések
END:VEVENT
BEGIN:VEVENT
DTSTART;TZID=Europe/Budapest:20271117T164500
DTEND;TZID=Europe/Budapest:20271117T174500
DTSTAMP:20260426T015452
CREATED:20260310T114518Z
LAST-MODIFIED:20260310T114548Z
UID:10003313-1826469900-1826473500@mikepercsifoci.hu
SUMMARY:U13 edzés
DESCRIPTION:
URL:https://mikepercsifoci.hu/esemeny/u13-edzes-2-2-2/2027-11-17/
LOCATION:Mikepércsi Sportpálya\, Sport utca 4.\, Mikepércs\, 4271\, Hungary
CATEGORIES:U13 edzések
END:VEVENT
BEGIN:VEVENT
DTSTART;TZID=Europe/Budapest:20271119T164500
DTEND;TZID=Europe/Budapest:20271119T174500
DTSTAMP:20260426T015452
CREATED:20260104T110102Z
LAST-MODIFIED:20260310T114423Z
UID:10002792-1826642700-1826646300@mikepercsifoci.hu
SUMMARY:U13 edzés
DESCRIPTION:
URL:https://mikepercsifoci.hu/esemeny/u13-edzes-3/2027-11-19/
LOCATION:Mikepércsi Sportpálya\, Sport utca 4.\, Mikepércs\, 4271\, Hungary
CATEGORIES:U13 edzések
END:VEVENT
END:VCALENDAR