BEGIN:VCALENDAR
VERSION:2.0
PRODID:-//Mikepércsi Foci - ECPv6.15.12.2//NONSGML v1.0//EN
CALSCALE:GREGORIAN
METHOD:PUBLISH
X-WR-CALNAME:Mikepércsi Foci
X-ORIGINAL-URL:https://mikepercsifoci.hu
X-WR-CALDESC:Események Mikepércsi Foci
REFRESH-INTERVAL;VALUE=DURATION:PT1H
X-Robots-Tag:noindex
X-PUBLISHED-TTL:PT1H
BEGIN:VTIMEZONE
TZID:Europe/Budapest
BEGIN:DAYLIGHT
TZOFFSETFROM:+0100
TZOFFSETTO:+0200
TZNAME:CEST
DTSTART:20260329T010000
END:DAYLIGHT
BEGIN:STANDARD
TZOFFSETFROM:+0200
TZOFFSETTO:+0100
TZNAME:CET
DTSTART:20261025T010000
END:STANDARD
BEGIN:DAYLIGHT
TZOFFSETFROM:+0100
TZOFFSETTO:+0200
TZNAME:CEST
DTSTART:20270328T010000
END:DAYLIGHT
BEGIN:STANDARD
TZOFFSETFROM:+0200
TZOFFSETTO:+0100
TZNAME:CET
DTSTART:20271031T010000
END:STANDARD
BEGIN:DAYLIGHT
TZOFFSETFROM:+0100
TZOFFSETTO:+0200
TZNAME:CEST
DTSTART:20280326T010000
END:DAYLIGHT
BEGIN:STANDARD
TZOFFSETFROM:+0200
TZOFFSETTO:+0100
TZNAME:CET
DTSTART:20281029T010000
END:STANDARD
END:VTIMEZONE
BEGIN:VEVENT
DTSTART;TZID=Europe/Budapest:20270615T164500
DTEND;TZID=Europe/Budapest:20270615T174500
DTSTAMP:20260420T015800
CREATED:20260104T105654Z
LAST-MODIFIED:20260310T114240Z
UID:10002500-1813077900-1813081500@mikepercsifoci.hu
SUMMARY:U9 edzés
DESCRIPTION:
URL:https://mikepercsifoci.hu/esemeny/u9-edzes-3/2027-06-15/
LOCATION:Mikepércsi Sportpálya\, Sport utca 4.\, Mikepércs\, 4271\, Hungary
CATEGORIES:U9 edzések
END:VEVENT
BEGIN:VEVENT
DTSTART;TZID=Europe/Budapest:20270617T164500
DTEND;TZID=Europe/Budapest:20270617T174500
DTSTAMP:20260420T015800
CREATED:20260104T105556Z
LAST-MODIFIED:20260310T114146Z
UID:10002230-1813250700-1813254300@mikepercsifoci.hu
SUMMARY:U9 edzés
DESCRIPTION:
URL:https://mikepercsifoci.hu/esemeny/u9-edzes-2-2/2027-06-17/
LOCATION:Mikepércsi Sportpálya\, Sport utca 4.\, Mikepércs\, 4271\, Hungary
CATEGORIES:U9 edzések
END:VEVENT
BEGIN:VEVENT
DTSTART;TZID=Europe/Budapest:20270622T164500
DTEND;TZID=Europe/Budapest:20270622T174500
DTSTAMP:20260420T015800
CREATED:20260104T105654Z
LAST-MODIFIED:20260310T114240Z
UID:10002501-1813682700-1813686300@mikepercsifoci.hu
SUMMARY:U9 edzés
DESCRIPTION:
URL:https://mikepercsifoci.hu/esemeny/u9-edzes-3/2027-06-22/
LOCATION:Mikepércsi Sportpálya\, Sport utca 4.\, Mikepércs\, 4271\, Hungary
CATEGORIES:U9 edzések
END:VEVENT
BEGIN:VEVENT
DTSTART;TZID=Europe/Budapest:20270624T164500
DTEND;TZID=Europe/Budapest:20270624T174500
DTSTAMP:20260420T015800
CREATED:20260104T105556Z
LAST-MODIFIED:20260310T114146Z
UID:10002231-1813855500-1813859100@mikepercsifoci.hu
SUMMARY:U9 edzés
DESCRIPTION:
URL:https://mikepercsifoci.hu/esemeny/u9-edzes-2-2/2027-06-24/
LOCATION:Mikepércsi Sportpálya\, Sport utca 4.\, Mikepércs\, 4271\, Hungary
CATEGORIES:U9 edzések
END:VEVENT
BEGIN:VEVENT
DTSTART;TZID=Europe/Budapest:20270629T164500
DTEND;TZID=Europe/Budapest:20270629T174500
DTSTAMP:20260420T015800
CREATED:20260104T105654Z
LAST-MODIFIED:20260310T114240Z
UID:10002502-1814287500-1814291100@mikepercsifoci.hu
SUMMARY:U9 edzés
DESCRIPTION:
URL:https://mikepercsifoci.hu/esemeny/u9-edzes-3/2027-06-29/
LOCATION:Mikepércsi Sportpálya\, Sport utca 4.\, Mikepércs\, 4271\, Hungary
CATEGORIES:U9 edzések
END:VEVENT
BEGIN:VEVENT
DTSTART;TZID=Europe/Budapest:20270701T164500
DTEND;TZID=Europe/Budapest:20270701T174500
DTSTAMP:20260420T015800
CREATED:20260104T105556Z
LAST-MODIFIED:20260310T114146Z
UID:10002232-1814460300-1814463900@mikepercsifoci.hu
SUMMARY:U9 edzés
DESCRIPTION:
URL:https://mikepercsifoci.hu/esemeny/u9-edzes-2-2/2027-07-01/
LOCATION:Mikepércsi Sportpálya\, Sport utca 4.\, Mikepércs\, 4271\, Hungary
CATEGORIES:U9 edzések
END:VEVENT
BEGIN:VEVENT
DTSTART;TZID=Europe/Budapest:20270706T164500
DTEND;TZID=Europe/Budapest:20270706T174500
DTSTAMP:20260420T015800
CREATED:20260104T105654Z
LAST-MODIFIED:20260310T114240Z
UID:10002503-1814892300-1814895900@mikepercsifoci.hu
SUMMARY:U9 edzés
DESCRIPTION:
URL:https://mikepercsifoci.hu/esemeny/u9-edzes-3/2027-07-06/
LOCATION:Mikepércsi Sportpálya\, Sport utca 4.\, Mikepércs\, 4271\, Hungary
CATEGORIES:U9 edzések
END:VEVENT
BEGIN:VEVENT
DTSTART;TZID=Europe/Budapest:20270708T164500
DTEND;TZID=Europe/Budapest:20270708T174500
DTSTAMP:20260420T015800
CREATED:20260104T105556Z
LAST-MODIFIED:20260310T114146Z
UID:10002233-1815065100-1815068700@mikepercsifoci.hu
SUMMARY:U9 edzés
DESCRIPTION:
URL:https://mikepercsifoci.hu/esemeny/u9-edzes-2-2/2027-07-08/
LOCATION:Mikepércsi Sportpálya\, Sport utca 4.\, Mikepércs\, 4271\, Hungary
CATEGORIES:U9 edzések
END:VEVENT
BEGIN:VEVENT
DTSTART;TZID=Europe/Budapest:20270713T164500
DTEND;TZID=Europe/Budapest:20270713T174500
DTSTAMP:20260420T015800
CREATED:20260104T105654Z
LAST-MODIFIED:20260310T114240Z
UID:10002504-1815497100-1815500700@mikepercsifoci.hu
SUMMARY:U9 edzés
DESCRIPTION:
URL:https://mikepercsifoci.hu/esemeny/u9-edzes-3/2027-07-13/
LOCATION:Mikepércsi Sportpálya\, Sport utca 4.\, Mikepércs\, 4271\, Hungary
CATEGORIES:U9 edzések
END:VEVENT
BEGIN:VEVENT
DTSTART;TZID=Europe/Budapest:20270715T164500
DTEND;TZID=Europe/Budapest:20270715T174500
DTSTAMP:20260420T015800
CREATED:20260104T105556Z
LAST-MODIFIED:20260310T114146Z
UID:10002234-1815669900-1815673500@mikepercsifoci.hu
SUMMARY:U9 edzés
DESCRIPTION:
URL:https://mikepercsifoci.hu/esemeny/u9-edzes-2-2/2027-07-15/
LOCATION:Mikepércsi Sportpálya\, Sport utca 4.\, Mikepércs\, 4271\, Hungary
CATEGORIES:U9 edzések
END:VEVENT
BEGIN:VEVENT
DTSTART;TZID=Europe/Budapest:20270720T164500
DTEND;TZID=Europe/Budapest:20270720T174500
DTSTAMP:20260420T015800
CREATED:20260104T105654Z
LAST-MODIFIED:20260310T114240Z
UID:10002505-1816101900-1816105500@mikepercsifoci.hu
SUMMARY:U9 edzés
DESCRIPTION:
URL:https://mikepercsifoci.hu/esemeny/u9-edzes-3/2027-07-20/
LOCATION:Mikepércsi Sportpálya\, Sport utca 4.\, Mikepércs\, 4271\, Hungary
CATEGORIES:U9 edzések
END:VEVENT
BEGIN:VEVENT
DTSTART;TZID=Europe/Budapest:20270722T164500
DTEND;TZID=Europe/Budapest:20270722T174500
DTSTAMP:20260420T015800
CREATED:20260104T105556Z
LAST-MODIFIED:20260310T114146Z
UID:10002235-1816274700-1816278300@mikepercsifoci.hu
SUMMARY:U9 edzés
DESCRIPTION:
URL:https://mikepercsifoci.hu/esemeny/u9-edzes-2-2/2027-07-22/
LOCATION:Mikepércsi Sportpálya\, Sport utca 4.\, Mikepércs\, 4271\, Hungary
CATEGORIES:U9 edzések
END:VEVENT
BEGIN:VEVENT
DTSTART;TZID=Europe/Budapest:20270727T164500
DTEND;TZID=Europe/Budapest:20270727T174500
DTSTAMP:20260420T015800
CREATED:20260104T105654Z
LAST-MODIFIED:20260310T114240Z
UID:10002506-1816706700-1816710300@mikepercsifoci.hu
SUMMARY:U9 edzés
DESCRIPTION:
URL:https://mikepercsifoci.hu/esemeny/u9-edzes-3/2027-07-27/
LOCATION:Mikepércsi Sportpálya\, Sport utca 4.\, Mikepércs\, 4271\, Hungary
CATEGORIES:U9 edzések
END:VEVENT
BEGIN:VEVENT
DTSTART;TZID=Europe/Budapest:20270729T164500
DTEND;TZID=Europe/Budapest:20270729T174500
DTSTAMP:20260420T015800
CREATED:20260104T105556Z
LAST-MODIFIED:20260310T114146Z
UID:10002236-1816879500-1816883100@mikepercsifoci.hu
SUMMARY:U9 edzés
DESCRIPTION:
URL:https://mikepercsifoci.hu/esemeny/u9-edzes-2-2/2027-07-29/
LOCATION:Mikepércsi Sportpálya\, Sport utca 4.\, Mikepércs\, 4271\, Hungary
CATEGORIES:U9 edzések
END:VEVENT
BEGIN:VEVENT
DTSTART;TZID=Europe/Budapest:20270803T164500
DTEND;TZID=Europe/Budapest:20270803T174500
DTSTAMP:20260420T015800
CREATED:20260104T105654Z
LAST-MODIFIED:20260310T114240Z
UID:10002507-1817311500-1817315100@mikepercsifoci.hu
SUMMARY:U9 edzés
DESCRIPTION:
URL:https://mikepercsifoci.hu/esemeny/u9-edzes-3/2027-08-03/
LOCATION:Mikepércsi Sportpálya\, Sport utca 4.\, Mikepércs\, 4271\, Hungary
CATEGORIES:U9 edzések
END:VEVENT
BEGIN:VEVENT
DTSTART;TZID=Europe/Budapest:20270805T164500
DTEND;TZID=Europe/Budapest:20270805T174500
DTSTAMP:20260420T015800
CREATED:20260104T105556Z
LAST-MODIFIED:20260310T114146Z
UID:10002237-1817484300-1817487900@mikepercsifoci.hu
SUMMARY:U9 edzés
DESCRIPTION:
URL:https://mikepercsifoci.hu/esemeny/u9-edzes-2-2/2027-08-05/
LOCATION:Mikepércsi Sportpálya\, Sport utca 4.\, Mikepércs\, 4271\, Hungary
CATEGORIES:U9 edzések
END:VEVENT
BEGIN:VEVENT
DTSTART;TZID=Europe/Budapest:20270810T164500
DTEND;TZID=Europe/Budapest:20270810T174500
DTSTAMP:20260420T015800
CREATED:20260104T105654Z
LAST-MODIFIED:20260310T114240Z
UID:10002508-1817916300-1817919900@mikepercsifoci.hu
SUMMARY:U9 edzés
DESCRIPTION:
URL:https://mikepercsifoci.hu/esemeny/u9-edzes-3/2027-08-10/
LOCATION:Mikepércsi Sportpálya\, Sport utca 4.\, Mikepércs\, 4271\, Hungary
CATEGORIES:U9 edzések
END:VEVENT
BEGIN:VEVENT
DTSTART;TZID=Europe/Budapest:20270812T164500
DTEND;TZID=Europe/Budapest:20270812T174500
DTSTAMP:20260420T015800
CREATED:20260104T105556Z
LAST-MODIFIED:20260310T114146Z
UID:10002238-1818089100-1818092700@mikepercsifoci.hu
SUMMARY:U9 edzés
DESCRIPTION:
URL:https://mikepercsifoci.hu/esemeny/u9-edzes-2-2/2027-08-12/
LOCATION:Mikepércsi Sportpálya\, Sport utca 4.\, Mikepércs\, 4271\, Hungary
CATEGORIES:U9 edzések
END:VEVENT
BEGIN:VEVENT
DTSTART;TZID=Europe/Budapest:20270817T164500
DTEND;TZID=Europe/Budapest:20270817T174500
DTSTAMP:20260420T015800
CREATED:20260104T105654Z
LAST-MODIFIED:20260310T114240Z
UID:10002509-1818521100-1818524700@mikepercsifoci.hu
SUMMARY:U9 edzés
DESCRIPTION:
URL:https://mikepercsifoci.hu/esemeny/u9-edzes-3/2027-08-17/
LOCATION:Mikepércsi Sportpálya\, Sport utca 4.\, Mikepércs\, 4271\, Hungary
CATEGORIES:U9 edzések
END:VEVENT
BEGIN:VEVENT
DTSTART;TZID=Europe/Budapest:20270819T164500
DTEND;TZID=Europe/Budapest:20270819T174500
DTSTAMP:20260420T015800
CREATED:20260104T105556Z
LAST-MODIFIED:20260310T114146Z
UID:10002239-1818693900-1818697500@mikepercsifoci.hu
SUMMARY:U9 edzés
DESCRIPTION:
URL:https://mikepercsifoci.hu/esemeny/u9-edzes-2-2/2027-08-19/
LOCATION:Mikepércsi Sportpálya\, Sport utca 4.\, Mikepércs\, 4271\, Hungary
CATEGORIES:U9 edzések
END:VEVENT
BEGIN:VEVENT
DTSTART;TZID=Europe/Budapest:20270824T164500
DTEND;TZID=Europe/Budapest:20270824T174500
DTSTAMP:20260420T015800
CREATED:20260104T105654Z
LAST-MODIFIED:20260310T114240Z
UID:10002510-1819125900-1819129500@mikepercsifoci.hu
SUMMARY:U9 edzés
DESCRIPTION:
URL:https://mikepercsifoci.hu/esemeny/u9-edzes-3/2027-08-24/
LOCATION:Mikepércsi Sportpálya\, Sport utca 4.\, Mikepércs\, 4271\, Hungary
CATEGORIES:U9 edzések
END:VEVENT
BEGIN:VEVENT
DTSTART;TZID=Europe/Budapest:20270826T164500
DTEND;TZID=Europe/Budapest:20270826T174500
DTSTAMP:20260420T015800
CREATED:20260104T105556Z
LAST-MODIFIED:20260310T114146Z
UID:10002240-1819298700-1819302300@mikepercsifoci.hu
SUMMARY:U9 edzés
DESCRIPTION:
URL:https://mikepercsifoci.hu/esemeny/u9-edzes-2-2/2027-08-26/
LOCATION:Mikepércsi Sportpálya\, Sport utca 4.\, Mikepércs\, 4271\, Hungary
CATEGORIES:U9 edzések
END:VEVENT
BEGIN:VEVENT
DTSTART;TZID=Europe/Budapest:20270831T164500
DTEND;TZID=Europe/Budapest:20270831T174500
DTSTAMP:20260420T015800
CREATED:20260104T105654Z
LAST-MODIFIED:20260310T114240Z
UID:10002511-1819730700-1819734300@mikepercsifoci.hu
SUMMARY:U9 edzés
DESCRIPTION:
URL:https://mikepercsifoci.hu/esemeny/u9-edzes-3/2027-08-31/
LOCATION:Mikepércsi Sportpálya\, Sport utca 4.\, Mikepércs\, 4271\, Hungary
CATEGORIES:U9 edzések
END:VEVENT
BEGIN:VEVENT
DTSTART;TZID=Europe/Budapest:20270902T164500
DTEND;TZID=Europe/Budapest:20270902T174500
DTSTAMP:20260420T015800
CREATED:20260104T105556Z
LAST-MODIFIED:20260310T114146Z
UID:10002241-1819903500-1819907100@mikepercsifoci.hu
SUMMARY:U9 edzés
DESCRIPTION:
URL:https://mikepercsifoci.hu/esemeny/u9-edzes-2-2/2027-09-02/
LOCATION:Mikepércsi Sportpálya\, Sport utca 4.\, Mikepércs\, 4271\, Hungary
CATEGORIES:U9 edzések
END:VEVENT
BEGIN:VEVENT
DTSTART;TZID=Europe/Budapest:20270907T164500
DTEND;TZID=Europe/Budapest:20270907T174500
DTSTAMP:20260420T015800
CREATED:20260104T105654Z
LAST-MODIFIED:20260310T114240Z
UID:10002512-1820335500-1820339100@mikepercsifoci.hu
SUMMARY:U9 edzés
DESCRIPTION:
URL:https://mikepercsifoci.hu/esemeny/u9-edzes-3/2027-09-07/
LOCATION:Mikepércsi Sportpálya\, Sport utca 4.\, Mikepércs\, 4271\, Hungary
CATEGORIES:U9 edzések
END:VEVENT
BEGIN:VEVENT
DTSTART;TZID=Europe/Budapest:20270909T164500
DTEND;TZID=Europe/Budapest:20270909T174500
DTSTAMP:20260420T015800
CREATED:20260104T105556Z
LAST-MODIFIED:20260310T114146Z
UID:10002242-1820508300-1820511900@mikepercsifoci.hu
SUMMARY:U9 edzés
DESCRIPTION:
URL:https://mikepercsifoci.hu/esemeny/u9-edzes-2-2/2027-09-09/
LOCATION:Mikepércsi Sportpálya\, Sport utca 4.\, Mikepércs\, 4271\, Hungary
CATEGORIES:U9 edzések
END:VEVENT
BEGIN:VEVENT
DTSTART;TZID=Europe/Budapest:20270914T164500
DTEND;TZID=Europe/Budapest:20270914T174500
DTSTAMP:20260420T015800
CREATED:20260104T105654Z
LAST-MODIFIED:20260310T114240Z
UID:10002513-1820940300-1820943900@mikepercsifoci.hu
SUMMARY:U9 edzés
DESCRIPTION:
URL:https://mikepercsifoci.hu/esemeny/u9-edzes-3/2027-09-14/
LOCATION:Mikepércsi Sportpálya\, Sport utca 4.\, Mikepércs\, 4271\, Hungary
CATEGORIES:U9 edzések
END:VEVENT
BEGIN:VEVENT
DTSTART;TZID=Europe/Budapest:20270916T164500
DTEND;TZID=Europe/Budapest:20270916T174500
DTSTAMP:20260420T015800
CREATED:20260104T105556Z
LAST-MODIFIED:20260310T114146Z
UID:10002243-1821113100-1821116700@mikepercsifoci.hu
SUMMARY:U9 edzés
DESCRIPTION:
URL:https://mikepercsifoci.hu/esemeny/u9-edzes-2-2/2027-09-16/
LOCATION:Mikepércsi Sportpálya\, Sport utca 4.\, Mikepércs\, 4271\, Hungary
CATEGORIES:U9 edzések
END:VEVENT
BEGIN:VEVENT
DTSTART;TZID=Europe/Budapest:20270921T164500
DTEND;TZID=Europe/Budapest:20270921T174500
DTSTAMP:20260420T015800
CREATED:20260104T105654Z
LAST-MODIFIED:20260310T114240Z
UID:10002514-1821545100-1821548700@mikepercsifoci.hu
SUMMARY:U9 edzés
DESCRIPTION:
URL:https://mikepercsifoci.hu/esemeny/u9-edzes-3/2027-09-21/
LOCATION:Mikepércsi Sportpálya\, Sport utca 4.\, Mikepércs\, 4271\, Hungary
CATEGORIES:U9 edzések
END:VEVENT
BEGIN:VEVENT
DTSTART;TZID=Europe/Budapest:20270923T164500
DTEND;TZID=Europe/Budapest:20270923T174500
DTSTAMP:20260420T015800
CREATED:20260104T105556Z
LAST-MODIFIED:20260310T114146Z
UID:10002244-1821717900-1821721500@mikepercsifoci.hu
SUMMARY:U9 edzés
DESCRIPTION:
URL:https://mikepercsifoci.hu/esemeny/u9-edzes-2-2/2027-09-23/
LOCATION:Mikepércsi Sportpálya\, Sport utca 4.\, Mikepércs\, 4271\, Hungary
CATEGORIES:U9 edzések
END:VEVENT
END:VCALENDAR