BEGIN:VCALENDAR
VERSION:2.0
PRODID:-//Mikepércsi Foci - ECPv6.15.12.2//NONSGML v1.0//EN
CALSCALE:GREGORIAN
METHOD:PUBLISH
X-ORIGINAL-URL:https://mikepercsifoci.hu
X-WR-CALDESC:Események Mikepércsi Foci
REFRESH-INTERVAL;VALUE=DURATION:PT1H
X-Robots-Tag:noindex
X-PUBLISHED-TTL:PT1H
BEGIN:VTIMEZONE
TZID:Europe/Budapest
BEGIN:DAYLIGHT
TZOFFSETFROM:+0100
TZOFFSETTO:+0200
TZNAME:CEST
DTSTART:20270328T010000
END:DAYLIGHT
BEGIN:STANDARD
TZOFFSETFROM:+0200
TZOFFSETTO:+0100
TZNAME:CET
DTSTART:20271031T010000
END:STANDARD
BEGIN:DAYLIGHT
TZOFFSETFROM:+0100
TZOFFSETTO:+0200
TZNAME:CEST
DTSTART:20280326T010000
END:DAYLIGHT
BEGIN:STANDARD
TZOFFSETFROM:+0200
TZOFFSETTO:+0100
TZNAME:CET
DTSTART:20281029T010000
END:STANDARD
BEGIN:DAYLIGHT
TZOFFSETFROM:+0100
TZOFFSETTO:+0200
TZNAME:CEST
DTSTART:20290325T010000
END:DAYLIGHT
BEGIN:STANDARD
TZOFFSETFROM:+0200
TZOFFSETTO:+0100
TZNAME:CET
DTSTART:20291028T010000
END:STANDARD
END:VTIMEZONE
BEGIN:VEVENT
DTSTART;TZID=Europe/Budapest:20280111T164500
DTEND;TZID=Europe/Budapest:20280111T174500
DTSTAMP:20260420T103438
CREATED:20260104T105654Z
LAST-MODIFIED:20260310T114240Z
UID:10002530-1831221900-1831225500@mikepercsifoci.hu
SUMMARY:U9 edzés
DESCRIPTION:
URL:https://mikepercsifoci.hu/esemeny/u9-edzes-3/2028-01-11/
LOCATION:Mikepércsi Sportpálya\, Sport utca 4.\, Mikepércs\, 4271\, Hungary
CATEGORIES:U9 edzések
END:VEVENT
BEGIN:VEVENT
DTSTART;TZID=Europe/Budapest:20280113T164500
DTEND;TZID=Europe/Budapest:20280113T174500
DTSTAMP:20260420T103438
CREATED:20260104T105556Z
LAST-MODIFIED:20260310T114146Z
UID:10002260-1831394700-1831398300@mikepercsifoci.hu
SUMMARY:U9 edzés
DESCRIPTION:
URL:https://mikepercsifoci.hu/esemeny/u9-edzes-2-2/2028-01-13/
LOCATION:Mikepércsi Sportpálya\, Sport utca 4.\, Mikepércs\, 4271\, Hungary
CATEGORIES:U9 edzések
END:VEVENT
BEGIN:VEVENT
DTSTART;TZID=Europe/Budapest:20280118T164500
DTEND;TZID=Europe/Budapest:20280118T174500
DTSTAMP:20260420T103438
CREATED:20260104T105654Z
LAST-MODIFIED:20260310T114240Z
UID:10002531-1831826700-1831830300@mikepercsifoci.hu
SUMMARY:U9 edzés
DESCRIPTION:
URL:https://mikepercsifoci.hu/esemeny/u9-edzes-3/2028-01-18/
LOCATION:Mikepércsi Sportpálya\, Sport utca 4.\, Mikepércs\, 4271\, Hungary
CATEGORIES:U9 edzések
END:VEVENT
BEGIN:VEVENT
DTSTART;TZID=Europe/Budapest:20280120T164500
DTEND;TZID=Europe/Budapest:20280120T174500
DTSTAMP:20260420T103438
CREATED:20260104T105556Z
LAST-MODIFIED:20260310T114146Z
UID:10002261-1831999500-1832003100@mikepercsifoci.hu
SUMMARY:U9 edzés
DESCRIPTION:
URL:https://mikepercsifoci.hu/esemeny/u9-edzes-2-2/2028-01-20/
LOCATION:Mikepércsi Sportpálya\, Sport utca 4.\, Mikepércs\, 4271\, Hungary
CATEGORIES:U9 edzések
END:VEVENT
BEGIN:VEVENT
DTSTART;TZID=Europe/Budapest:20280125T164500
DTEND;TZID=Europe/Budapest:20280125T174500
DTSTAMP:20260420T103438
CREATED:20260104T105654Z
LAST-MODIFIED:20260310T114240Z
UID:10002532-1832431500-1832435100@mikepercsifoci.hu
SUMMARY:U9 edzés
DESCRIPTION:
URL:https://mikepercsifoci.hu/esemeny/u9-edzes-3/2028-01-25/
LOCATION:Mikepércsi Sportpálya\, Sport utca 4.\, Mikepércs\, 4271\, Hungary
CATEGORIES:U9 edzések
END:VEVENT
BEGIN:VEVENT
DTSTART;TZID=Europe/Budapest:20280127T164500
DTEND;TZID=Europe/Budapest:20280127T174500
DTSTAMP:20260420T103438
CREATED:20260104T105556Z
LAST-MODIFIED:20260310T114146Z
UID:10002262-1832604300-1832607900@mikepercsifoci.hu
SUMMARY:U9 edzés
DESCRIPTION:
URL:https://mikepercsifoci.hu/esemeny/u9-edzes-2-2/2028-01-27/
LOCATION:Mikepércsi Sportpálya\, Sport utca 4.\, Mikepércs\, 4271\, Hungary
CATEGORIES:U9 edzések
END:VEVENT
BEGIN:VEVENT
DTSTART;TZID=Europe/Budapest:20280201T164500
DTEND;TZID=Europe/Budapest:20280201T174500
DTSTAMP:20260420T103438
CREATED:20260104T105654Z
LAST-MODIFIED:20260310T114240Z
UID:10002533-1833036300-1833039900@mikepercsifoci.hu
SUMMARY:U9 edzés
DESCRIPTION:
URL:https://mikepercsifoci.hu/esemeny/u9-edzes-3/2028-02-01/
LOCATION:Mikepércsi Sportpálya\, Sport utca 4.\, Mikepércs\, 4271\, Hungary
CATEGORIES:U9 edzések
END:VEVENT
BEGIN:VEVENT
DTSTART;TZID=Europe/Budapest:20280203T164500
DTEND;TZID=Europe/Budapest:20280203T174500
DTSTAMP:20260420T103438
CREATED:20260104T105556Z
LAST-MODIFIED:20260310T114146Z
UID:10002263-1833209100-1833212700@mikepercsifoci.hu
SUMMARY:U9 edzés
DESCRIPTION:
URL:https://mikepercsifoci.hu/esemeny/u9-edzes-2-2/2028-02-03/
LOCATION:Mikepércsi Sportpálya\, Sport utca 4.\, Mikepércs\, 4271\, Hungary
CATEGORIES:U9 edzések
END:VEVENT
BEGIN:VEVENT
DTSTART;TZID=Europe/Budapest:20280208T164500
DTEND;TZID=Europe/Budapest:20280208T174500
DTSTAMP:20260420T103438
CREATED:20260104T105654Z
LAST-MODIFIED:20260310T114240Z
UID:10002534-1833641100-1833644700@mikepercsifoci.hu
SUMMARY:U9 edzés
DESCRIPTION:
URL:https://mikepercsifoci.hu/esemeny/u9-edzes-3/2028-02-08/
LOCATION:Mikepércsi Sportpálya\, Sport utca 4.\, Mikepércs\, 4271\, Hungary
CATEGORIES:U9 edzések
END:VEVENT
BEGIN:VEVENT
DTSTART;TZID=Europe/Budapest:20280210T164500
DTEND;TZID=Europe/Budapest:20280210T174500
DTSTAMP:20260420T103438
CREATED:20260104T105556Z
LAST-MODIFIED:20260310T114146Z
UID:10002264-1833813900-1833817500@mikepercsifoci.hu
SUMMARY:U9 edzés
DESCRIPTION:
URL:https://mikepercsifoci.hu/esemeny/u9-edzes-2-2/2028-02-10/
LOCATION:Mikepércsi Sportpálya\, Sport utca 4.\, Mikepércs\, 4271\, Hungary
CATEGORIES:U9 edzések
END:VEVENT
BEGIN:VEVENT
DTSTART;TZID=Europe/Budapest:20280215T164500
DTEND;TZID=Europe/Budapest:20280215T174500
DTSTAMP:20260420T103438
CREATED:20260104T105654Z
LAST-MODIFIED:20260310T114240Z
UID:10002535-1834245900-1834249500@mikepercsifoci.hu
SUMMARY:U9 edzés
DESCRIPTION:
URL:https://mikepercsifoci.hu/esemeny/u9-edzes-3/2028-02-15/
LOCATION:Mikepércsi Sportpálya\, Sport utca 4.\, Mikepércs\, 4271\, Hungary
CATEGORIES:U9 edzések
END:VEVENT
BEGIN:VEVENT
DTSTART;TZID=Europe/Budapest:20280217T164500
DTEND;TZID=Europe/Budapest:20280217T174500
DTSTAMP:20260420T103438
CREATED:20260104T105556Z
LAST-MODIFIED:20260310T114146Z
UID:10002265-1834418700-1834422300@mikepercsifoci.hu
SUMMARY:U9 edzés
DESCRIPTION:
URL:https://mikepercsifoci.hu/esemeny/u9-edzes-2-2/2028-02-17/
LOCATION:Mikepércsi Sportpálya\, Sport utca 4.\, Mikepércs\, 4271\, Hungary
CATEGORIES:U9 edzések
END:VEVENT
BEGIN:VEVENT
DTSTART;TZID=Europe/Budapest:20280222T164500
DTEND;TZID=Europe/Budapest:20280222T174500
DTSTAMP:20260420T103438
CREATED:20260104T105654Z
LAST-MODIFIED:20260310T114240Z
UID:10002536-1834850700-1834854300@mikepercsifoci.hu
SUMMARY:U9 edzés
DESCRIPTION:
URL:https://mikepercsifoci.hu/esemeny/u9-edzes-3/2028-02-22/
LOCATION:Mikepércsi Sportpálya\, Sport utca 4.\, Mikepércs\, 4271\, Hungary
CATEGORIES:U9 edzések
END:VEVENT
BEGIN:VEVENT
DTSTART;TZID=Europe/Budapest:20280224T164500
DTEND;TZID=Europe/Budapest:20280224T174500
DTSTAMP:20260420T103438
CREATED:20260104T105556Z
LAST-MODIFIED:20260310T114146Z
UID:10002266-1835023500-1835027100@mikepercsifoci.hu
SUMMARY:U9 edzés
DESCRIPTION:
URL:https://mikepercsifoci.hu/esemeny/u9-edzes-2-2/2028-02-24/
LOCATION:Mikepércsi Sportpálya\, Sport utca 4.\, Mikepércs\, 4271\, Hungary
CATEGORIES:U9 edzések
END:VEVENT
BEGIN:VEVENT
DTSTART;TZID=Europe/Budapest:20280229T164500
DTEND;TZID=Europe/Budapest:20280229T174500
DTSTAMP:20260420T103438
CREATED:20260104T105654Z
LAST-MODIFIED:20260310T114240Z
UID:10002537-1835455500-1835459100@mikepercsifoci.hu
SUMMARY:U9 edzés
DESCRIPTION:
URL:https://mikepercsifoci.hu/esemeny/u9-edzes-3/2028-02-29/
LOCATION:Mikepércsi Sportpálya\, Sport utca 4.\, Mikepércs\, 4271\, Hungary
CATEGORIES:U9 edzések
END:VEVENT
BEGIN:VEVENT
DTSTART;TZID=Europe/Budapest:20280302T164500
DTEND;TZID=Europe/Budapest:20280302T174500
DTSTAMP:20260420T103438
CREATED:20260104T105556Z
LAST-MODIFIED:20260310T114146Z
UID:10002267-1835628300-1835631900@mikepercsifoci.hu
SUMMARY:U9 edzés
DESCRIPTION:
URL:https://mikepercsifoci.hu/esemeny/u9-edzes-2-2/2028-03-02/
LOCATION:Mikepércsi Sportpálya\, Sport utca 4.\, Mikepércs\, 4271\, Hungary
CATEGORIES:U9 edzések
END:VEVENT
BEGIN:VEVENT
DTSTART;TZID=Europe/Budapest:20280307T164500
DTEND;TZID=Europe/Budapest:20280307T174500
DTSTAMP:20260420T103438
CREATED:20260104T105654Z
LAST-MODIFIED:20260310T114240Z
UID:10002538-1836060300-1836063900@mikepercsifoci.hu
SUMMARY:U9 edzés
DESCRIPTION:
URL:https://mikepercsifoci.hu/esemeny/u9-edzes-3/2028-03-07/
LOCATION:Mikepércsi Sportpálya\, Sport utca 4.\, Mikepércs\, 4271\, Hungary
CATEGORIES:U9 edzések
END:VEVENT
BEGIN:VEVENT
DTSTART;TZID=Europe/Budapest:20280309T164500
DTEND;TZID=Europe/Budapest:20280309T174500
DTSTAMP:20260420T103438
CREATED:20260104T105556Z
LAST-MODIFIED:20260310T114146Z
UID:10002268-1836233100-1836236700@mikepercsifoci.hu
SUMMARY:U9 edzés
DESCRIPTION:
URL:https://mikepercsifoci.hu/esemeny/u9-edzes-2-2/2028-03-09/
LOCATION:Mikepércsi Sportpálya\, Sport utca 4.\, Mikepércs\, 4271\, Hungary
CATEGORIES:U9 edzések
END:VEVENT
BEGIN:VEVENT
DTSTART;TZID=Europe/Budapest:20280314T164500
DTEND;TZID=Europe/Budapest:20280314T174500
DTSTAMP:20260420T103438
CREATED:20260104T105654Z
LAST-MODIFIED:20260310T114240Z
UID:10002539-1836665100-1836668700@mikepercsifoci.hu
SUMMARY:U9 edzés
DESCRIPTION:
URL:https://mikepercsifoci.hu/esemeny/u9-edzes-3/2028-03-14/
LOCATION:Mikepércsi Sportpálya\, Sport utca 4.\, Mikepércs\, 4271\, Hungary
CATEGORIES:U9 edzések
END:VEVENT
BEGIN:VEVENT
DTSTART;TZID=Europe/Budapest:20280316T164500
DTEND;TZID=Europe/Budapest:20280316T174500
DTSTAMP:20260420T103438
CREATED:20260104T105556Z
LAST-MODIFIED:20260310T114146Z
UID:10002269-1836837900-1836841500@mikepercsifoci.hu
SUMMARY:U9 edzés
DESCRIPTION:
URL:https://mikepercsifoci.hu/esemeny/u9-edzes-2-2/2028-03-16/
LOCATION:Mikepércsi Sportpálya\, Sport utca 4.\, Mikepércs\, 4271\, Hungary
CATEGORIES:U9 edzések
END:VEVENT
BEGIN:VEVENT
DTSTART;TZID=Europe/Budapest:20280321T164500
DTEND;TZID=Europe/Budapest:20280321T174500
DTSTAMP:20260420T103438
CREATED:20260104T105654Z
LAST-MODIFIED:20260310T114240Z
UID:10002540-1837269900-1837273500@mikepercsifoci.hu
SUMMARY:U9 edzés
DESCRIPTION:
URL:https://mikepercsifoci.hu/esemeny/u9-edzes-3/2028-03-21/
LOCATION:Mikepércsi Sportpálya\, Sport utca 4.\, Mikepércs\, 4271\, Hungary
CATEGORIES:U9 edzések
END:VEVENT
BEGIN:VEVENT
DTSTART;TZID=Europe/Budapest:20280323T164500
DTEND;TZID=Europe/Budapest:20280323T174500
DTSTAMP:20260420T103438
CREATED:20260104T105556Z
LAST-MODIFIED:20260310T114146Z
UID:10002270-1837442700-1837446300@mikepercsifoci.hu
SUMMARY:U9 edzés
DESCRIPTION:
URL:https://mikepercsifoci.hu/esemeny/u9-edzes-2-2/2028-03-23/
LOCATION:Mikepércsi Sportpálya\, Sport utca 4.\, Mikepércs\, 4271\, Hungary
CATEGORIES:U9 edzések
END:VEVENT
BEGIN:VEVENT
DTSTART;TZID=Europe/Budapest:20280328T164500
DTEND;TZID=Europe/Budapest:20280328T174500
DTSTAMP:20260420T103438
CREATED:20260104T105654Z
LAST-MODIFIED:20260310T114240Z
UID:10002541-1837874700-1837878300@mikepercsifoci.hu
SUMMARY:U9 edzés
DESCRIPTION:
URL:https://mikepercsifoci.hu/esemeny/u9-edzes-3/2028-03-28/
LOCATION:Mikepércsi Sportpálya\, Sport utca 4.\, Mikepércs\, 4271\, Hungary
CATEGORIES:U9 edzések
END:VEVENT
BEGIN:VEVENT
DTSTART;TZID=Europe/Budapest:20280330T164500
DTEND;TZID=Europe/Budapest:20280330T174500
DTSTAMP:20260420T103438
CREATED:20260104T105556Z
LAST-MODIFIED:20260310T114146Z
UID:10002271-1838047500-1838051100@mikepercsifoci.hu
SUMMARY:U9 edzés
DESCRIPTION:
URL:https://mikepercsifoci.hu/esemeny/u9-edzes-2-2/2028-03-30/
LOCATION:Mikepércsi Sportpálya\, Sport utca 4.\, Mikepércs\, 4271\, Hungary
CATEGORIES:U9 edzések
END:VEVENT
BEGIN:VEVENT
DTSTART;TZID=Europe/Budapest:20280404T164500
DTEND;TZID=Europe/Budapest:20280404T174500
DTSTAMP:20260420T103438
CREATED:20260104T105654Z
LAST-MODIFIED:20260310T114240Z
UID:10002542-1838479500-1838483100@mikepercsifoci.hu
SUMMARY:U9 edzés
DESCRIPTION:
URL:https://mikepercsifoci.hu/esemeny/u9-edzes-3/2028-04-04/
LOCATION:Mikepércsi Sportpálya\, Sport utca 4.\, Mikepércs\, 4271\, Hungary
CATEGORIES:U9 edzések
END:VEVENT
BEGIN:VEVENT
DTSTART;TZID=Europe/Budapest:20280406T164500
DTEND;TZID=Europe/Budapest:20280406T174500
DTSTAMP:20260420T103438
CREATED:20260104T105556Z
LAST-MODIFIED:20260310T114146Z
UID:10002272-1838652300-1838655900@mikepercsifoci.hu
SUMMARY:U9 edzés
DESCRIPTION:
URL:https://mikepercsifoci.hu/esemeny/u9-edzes-2-2/2028-04-06/
LOCATION:Mikepércsi Sportpálya\, Sport utca 4.\, Mikepércs\, 4271\, Hungary
CATEGORIES:U9 edzések
END:VEVENT
BEGIN:VEVENT
DTSTART;TZID=Europe/Budapest:20280411T164500
DTEND;TZID=Europe/Budapest:20280411T174500
DTSTAMP:20260420T103438
CREATED:20260104T105654Z
LAST-MODIFIED:20260310T114240Z
UID:10002543-1839084300-1839087900@mikepercsifoci.hu
SUMMARY:U9 edzés
DESCRIPTION:
URL:https://mikepercsifoci.hu/esemeny/u9-edzes-3/2028-04-11/
LOCATION:Mikepércsi Sportpálya\, Sport utca 4.\, Mikepércs\, 4271\, Hungary
CATEGORIES:U9 edzések
END:VEVENT
BEGIN:VEVENT
DTSTART;TZID=Europe/Budapest:20280413T164500
DTEND;TZID=Europe/Budapest:20280413T174500
DTSTAMP:20260420T103438
CREATED:20260104T105556Z
LAST-MODIFIED:20260310T114146Z
UID:10002273-1839257100-1839260700@mikepercsifoci.hu
SUMMARY:U9 edzés
DESCRIPTION:
URL:https://mikepercsifoci.hu/esemeny/u9-edzes-2-2/2028-04-13/
LOCATION:Mikepércsi Sportpálya\, Sport utca 4.\, Mikepércs\, 4271\, Hungary
CATEGORIES:U9 edzések
END:VEVENT
BEGIN:VEVENT
DTSTART;TZID=Europe/Budapest:20280418T164500
DTEND;TZID=Europe/Budapest:20280418T174500
DTSTAMP:20260420T103438
CREATED:20260104T105654Z
LAST-MODIFIED:20260310T114240Z
UID:10002544-1839689100-1839692700@mikepercsifoci.hu
SUMMARY:U9 edzés
DESCRIPTION:
URL:https://mikepercsifoci.hu/esemeny/u9-edzes-3/2028-04-18/
LOCATION:Mikepércsi Sportpálya\, Sport utca 4.\, Mikepércs\, 4271\, Hungary
CATEGORIES:U9 edzések
END:VEVENT
BEGIN:VEVENT
DTSTART;TZID=Europe/Budapest:20280420T164500
DTEND;TZID=Europe/Budapest:20280420T174500
DTSTAMP:20260420T103438
CREATED:20260104T105556Z
LAST-MODIFIED:20260310T114146Z
UID:10002274-1839861900-1839865500@mikepercsifoci.hu
SUMMARY:U9 edzés
DESCRIPTION:
URL:https://mikepercsifoci.hu/esemeny/u9-edzes-2-2/2028-04-20/
LOCATION:Mikepércsi Sportpálya\, Sport utca 4.\, Mikepércs\, 4271\, Hungary
CATEGORIES:U9 edzések
END:VEVENT
END:VCALENDAR