BEGIN:VCALENDAR
VERSION:2.0
PRODID:-//Mikepércsi Foci - ECPv6.15.12.2//NONSGML v1.0//EN
CALSCALE:GREGORIAN
METHOD:PUBLISH
X-ORIGINAL-URL:https://mikepercsifoci.hu
X-WR-CALDESC:Események Mikepércsi Foci
REFRESH-INTERVAL;VALUE=DURATION:PT1H
X-Robots-Tag:noindex
X-PUBLISHED-TTL:PT1H
BEGIN:VTIMEZONE
TZID:Europe/Budapest
BEGIN:DAYLIGHT
TZOFFSETFROM:+0100
TZOFFSETTO:+0200
TZNAME:CEST
DTSTART:20270328T010000
END:DAYLIGHT
BEGIN:STANDARD
TZOFFSETFROM:+0200
TZOFFSETTO:+0100
TZNAME:CET
DTSTART:20271031T010000
END:STANDARD
BEGIN:DAYLIGHT
TZOFFSETFROM:+0100
TZOFFSETTO:+0200
TZNAME:CEST
DTSTART:20280326T010000
END:DAYLIGHT
BEGIN:STANDARD
TZOFFSETFROM:+0200
TZOFFSETTO:+0100
TZNAME:CET
DTSTART:20281029T010000
END:STANDARD
BEGIN:DAYLIGHT
TZOFFSETFROM:+0100
TZOFFSETTO:+0200
TZNAME:CEST
DTSTART:20290325T010000
END:DAYLIGHT
BEGIN:STANDARD
TZOFFSETFROM:+0200
TZOFFSETTO:+0100
TZNAME:CET
DTSTART:20291028T010000
END:STANDARD
END:VTIMEZONE
BEGIN:VEVENT
DTSTART;TZID=Europe/Budapest:20280808T164500
DTEND;TZID=Europe/Budapest:20280808T174500
DTSTAMP:20260420T175608
CREATED:20260104T105654Z
LAST-MODIFIED:20260310T114240Z
UID:10002560-1849365900-1849369500@mikepercsifoci.hu
SUMMARY:U9 edzés
DESCRIPTION:
URL:https://mikepercsifoci.hu/esemeny/u9-edzes-3/2028-08-08/
LOCATION:Mikepércsi Sportpálya\, Sport utca 4.\, Mikepércs\, 4271\, Hungary
CATEGORIES:U9 edzések
END:VEVENT
BEGIN:VEVENT
DTSTART;TZID=Europe/Budapest:20280810T164500
DTEND;TZID=Europe/Budapest:20280810T174500
DTSTAMP:20260420T175608
CREATED:20260104T105556Z
LAST-MODIFIED:20260310T114146Z
UID:10002290-1849538700-1849542300@mikepercsifoci.hu
SUMMARY:U9 edzés
DESCRIPTION:
URL:https://mikepercsifoci.hu/esemeny/u9-edzes-2-2/2028-08-10/
LOCATION:Mikepércsi Sportpálya\, Sport utca 4.\, Mikepércs\, 4271\, Hungary
CATEGORIES:U9 edzések
END:VEVENT
BEGIN:VEVENT
DTSTART;TZID=Europe/Budapest:20280815T164500
DTEND;TZID=Europe/Budapest:20280815T174500
DTSTAMP:20260420T175608
CREATED:20260104T105654Z
LAST-MODIFIED:20260310T114240Z
UID:10002561-1849970700-1849974300@mikepercsifoci.hu
SUMMARY:U9 edzés
DESCRIPTION:
URL:https://mikepercsifoci.hu/esemeny/u9-edzes-3/2028-08-15/
LOCATION:Mikepércsi Sportpálya\, Sport utca 4.\, Mikepércs\, 4271\, Hungary
CATEGORIES:U9 edzések
END:VEVENT
BEGIN:VEVENT
DTSTART;TZID=Europe/Budapest:20280817T164500
DTEND;TZID=Europe/Budapest:20280817T174500
DTSTAMP:20260420T175608
CREATED:20260104T105556Z
LAST-MODIFIED:20260310T114146Z
UID:10002291-1850143500-1850147100@mikepercsifoci.hu
SUMMARY:U9 edzés
DESCRIPTION:
URL:https://mikepercsifoci.hu/esemeny/u9-edzes-2-2/2028-08-17/
LOCATION:Mikepércsi Sportpálya\, Sport utca 4.\, Mikepércs\, 4271\, Hungary
CATEGORIES:U9 edzések
END:VEVENT
BEGIN:VEVENT
DTSTART;TZID=Europe/Budapest:20280822T164500
DTEND;TZID=Europe/Budapest:20280822T174500
DTSTAMP:20260420T175608
CREATED:20260104T105654Z
LAST-MODIFIED:20260310T114240Z
UID:10002562-1850575500-1850579100@mikepercsifoci.hu
SUMMARY:U9 edzés
DESCRIPTION:
URL:https://mikepercsifoci.hu/esemeny/u9-edzes-3/2028-08-22/
LOCATION:Mikepércsi Sportpálya\, Sport utca 4.\, Mikepércs\, 4271\, Hungary
CATEGORIES:U9 edzések
END:VEVENT
BEGIN:VEVENT
DTSTART;TZID=Europe/Budapest:20280824T164500
DTEND;TZID=Europe/Budapest:20280824T174500
DTSTAMP:20260420T175608
CREATED:20260104T105556Z
LAST-MODIFIED:20260310T114146Z
UID:10002292-1850748300-1850751900@mikepercsifoci.hu
SUMMARY:U9 edzés
DESCRIPTION:
URL:https://mikepercsifoci.hu/esemeny/u9-edzes-2-2/2028-08-24/
LOCATION:Mikepércsi Sportpálya\, Sport utca 4.\, Mikepércs\, 4271\, Hungary
CATEGORIES:U9 edzések
END:VEVENT
BEGIN:VEVENT
DTSTART;TZID=Europe/Budapest:20280829T164500
DTEND;TZID=Europe/Budapest:20280829T174500
DTSTAMP:20260420T175608
CREATED:20260104T105654Z
LAST-MODIFIED:20260310T114240Z
UID:10002563-1851180300-1851183900@mikepercsifoci.hu
SUMMARY:U9 edzés
DESCRIPTION:
URL:https://mikepercsifoci.hu/esemeny/u9-edzes-3/2028-08-29/
LOCATION:Mikepércsi Sportpálya\, Sport utca 4.\, Mikepércs\, 4271\, Hungary
CATEGORIES:U9 edzések
END:VEVENT
BEGIN:VEVENT
DTSTART;TZID=Europe/Budapest:20280831T164500
DTEND;TZID=Europe/Budapest:20280831T174500
DTSTAMP:20260420T175608
CREATED:20260104T105556Z
LAST-MODIFIED:20260310T114146Z
UID:10002293-1851353100-1851356700@mikepercsifoci.hu
SUMMARY:U9 edzés
DESCRIPTION:
URL:https://mikepercsifoci.hu/esemeny/u9-edzes-2-2/2028-08-31/
LOCATION:Mikepércsi Sportpálya\, Sport utca 4.\, Mikepércs\, 4271\, Hungary
CATEGORIES:U9 edzések
END:VEVENT
BEGIN:VEVENT
DTSTART;TZID=Europe/Budapest:20280905T164500
DTEND;TZID=Europe/Budapest:20280905T174500
DTSTAMP:20260420T175608
CREATED:20260104T105654Z
LAST-MODIFIED:20260310T114240Z
UID:10002564-1851785100-1851788700@mikepercsifoci.hu
SUMMARY:U9 edzés
DESCRIPTION:
URL:https://mikepercsifoci.hu/esemeny/u9-edzes-3/2028-09-05/
LOCATION:Mikepércsi Sportpálya\, Sport utca 4.\, Mikepércs\, 4271\, Hungary
CATEGORIES:U9 edzések
END:VEVENT
BEGIN:VEVENT
DTSTART;TZID=Europe/Budapest:20280907T164500
DTEND;TZID=Europe/Budapest:20280907T174500
DTSTAMP:20260420T175608
CREATED:20260104T105556Z
LAST-MODIFIED:20260310T114146Z
UID:10002294-1851957900-1851961500@mikepercsifoci.hu
SUMMARY:U9 edzés
DESCRIPTION:
URL:https://mikepercsifoci.hu/esemeny/u9-edzes-2-2/2028-09-07/
LOCATION:Mikepércsi Sportpálya\, Sport utca 4.\, Mikepércs\, 4271\, Hungary
CATEGORIES:U9 edzések
END:VEVENT
BEGIN:VEVENT
DTSTART;TZID=Europe/Budapest:20280912T164500
DTEND;TZID=Europe/Budapest:20280912T174500
DTSTAMP:20260420T175608
CREATED:20260104T105654Z
LAST-MODIFIED:20260310T114240Z
UID:10002565-1852389900-1852393500@mikepercsifoci.hu
SUMMARY:U9 edzés
DESCRIPTION:
URL:https://mikepercsifoci.hu/esemeny/u9-edzes-3/2028-09-12/
LOCATION:Mikepércsi Sportpálya\, Sport utca 4.\, Mikepércs\, 4271\, Hungary
CATEGORIES:U9 edzések
END:VEVENT
BEGIN:VEVENT
DTSTART;TZID=Europe/Budapest:20280914T164500
DTEND;TZID=Europe/Budapest:20280914T174500
DTSTAMP:20260420T175608
CREATED:20260104T105556Z
LAST-MODIFIED:20260310T114146Z
UID:10002295-1852562700-1852566300@mikepercsifoci.hu
SUMMARY:U9 edzés
DESCRIPTION:
URL:https://mikepercsifoci.hu/esemeny/u9-edzes-2-2/2028-09-14/
LOCATION:Mikepércsi Sportpálya\, Sport utca 4.\, Mikepércs\, 4271\, Hungary
CATEGORIES:U9 edzések
END:VEVENT
BEGIN:VEVENT
DTSTART;TZID=Europe/Budapest:20280919T164500
DTEND;TZID=Europe/Budapest:20280919T174500
DTSTAMP:20260420T175608
CREATED:20260104T105654Z
LAST-MODIFIED:20260310T114240Z
UID:10002566-1852994700-1852998300@mikepercsifoci.hu
SUMMARY:U9 edzés
DESCRIPTION:
URL:https://mikepercsifoci.hu/esemeny/u9-edzes-3/2028-09-19/
LOCATION:Mikepércsi Sportpálya\, Sport utca 4.\, Mikepércs\, 4271\, Hungary
CATEGORIES:U9 edzések
END:VEVENT
BEGIN:VEVENT
DTSTART;TZID=Europe/Budapest:20280921T164500
DTEND;TZID=Europe/Budapest:20280921T174500
DTSTAMP:20260420T175608
CREATED:20260104T105556Z
LAST-MODIFIED:20260310T114146Z
UID:10002296-1853167500-1853171100@mikepercsifoci.hu
SUMMARY:U9 edzés
DESCRIPTION:
URL:https://mikepercsifoci.hu/esemeny/u9-edzes-2-2/2028-09-21/
LOCATION:Mikepércsi Sportpálya\, Sport utca 4.\, Mikepércs\, 4271\, Hungary
CATEGORIES:U9 edzések
END:VEVENT
BEGIN:VEVENT
DTSTART;TZID=Europe/Budapest:20280926T164500
DTEND;TZID=Europe/Budapest:20280926T174500
DTSTAMP:20260420T175608
CREATED:20260104T105654Z
LAST-MODIFIED:20260310T114240Z
UID:10002567-1853599500-1853603100@mikepercsifoci.hu
SUMMARY:U9 edzés
DESCRIPTION:
URL:https://mikepercsifoci.hu/esemeny/u9-edzes-3/2028-09-26/
LOCATION:Mikepércsi Sportpálya\, Sport utca 4.\, Mikepércs\, 4271\, Hungary
CATEGORIES:U9 edzések
END:VEVENT
BEGIN:VEVENT
DTSTART;TZID=Europe/Budapest:20280928T164500
DTEND;TZID=Europe/Budapest:20280928T174500
DTSTAMP:20260420T175608
CREATED:20260104T105556Z
LAST-MODIFIED:20260310T114146Z
UID:10002297-1853772300-1853775900@mikepercsifoci.hu
SUMMARY:U9 edzés
DESCRIPTION:
URL:https://mikepercsifoci.hu/esemeny/u9-edzes-2-2/2028-09-28/
LOCATION:Mikepércsi Sportpálya\, Sport utca 4.\, Mikepércs\, 4271\, Hungary
CATEGORIES:U9 edzések
END:VEVENT
BEGIN:VEVENT
DTSTART;TZID=Europe/Budapest:20281003T164500
DTEND;TZID=Europe/Budapest:20281003T174500
DTSTAMP:20260420T175608
CREATED:20260104T105654Z
LAST-MODIFIED:20260310T114240Z
UID:10002568-1854204300-1854207900@mikepercsifoci.hu
SUMMARY:U9 edzés
DESCRIPTION:
URL:https://mikepercsifoci.hu/esemeny/u9-edzes-3/2028-10-03/
LOCATION:Mikepércsi Sportpálya\, Sport utca 4.\, Mikepércs\, 4271\, Hungary
CATEGORIES:U9 edzések
END:VEVENT
BEGIN:VEVENT
DTSTART;TZID=Europe/Budapest:20281005T164500
DTEND;TZID=Europe/Budapest:20281005T174500
DTSTAMP:20260420T175608
CREATED:20260104T105556Z
LAST-MODIFIED:20260310T114146Z
UID:10002298-1854377100-1854380700@mikepercsifoci.hu
SUMMARY:U9 edzés
DESCRIPTION:
URL:https://mikepercsifoci.hu/esemeny/u9-edzes-2-2/2028-10-05/
LOCATION:Mikepércsi Sportpálya\, Sport utca 4.\, Mikepércs\, 4271\, Hungary
CATEGORIES:U9 edzések
END:VEVENT
BEGIN:VEVENT
DTSTART;TZID=Europe/Budapest:20281010T164500
DTEND;TZID=Europe/Budapest:20281010T174500
DTSTAMP:20260420T175608
CREATED:20260104T105654Z
LAST-MODIFIED:20260310T114240Z
UID:10002569-1854809100-1854812700@mikepercsifoci.hu
SUMMARY:U9 edzés
DESCRIPTION:
URL:https://mikepercsifoci.hu/esemeny/u9-edzes-3/2028-10-10/
LOCATION:Mikepércsi Sportpálya\, Sport utca 4.\, Mikepércs\, 4271\, Hungary
CATEGORIES:U9 edzések
END:VEVENT
BEGIN:VEVENT
DTSTART;TZID=Europe/Budapest:20281012T164500
DTEND;TZID=Europe/Budapest:20281012T174500
DTSTAMP:20260420T175608
CREATED:20260104T105556Z
LAST-MODIFIED:20260310T114146Z
UID:10002299-1854981900-1854985500@mikepercsifoci.hu
SUMMARY:U9 edzés
DESCRIPTION:
URL:https://mikepercsifoci.hu/esemeny/u9-edzes-2-2/2028-10-12/
LOCATION:Mikepércsi Sportpálya\, Sport utca 4.\, Mikepércs\, 4271\, Hungary
CATEGORIES:U9 edzések
END:VEVENT
BEGIN:VEVENT
DTSTART;TZID=Europe/Budapest:20281017T164500
DTEND;TZID=Europe/Budapest:20281017T174500
DTSTAMP:20260420T175608
CREATED:20260104T105654Z
LAST-MODIFIED:20260310T114240Z
UID:10002570-1855413900-1855417500@mikepercsifoci.hu
SUMMARY:U9 edzés
DESCRIPTION:
URL:https://mikepercsifoci.hu/esemeny/u9-edzes-3/2028-10-17/
LOCATION:Mikepércsi Sportpálya\, Sport utca 4.\, Mikepércs\, 4271\, Hungary
CATEGORIES:U9 edzések
END:VEVENT
BEGIN:VEVENT
DTSTART;TZID=Europe/Budapest:20281019T164500
DTEND;TZID=Europe/Budapest:20281019T174500
DTSTAMP:20260420T175608
CREATED:20260104T105556Z
LAST-MODIFIED:20260310T114146Z
UID:10002300-1855586700-1855590300@mikepercsifoci.hu
SUMMARY:U9 edzés
DESCRIPTION:
URL:https://mikepercsifoci.hu/esemeny/u9-edzes-2-2/2028-10-19/
LOCATION:Mikepércsi Sportpálya\, Sport utca 4.\, Mikepércs\, 4271\, Hungary
CATEGORIES:U9 edzések
END:VEVENT
BEGIN:VEVENT
DTSTART;TZID=Europe/Budapest:20281024T164500
DTEND;TZID=Europe/Budapest:20281024T174500
DTSTAMP:20260420T175608
CREATED:20260104T105654Z
LAST-MODIFIED:20260310T114240Z
UID:10002571-1856018700-1856022300@mikepercsifoci.hu
SUMMARY:U9 edzés
DESCRIPTION:
URL:https://mikepercsifoci.hu/esemeny/u9-edzes-3/2028-10-24/
LOCATION:Mikepércsi Sportpálya\, Sport utca 4.\, Mikepércs\, 4271\, Hungary
CATEGORIES:U9 edzések
END:VEVENT
BEGIN:VEVENT
DTSTART;TZID=Europe/Budapest:20281026T164500
DTEND;TZID=Europe/Budapest:20281026T174500
DTSTAMP:20260420T175608
CREATED:20260104T105556Z
LAST-MODIFIED:20260310T114146Z
UID:10002301-1856191500-1856195100@mikepercsifoci.hu
SUMMARY:U9 edzés
DESCRIPTION:
URL:https://mikepercsifoci.hu/esemeny/u9-edzes-2-2/2028-10-26/
LOCATION:Mikepércsi Sportpálya\, Sport utca 4.\, Mikepércs\, 4271\, Hungary
CATEGORIES:U9 edzések
END:VEVENT
BEGIN:VEVENT
DTSTART;TZID=Europe/Budapest:20281031T164500
DTEND;TZID=Europe/Budapest:20281031T174500
DTSTAMP:20260420T175608
CREATED:20260104T105654Z
LAST-MODIFIED:20260310T114240Z
UID:10002572-1856623500-1856627100@mikepercsifoci.hu
SUMMARY:U9 edzés
DESCRIPTION:
URL:https://mikepercsifoci.hu/esemeny/u9-edzes-3/2028-10-31/
LOCATION:Mikepércsi Sportpálya\, Sport utca 4.\, Mikepércs\, 4271\, Hungary
CATEGORIES:U9 edzések
END:VEVENT
BEGIN:VEVENT
DTSTART;TZID=Europe/Budapest:20281102T164500
DTEND;TZID=Europe/Budapest:20281102T174500
DTSTAMP:20260420T175608
CREATED:20260104T105556Z
LAST-MODIFIED:20260310T114146Z
UID:10002302-1856796300-1856799900@mikepercsifoci.hu
SUMMARY:U9 edzés
DESCRIPTION:
URL:https://mikepercsifoci.hu/esemeny/u9-edzes-2-2/2028-11-02/
LOCATION:Mikepércsi Sportpálya\, Sport utca 4.\, Mikepércs\, 4271\, Hungary
CATEGORIES:U9 edzések
END:VEVENT
BEGIN:VEVENT
DTSTART;TZID=Europe/Budapest:20281107T164500
DTEND;TZID=Europe/Budapest:20281107T174500
DTSTAMP:20260420T175608
CREATED:20260104T105654Z
LAST-MODIFIED:20260310T114240Z
UID:10002573-1857228300-1857231900@mikepercsifoci.hu
SUMMARY:U9 edzés
DESCRIPTION:
URL:https://mikepercsifoci.hu/esemeny/u9-edzes-3/2028-11-07/
LOCATION:Mikepércsi Sportpálya\, Sport utca 4.\, Mikepércs\, 4271\, Hungary
CATEGORIES:U9 edzések
END:VEVENT
BEGIN:VEVENT
DTSTART;TZID=Europe/Budapest:20281109T164500
DTEND;TZID=Europe/Budapest:20281109T174500
DTSTAMP:20260420T175608
CREATED:20260104T105556Z
LAST-MODIFIED:20260310T114146Z
UID:10002303-1857401100-1857404700@mikepercsifoci.hu
SUMMARY:U9 edzés
DESCRIPTION:
URL:https://mikepercsifoci.hu/esemeny/u9-edzes-2-2/2028-11-09/
LOCATION:Mikepércsi Sportpálya\, Sport utca 4.\, Mikepércs\, 4271\, Hungary
CATEGORIES:U9 edzések
END:VEVENT
BEGIN:VEVENT
DTSTART;TZID=Europe/Budapest:20281114T164500
DTEND;TZID=Europe/Budapest:20281114T174500
DTSTAMP:20260420T175608
CREATED:20260104T105654Z
LAST-MODIFIED:20260310T114240Z
UID:10002574-1857833100-1857836700@mikepercsifoci.hu
SUMMARY:U9 edzés
DESCRIPTION:
URL:https://mikepercsifoci.hu/esemeny/u9-edzes-3/2028-11-14/
LOCATION:Mikepércsi Sportpálya\, Sport utca 4.\, Mikepércs\, 4271\, Hungary
CATEGORIES:U9 edzések
END:VEVENT
BEGIN:VEVENT
DTSTART;TZID=Europe/Budapest:20281116T164500
DTEND;TZID=Europe/Budapest:20281116T174500
DTSTAMP:20260420T175608
CREATED:20260104T105556Z
LAST-MODIFIED:20260310T114146Z
UID:10002304-1858005900-1858009500@mikepercsifoci.hu
SUMMARY:U9 edzés
DESCRIPTION:
URL:https://mikepercsifoci.hu/esemeny/u9-edzes-2-2/2028-11-16/
LOCATION:Mikepércsi Sportpálya\, Sport utca 4.\, Mikepércs\, 4271\, Hungary
CATEGORIES:U9 edzések
END:VEVENT
END:VCALENDAR