BEGIN:VCALENDAR
VERSION:2.0
PRODID:-//Mikepércsi Foci - ECPv6.15.12.2//NONSGML v1.0//EN
CALSCALE:GREGORIAN
METHOD:PUBLISH
X-ORIGINAL-URL:https://mikepercsifoci.hu
X-WR-CALDESC:Események Mikepércsi Foci
REFRESH-INTERVAL;VALUE=DURATION:PT1H
X-Robots-Tag:noindex
X-PUBLISHED-TTL:PT1H
BEGIN:VTIMEZONE
TZID:Europe/Budapest
BEGIN:DAYLIGHT
TZOFFSETFROM:+0100
TZOFFSETTO:+0200
TZNAME:CEST
DTSTART:20270328T010000
END:DAYLIGHT
BEGIN:STANDARD
TZOFFSETFROM:+0200
TZOFFSETTO:+0100
TZNAME:CET
DTSTART:20271031T010000
END:STANDARD
BEGIN:DAYLIGHT
TZOFFSETFROM:+0100
TZOFFSETTO:+0200
TZNAME:CEST
DTSTART:20280326T010000
END:DAYLIGHT
BEGIN:STANDARD
TZOFFSETFROM:+0200
TZOFFSETTO:+0100
TZNAME:CET
DTSTART:20281029T010000
END:STANDARD
BEGIN:DAYLIGHT
TZOFFSETFROM:+0100
TZOFFSETTO:+0200
TZNAME:CEST
DTSTART:20290325T010000
END:DAYLIGHT
BEGIN:STANDARD
TZOFFSETFROM:+0200
TZOFFSETTO:+0100
TZNAME:CET
DTSTART:20291028T010000
END:STANDARD
BEGIN:DAYLIGHT
TZOFFSETFROM:+0100
TZOFFSETTO:+0200
TZNAME:CEST
DTSTART:20300331T010000
END:DAYLIGHT
BEGIN:STANDARD
TZOFFSETFROM:+0200
TZOFFSETTO:+0100
TZNAME:CET
DTSTART:20301027T010000
END:STANDARD
END:VTIMEZONE
BEGIN:VEVENT
DTSTART;TZID=Europe/Budapest:20281031T164500
DTEND;TZID=Europe/Budapest:20281031T174500
DTSTAMP:20260420T210848
CREATED:20260104T105654Z
LAST-MODIFIED:20260310T114240Z
UID:10002572-1856623500-1856627100@mikepercsifoci.hu
SUMMARY:U9 edzés
DESCRIPTION:
URL:https://mikepercsifoci.hu/esemeny/u9-edzes-3/2028-10-31/
LOCATION:Mikepércsi Sportpálya\, Sport utca 4.\, Mikepércs\, 4271\, Hungary
CATEGORIES:U9 edzések
END:VEVENT
BEGIN:VEVENT
DTSTART;TZID=Europe/Budapest:20281102T164500
DTEND;TZID=Europe/Budapest:20281102T174500
DTSTAMP:20260420T210848
CREATED:20260104T105556Z
LAST-MODIFIED:20260310T114146Z
UID:10002302-1856796300-1856799900@mikepercsifoci.hu
SUMMARY:U9 edzés
DESCRIPTION:
URL:https://mikepercsifoci.hu/esemeny/u9-edzes-2-2/2028-11-02/
LOCATION:Mikepércsi Sportpálya\, Sport utca 4.\, Mikepércs\, 4271\, Hungary
CATEGORIES:U9 edzések
END:VEVENT
BEGIN:VEVENT
DTSTART;TZID=Europe/Budapest:20281107T164500
DTEND;TZID=Europe/Budapest:20281107T174500
DTSTAMP:20260420T210848
CREATED:20260104T105654Z
LAST-MODIFIED:20260310T114240Z
UID:10002573-1857228300-1857231900@mikepercsifoci.hu
SUMMARY:U9 edzés
DESCRIPTION:
URL:https://mikepercsifoci.hu/esemeny/u9-edzes-3/2028-11-07/
LOCATION:Mikepércsi Sportpálya\, Sport utca 4.\, Mikepércs\, 4271\, Hungary
CATEGORIES:U9 edzések
END:VEVENT
BEGIN:VEVENT
DTSTART;TZID=Europe/Budapest:20281109T164500
DTEND;TZID=Europe/Budapest:20281109T174500
DTSTAMP:20260420T210848
CREATED:20260104T105556Z
LAST-MODIFIED:20260310T114146Z
UID:10002303-1857401100-1857404700@mikepercsifoci.hu
SUMMARY:U9 edzés
DESCRIPTION:
URL:https://mikepercsifoci.hu/esemeny/u9-edzes-2-2/2028-11-09/
LOCATION:Mikepércsi Sportpálya\, Sport utca 4.\, Mikepércs\, 4271\, Hungary
CATEGORIES:U9 edzések
END:VEVENT
BEGIN:VEVENT
DTSTART;TZID=Europe/Budapest:20281114T164500
DTEND;TZID=Europe/Budapest:20281114T174500
DTSTAMP:20260420T210848
CREATED:20260104T105654Z
LAST-MODIFIED:20260310T114240Z
UID:10002574-1857833100-1857836700@mikepercsifoci.hu
SUMMARY:U9 edzés
DESCRIPTION:
URL:https://mikepercsifoci.hu/esemeny/u9-edzes-3/2028-11-14/
LOCATION:Mikepércsi Sportpálya\, Sport utca 4.\, Mikepércs\, 4271\, Hungary
CATEGORIES:U9 edzések
END:VEVENT
BEGIN:VEVENT
DTSTART;TZID=Europe/Budapest:20281116T164500
DTEND;TZID=Europe/Budapest:20281116T174500
DTSTAMP:20260420T210848
CREATED:20260104T105556Z
LAST-MODIFIED:20260310T114146Z
UID:10002304-1858005900-1858009500@mikepercsifoci.hu
SUMMARY:U9 edzés
DESCRIPTION:
URL:https://mikepercsifoci.hu/esemeny/u9-edzes-2-2/2028-11-16/
LOCATION:Mikepércsi Sportpálya\, Sport utca 4.\, Mikepércs\, 4271\, Hungary
CATEGORIES:U9 edzések
END:VEVENT
BEGIN:VEVENT
DTSTART;TZID=Europe/Budapest:20281121T164500
DTEND;TZID=Europe/Budapest:20281121T174500
DTSTAMP:20260420T210848
CREATED:20260104T105654Z
LAST-MODIFIED:20260310T114240Z
UID:10002575-1858437900-1858441500@mikepercsifoci.hu
SUMMARY:U9 edzés
DESCRIPTION:
URL:https://mikepercsifoci.hu/esemeny/u9-edzes-3/2028-11-21/
LOCATION:Mikepércsi Sportpálya\, Sport utca 4.\, Mikepércs\, 4271\, Hungary
CATEGORIES:U9 edzések
END:VEVENT
BEGIN:VEVENT
DTSTART;TZID=Europe/Budapest:20281123T164500
DTEND;TZID=Europe/Budapest:20281123T174500
DTSTAMP:20260420T210848
CREATED:20260104T105556Z
LAST-MODIFIED:20260310T114146Z
UID:10002305-1858610700-1858614300@mikepercsifoci.hu
SUMMARY:U9 edzés
DESCRIPTION:
URL:https://mikepercsifoci.hu/esemeny/u9-edzes-2-2/2028-11-23/
LOCATION:Mikepércsi Sportpálya\, Sport utca 4.\, Mikepércs\, 4271\, Hungary
CATEGORIES:U9 edzések
END:VEVENT
BEGIN:VEVENT
DTSTART;TZID=Europe/Budapest:20281128T164500
DTEND;TZID=Europe/Budapest:20281128T174500
DTSTAMP:20260420T210848
CREATED:20260104T105654Z
LAST-MODIFIED:20260310T114240Z
UID:10002576-1859042700-1859046300@mikepercsifoci.hu
SUMMARY:U9 edzés
DESCRIPTION:
URL:https://mikepercsifoci.hu/esemeny/u9-edzes-3/2028-11-28/
LOCATION:Mikepércsi Sportpálya\, Sport utca 4.\, Mikepércs\, 4271\, Hungary
CATEGORIES:U9 edzések
END:VEVENT
BEGIN:VEVENT
DTSTART;TZID=Europe/Budapest:20281130T164500
DTEND;TZID=Europe/Budapest:20281130T174500
DTSTAMP:20260420T210848
CREATED:20260104T105556Z
LAST-MODIFIED:20260310T114146Z
UID:10002306-1859215500-1859219100@mikepercsifoci.hu
SUMMARY:U9 edzés
DESCRIPTION:
URL:https://mikepercsifoci.hu/esemeny/u9-edzes-2-2/2028-11-30/
LOCATION:Mikepércsi Sportpálya\, Sport utca 4.\, Mikepércs\, 4271\, Hungary
CATEGORIES:U9 edzések
END:VEVENT
BEGIN:VEVENT
DTSTART;TZID=Europe/Budapest:20281205T164500
DTEND;TZID=Europe/Budapest:20281205T174500
DTSTAMP:20260420T210848
CREATED:20260104T105654Z
LAST-MODIFIED:20260310T114240Z
UID:10002577-1859647500-1859651100@mikepercsifoci.hu
SUMMARY:U9 edzés
DESCRIPTION:
URL:https://mikepercsifoci.hu/esemeny/u9-edzes-3/2028-12-05/
LOCATION:Mikepércsi Sportpálya\, Sport utca 4.\, Mikepércs\, 4271\, Hungary
CATEGORIES:U9 edzések
END:VEVENT
BEGIN:VEVENT
DTSTART;TZID=Europe/Budapest:20281207T164500
DTEND;TZID=Europe/Budapest:20281207T174500
DTSTAMP:20260420T210848
CREATED:20260104T105556Z
LAST-MODIFIED:20260310T114146Z
UID:10002307-1859820300-1859823900@mikepercsifoci.hu
SUMMARY:U9 edzés
DESCRIPTION:
URL:https://mikepercsifoci.hu/esemeny/u9-edzes-2-2/2028-12-07/
LOCATION:Mikepércsi Sportpálya\, Sport utca 4.\, Mikepércs\, 4271\, Hungary
CATEGORIES:U9 edzések
END:VEVENT
BEGIN:VEVENT
DTSTART;TZID=Europe/Budapest:20281212T164500
DTEND;TZID=Europe/Budapest:20281212T174500
DTSTAMP:20260420T210848
CREATED:20260104T105654Z
LAST-MODIFIED:20260310T114240Z
UID:10002578-1860252300-1860255900@mikepercsifoci.hu
SUMMARY:U9 edzés
DESCRIPTION:
URL:https://mikepercsifoci.hu/esemeny/u9-edzes-3/2028-12-12/
LOCATION:Mikepércsi Sportpálya\, Sport utca 4.\, Mikepércs\, 4271\, Hungary
CATEGORIES:U9 edzések
END:VEVENT
BEGIN:VEVENT
DTSTART;TZID=Europe/Budapest:20281214T164500
DTEND;TZID=Europe/Budapest:20281214T174500
DTSTAMP:20260420T210848
CREATED:20260104T105556Z
LAST-MODIFIED:20260310T114146Z
UID:10002308-1860425100-1860428700@mikepercsifoci.hu
SUMMARY:U9 edzés
DESCRIPTION:
URL:https://mikepercsifoci.hu/esemeny/u9-edzes-2-2/2028-12-14/
LOCATION:Mikepércsi Sportpálya\, Sport utca 4.\, Mikepércs\, 4271\, Hungary
CATEGORIES:U9 edzések
END:VEVENT
BEGIN:VEVENT
DTSTART;TZID=Europe/Budapest:20281219T164500
DTEND;TZID=Europe/Budapest:20281219T174500
DTSTAMP:20260420T210848
CREATED:20260104T105654Z
LAST-MODIFIED:20260310T114240Z
UID:10002579-1860857100-1860860700@mikepercsifoci.hu
SUMMARY:U9 edzés
DESCRIPTION:
URL:https://mikepercsifoci.hu/esemeny/u9-edzes-3/2028-12-19/
LOCATION:Mikepércsi Sportpálya\, Sport utca 4.\, Mikepércs\, 4271\, Hungary
CATEGORIES:U9 edzések
END:VEVENT
BEGIN:VEVENT
DTSTART;TZID=Europe/Budapest:20281221T164500
DTEND;TZID=Europe/Budapest:20281221T174500
DTSTAMP:20260420T210848
CREATED:20260104T105556Z
LAST-MODIFIED:20260310T114146Z
UID:10002309-1861029900-1861033500@mikepercsifoci.hu
SUMMARY:U9 edzés
DESCRIPTION:
URL:https://mikepercsifoci.hu/esemeny/u9-edzes-2-2/2028-12-21/
LOCATION:Mikepércsi Sportpálya\, Sport utca 4.\, Mikepércs\, 4271\, Hungary
CATEGORIES:U9 edzések
END:VEVENT
BEGIN:VEVENT
DTSTART;TZID=Europe/Budapest:20281226T164500
DTEND;TZID=Europe/Budapest:20281226T174500
DTSTAMP:20260420T210848
CREATED:20260104T105654Z
LAST-MODIFIED:20260310T114240Z
UID:10002580-1861461900-1861465500@mikepercsifoci.hu
SUMMARY:U9 edzés
DESCRIPTION:
URL:https://mikepercsifoci.hu/esemeny/u9-edzes-3/2028-12-26/
LOCATION:Mikepércsi Sportpálya\, Sport utca 4.\, Mikepércs\, 4271\, Hungary
CATEGORIES:U9 edzések
END:VEVENT
BEGIN:VEVENT
DTSTART;TZID=Europe/Budapest:20281228T164500
DTEND;TZID=Europe/Budapest:20281228T174500
DTSTAMP:20260420T210848
CREATED:20260104T105556Z
LAST-MODIFIED:20260310T114146Z
UID:10002310-1861634700-1861638300@mikepercsifoci.hu
SUMMARY:U9 edzés
DESCRIPTION:
URL:https://mikepercsifoci.hu/esemeny/u9-edzes-2-2/2028-12-28/
LOCATION:Mikepércsi Sportpálya\, Sport utca 4.\, Mikepércs\, 4271\, Hungary
CATEGORIES:U9 edzések
END:VEVENT
BEGIN:VEVENT
DTSTART;TZID=Europe/Budapest:20290102T164500
DTEND;TZID=Europe/Budapest:20290102T174500
DTSTAMP:20260420T210848
CREATED:20260104T105654Z
LAST-MODIFIED:20260310T114240Z
UID:10002581-1862066700-1862070300@mikepercsifoci.hu
SUMMARY:U9 edzés
DESCRIPTION:
URL:https://mikepercsifoci.hu/esemeny/u9-edzes-3/2029-01-02/
LOCATION:Mikepércsi Sportpálya\, Sport utca 4.\, Mikepércs\, 4271\, Hungary
CATEGORIES:U9 edzések
END:VEVENT
BEGIN:VEVENT
DTSTART;TZID=Europe/Budapest:20290104T164500
DTEND;TZID=Europe/Budapest:20290104T174500
DTSTAMP:20260420T210848
CREATED:20260104T105556Z
LAST-MODIFIED:20260310T114146Z
UID:10002311-1862239500-1862243100@mikepercsifoci.hu
SUMMARY:U9 edzés
DESCRIPTION:
URL:https://mikepercsifoci.hu/esemeny/u9-edzes-2-2/2029-01-04/
LOCATION:Mikepércsi Sportpálya\, Sport utca 4.\, Mikepércs\, 4271\, Hungary
CATEGORIES:U9 edzések
END:VEVENT
BEGIN:VEVENT
DTSTART;TZID=Europe/Budapest:20290109T164500
DTEND;TZID=Europe/Budapest:20290109T174500
DTSTAMP:20260420T210848
CREATED:20260104T105654Z
LAST-MODIFIED:20260310T114240Z
UID:10002582-1862671500-1862675100@mikepercsifoci.hu
SUMMARY:U9 edzés
DESCRIPTION:
URL:https://mikepercsifoci.hu/esemeny/u9-edzes-3/2029-01-09/
LOCATION:Mikepércsi Sportpálya\, Sport utca 4.\, Mikepércs\, 4271\, Hungary
CATEGORIES:U9 edzések
END:VEVENT
BEGIN:VEVENT
DTSTART;TZID=Europe/Budapest:20290111T164500
DTEND;TZID=Europe/Budapest:20290111T174500
DTSTAMP:20260420T210848
CREATED:20260104T105556Z
LAST-MODIFIED:20260310T114146Z
UID:10002312-1862844300-1862847900@mikepercsifoci.hu
SUMMARY:U9 edzés
DESCRIPTION:
URL:https://mikepercsifoci.hu/esemeny/u9-edzes-2-2/2029-01-11/
LOCATION:Mikepércsi Sportpálya\, Sport utca 4.\, Mikepércs\, 4271\, Hungary
CATEGORIES:U9 edzések
END:VEVENT
BEGIN:VEVENT
DTSTART;TZID=Europe/Budapest:20290116T164500
DTEND;TZID=Europe/Budapest:20290116T174500
DTSTAMP:20260420T210848
CREATED:20260104T105654Z
LAST-MODIFIED:20260310T114240Z
UID:10002583-1863276300-1863279900@mikepercsifoci.hu
SUMMARY:U9 edzés
DESCRIPTION:
URL:https://mikepercsifoci.hu/esemeny/u9-edzes-3/2029-01-16/
LOCATION:Mikepércsi Sportpálya\, Sport utca 4.\, Mikepércs\, 4271\, Hungary
CATEGORIES:U9 edzések
END:VEVENT
BEGIN:VEVENT
DTSTART;TZID=Europe/Budapest:20290118T164500
DTEND;TZID=Europe/Budapest:20290118T174500
DTSTAMP:20260420T210848
CREATED:20260104T105556Z
LAST-MODIFIED:20260310T114146Z
UID:10002313-1863449100-1863452700@mikepercsifoci.hu
SUMMARY:U9 edzés
DESCRIPTION:
URL:https://mikepercsifoci.hu/esemeny/u9-edzes-2-2/2029-01-18/
LOCATION:Mikepércsi Sportpálya\, Sport utca 4.\, Mikepércs\, 4271\, Hungary
CATEGORIES:U9 edzések
END:VEVENT
BEGIN:VEVENT
DTSTART;TZID=Europe/Budapest:20290123T164500
DTEND;TZID=Europe/Budapest:20290123T174500
DTSTAMP:20260420T210848
CREATED:20260104T105654Z
LAST-MODIFIED:20260310T114240Z
UID:10002584-1863881100-1863884700@mikepercsifoci.hu
SUMMARY:U9 edzés
DESCRIPTION:
URL:https://mikepercsifoci.hu/esemeny/u9-edzes-3/2029-01-23/
LOCATION:Mikepércsi Sportpálya\, Sport utca 4.\, Mikepércs\, 4271\, Hungary
CATEGORIES:U9 edzések
END:VEVENT
BEGIN:VEVENT
DTSTART;TZID=Europe/Budapest:20290125T164500
DTEND;TZID=Europe/Budapest:20290125T174500
DTSTAMP:20260420T210848
CREATED:20260104T105556Z
LAST-MODIFIED:20260310T114146Z
UID:10002314-1864053900-1864057500@mikepercsifoci.hu
SUMMARY:U9 edzés
DESCRIPTION:
URL:https://mikepercsifoci.hu/esemeny/u9-edzes-2-2/2029-01-25/
LOCATION:Mikepércsi Sportpálya\, Sport utca 4.\, Mikepércs\, 4271\, Hungary
CATEGORIES:U9 edzések
END:VEVENT
BEGIN:VEVENT
DTSTART;TZID=Europe/Budapest:20290130T164500
DTEND;TZID=Europe/Budapest:20290130T174500
DTSTAMP:20260420T210848
CREATED:20260104T105654Z
LAST-MODIFIED:20260310T114240Z
UID:10002585-1864485900-1864489500@mikepercsifoci.hu
SUMMARY:U9 edzés
DESCRIPTION:
URL:https://mikepercsifoci.hu/esemeny/u9-edzes-3/2029-01-30/
LOCATION:Mikepércsi Sportpálya\, Sport utca 4.\, Mikepércs\, 4271\, Hungary
CATEGORIES:U9 edzések
END:VEVENT
BEGIN:VEVENT
DTSTART;TZID=Europe/Budapest:20290201T164500
DTEND;TZID=Europe/Budapest:20290201T174500
DTSTAMP:20260420T210848
CREATED:20260104T105556Z
LAST-MODIFIED:20260310T114146Z
UID:10002315-1864658700-1864662300@mikepercsifoci.hu
SUMMARY:U9 edzés
DESCRIPTION:
URL:https://mikepercsifoci.hu/esemeny/u9-edzes-2-2/2029-02-01/
LOCATION:Mikepércsi Sportpálya\, Sport utca 4.\, Mikepércs\, 4271\, Hungary
CATEGORIES:U9 edzések
END:VEVENT
BEGIN:VEVENT
DTSTART;TZID=Europe/Budapest:20290206T164500
DTEND;TZID=Europe/Budapest:20290206T174500
DTSTAMP:20260420T210848
CREATED:20260104T105654Z
LAST-MODIFIED:20260310T114240Z
UID:10002586-1865090700-1865094300@mikepercsifoci.hu
SUMMARY:U9 edzés
DESCRIPTION:
URL:https://mikepercsifoci.hu/esemeny/u9-edzes-3/2029-02-06/
LOCATION:Mikepércsi Sportpálya\, Sport utca 4.\, Mikepércs\, 4271\, Hungary
CATEGORIES:U9 edzések
END:VEVENT
BEGIN:VEVENT
DTSTART;TZID=Europe/Budapest:20290208T164500
DTEND;TZID=Europe/Budapest:20290208T174500
DTSTAMP:20260420T210848
CREATED:20260104T105556Z
LAST-MODIFIED:20260310T114146Z
UID:10002316-1865263500-1865267100@mikepercsifoci.hu
SUMMARY:U9 edzés
DESCRIPTION:
URL:https://mikepercsifoci.hu/esemeny/u9-edzes-2-2/2029-02-08/
LOCATION:Mikepércsi Sportpálya\, Sport utca 4.\, Mikepércs\, 4271\, Hungary
CATEGORIES:U9 edzések
END:VEVENT
END:VCALENDAR