BEGIN:VCALENDAR
VERSION:2.0
PRODID:-//Mikepércsi Foci - ECPv6.15.12.2//NONSGML v1.0//EN
CALSCALE:GREGORIAN
METHOD:PUBLISH
X-WR-CALNAME:Mikepércsi Foci
X-ORIGINAL-URL:https://mikepercsifoci.hu
X-WR-CALDESC:Események Mikepércsi Foci
REFRESH-INTERVAL;VALUE=DURATION:PT1H
X-Robots-Tag:noindex
X-PUBLISHED-TTL:PT1H
BEGIN:VTIMEZONE
TZID:Europe/Budapest
BEGIN:DAYLIGHT
TZOFFSETFROM:+0100
TZOFFSETTO:+0200
TZNAME:CEST
DTSTART:20280326T010000
END:DAYLIGHT
BEGIN:STANDARD
TZOFFSETFROM:+0200
TZOFFSETTO:+0100
TZNAME:CET
DTSTART:20281029T010000
END:STANDARD
BEGIN:DAYLIGHT
TZOFFSETFROM:+0100
TZOFFSETTO:+0200
TZNAME:CEST
DTSTART:20290325T010000
END:DAYLIGHT
BEGIN:STANDARD
TZOFFSETFROM:+0200
TZOFFSETTO:+0100
TZNAME:CET
DTSTART:20291028T010000
END:STANDARD
BEGIN:DAYLIGHT
TZOFFSETFROM:+0100
TZOFFSETTO:+0200
TZNAME:CEST
DTSTART:20300331T010000
END:DAYLIGHT
BEGIN:STANDARD
TZOFFSETFROM:+0200
TZOFFSETTO:+0100
TZNAME:CET
DTSTART:20301027T010000
END:STANDARD
END:VTIMEZONE
BEGIN:VEVENT
DTSTART;TZID=Europe/Budapest:20290130T164500
DTEND;TZID=Europe/Budapest:20290130T174500
DTSTAMP:20260424T115340
CREATED:20260104T105654Z
LAST-MODIFIED:20260310T114240Z
UID:10002585-1864485900-1864489500@mikepercsifoci.hu
SUMMARY:U9 edzés
DESCRIPTION:
URL:https://mikepercsifoci.hu/esemeny/u9-edzes-3/2029-01-30/
LOCATION:Mikepércsi Sportpálya\, Sport utca 4.\, Mikepércs\, 4271\, Hungary
CATEGORIES:U9 edzések
END:VEVENT
BEGIN:VEVENT
DTSTART;TZID=Europe/Budapest:20290201T164500
DTEND;TZID=Europe/Budapest:20290201T174500
DTSTAMP:20260424T115340
CREATED:20260104T105556Z
LAST-MODIFIED:20260310T114146Z
UID:10002315-1864658700-1864662300@mikepercsifoci.hu
SUMMARY:U9 edzés
DESCRIPTION:
URL:https://mikepercsifoci.hu/esemeny/u9-edzes-2-2/2029-02-01/
LOCATION:Mikepércsi Sportpálya\, Sport utca 4.\, Mikepércs\, 4271\, Hungary
CATEGORIES:U9 edzések
END:VEVENT
BEGIN:VEVENT
DTSTART;TZID=Europe/Budapest:20290206T164500
DTEND;TZID=Europe/Budapest:20290206T174500
DTSTAMP:20260424T115340
CREATED:20260104T105654Z
LAST-MODIFIED:20260310T114240Z
UID:10002586-1865090700-1865094300@mikepercsifoci.hu
SUMMARY:U9 edzés
DESCRIPTION:
URL:https://mikepercsifoci.hu/esemeny/u9-edzes-3/2029-02-06/
LOCATION:Mikepércsi Sportpálya\, Sport utca 4.\, Mikepércs\, 4271\, Hungary
CATEGORIES:U9 edzések
END:VEVENT
BEGIN:VEVENT
DTSTART;TZID=Europe/Budapest:20290208T164500
DTEND;TZID=Europe/Budapest:20290208T174500
DTSTAMP:20260424T115340
CREATED:20260104T105556Z
LAST-MODIFIED:20260310T114146Z
UID:10002316-1865263500-1865267100@mikepercsifoci.hu
SUMMARY:U9 edzés
DESCRIPTION:
URL:https://mikepercsifoci.hu/esemeny/u9-edzes-2-2/2029-02-08/
LOCATION:Mikepércsi Sportpálya\, Sport utca 4.\, Mikepércs\, 4271\, Hungary
CATEGORIES:U9 edzések
END:VEVENT
BEGIN:VEVENT
DTSTART;TZID=Europe/Budapest:20290213T164500
DTEND;TZID=Europe/Budapest:20290213T174500
DTSTAMP:20260424T115340
CREATED:20260104T105654Z
LAST-MODIFIED:20260310T114240Z
UID:10002587-1865695500-1865699100@mikepercsifoci.hu
SUMMARY:U9 edzés
DESCRIPTION:
URL:https://mikepercsifoci.hu/esemeny/u9-edzes-3/2029-02-13/
LOCATION:Mikepércsi Sportpálya\, Sport utca 4.\, Mikepércs\, 4271\, Hungary
CATEGORIES:U9 edzések
END:VEVENT
BEGIN:VEVENT
DTSTART;TZID=Europe/Budapest:20290215T164500
DTEND;TZID=Europe/Budapest:20290215T174500
DTSTAMP:20260424T115340
CREATED:20260104T105556Z
LAST-MODIFIED:20260310T114146Z
UID:10002317-1865868300-1865871900@mikepercsifoci.hu
SUMMARY:U9 edzés
DESCRIPTION:
URL:https://mikepercsifoci.hu/esemeny/u9-edzes-2-2/2029-02-15/
LOCATION:Mikepércsi Sportpálya\, Sport utca 4.\, Mikepércs\, 4271\, Hungary
CATEGORIES:U9 edzések
END:VEVENT
BEGIN:VEVENT
DTSTART;TZID=Europe/Budapest:20290220T164500
DTEND;TZID=Europe/Budapest:20290220T174500
DTSTAMP:20260424T115340
CREATED:20260104T105654Z
LAST-MODIFIED:20260310T114240Z
UID:10002588-1866300300-1866303900@mikepercsifoci.hu
SUMMARY:U9 edzés
DESCRIPTION:
URL:https://mikepercsifoci.hu/esemeny/u9-edzes-3/2029-02-20/
LOCATION:Mikepércsi Sportpálya\, Sport utca 4.\, Mikepércs\, 4271\, Hungary
CATEGORIES:U9 edzések
END:VEVENT
BEGIN:VEVENT
DTSTART;TZID=Europe/Budapest:20290222T164500
DTEND;TZID=Europe/Budapest:20290222T174500
DTSTAMP:20260424T115340
CREATED:20260104T105556Z
LAST-MODIFIED:20260310T114146Z
UID:10002318-1866473100-1866476700@mikepercsifoci.hu
SUMMARY:U9 edzés
DESCRIPTION:
URL:https://mikepercsifoci.hu/esemeny/u9-edzes-2-2/2029-02-22/
LOCATION:Mikepércsi Sportpálya\, Sport utca 4.\, Mikepércs\, 4271\, Hungary
CATEGORIES:U9 edzések
END:VEVENT
BEGIN:VEVENT
DTSTART;TZID=Europe/Budapest:20290227T164500
DTEND;TZID=Europe/Budapest:20290227T174500
DTSTAMP:20260424T115340
CREATED:20260104T105654Z
LAST-MODIFIED:20260310T114240Z
UID:10002589-1866905100-1866908700@mikepercsifoci.hu
SUMMARY:U9 edzés
DESCRIPTION:
URL:https://mikepercsifoci.hu/esemeny/u9-edzes-3/2029-02-27/
LOCATION:Mikepércsi Sportpálya\, Sport utca 4.\, Mikepércs\, 4271\, Hungary
CATEGORIES:U9 edzések
END:VEVENT
BEGIN:VEVENT
DTSTART;TZID=Europe/Budapest:20290301T164500
DTEND;TZID=Europe/Budapest:20290301T174500
DTSTAMP:20260424T115340
CREATED:20260104T105556Z
LAST-MODIFIED:20260310T114146Z
UID:10002319-1867077900-1867081500@mikepercsifoci.hu
SUMMARY:U9 edzés
DESCRIPTION:
URL:https://mikepercsifoci.hu/esemeny/u9-edzes-2-2/2029-03-01/
LOCATION:Mikepércsi Sportpálya\, Sport utca 4.\, Mikepércs\, 4271\, Hungary
CATEGORIES:U9 edzések
END:VEVENT
BEGIN:VEVENT
DTSTART;TZID=Europe/Budapest:20290306T164500
DTEND;TZID=Europe/Budapest:20290306T174500
DTSTAMP:20260424T115340
CREATED:20260104T105654Z
LAST-MODIFIED:20260310T114240Z
UID:10002590-1867509900-1867513500@mikepercsifoci.hu
SUMMARY:U9 edzés
DESCRIPTION:
URL:https://mikepercsifoci.hu/esemeny/u9-edzes-3/2029-03-06/
LOCATION:Mikepércsi Sportpálya\, Sport utca 4.\, Mikepércs\, 4271\, Hungary
CATEGORIES:U9 edzések
END:VEVENT
BEGIN:VEVENT
DTSTART;TZID=Europe/Budapest:20290308T164500
DTEND;TZID=Europe/Budapest:20290308T174500
DTSTAMP:20260424T115340
CREATED:20260104T105556Z
LAST-MODIFIED:20260310T114146Z
UID:10002320-1867682700-1867686300@mikepercsifoci.hu
SUMMARY:U9 edzés
DESCRIPTION:
URL:https://mikepercsifoci.hu/esemeny/u9-edzes-2-2/2029-03-08/
LOCATION:Mikepércsi Sportpálya\, Sport utca 4.\, Mikepércs\, 4271\, Hungary
CATEGORIES:U9 edzések
END:VEVENT
BEGIN:VEVENT
DTSTART;TZID=Europe/Budapest:20290313T164500
DTEND;TZID=Europe/Budapest:20290313T174500
DTSTAMP:20260424T115340
CREATED:20260104T105654Z
LAST-MODIFIED:20260310T114240Z
UID:10002591-1868114700-1868118300@mikepercsifoci.hu
SUMMARY:U9 edzés
DESCRIPTION:
URL:https://mikepercsifoci.hu/esemeny/u9-edzes-3/2029-03-13/
LOCATION:Mikepércsi Sportpálya\, Sport utca 4.\, Mikepércs\, 4271\, Hungary
CATEGORIES:U9 edzések
END:VEVENT
BEGIN:VEVENT
DTSTART;TZID=Europe/Budapest:20290315T164500
DTEND;TZID=Europe/Budapest:20290315T174500
DTSTAMP:20260424T115340
CREATED:20260104T105556Z
LAST-MODIFIED:20260310T114146Z
UID:10002321-1868287500-1868291100@mikepercsifoci.hu
SUMMARY:U9 edzés
DESCRIPTION:
URL:https://mikepercsifoci.hu/esemeny/u9-edzes-2-2/2029-03-15/
LOCATION:Mikepércsi Sportpálya\, Sport utca 4.\, Mikepércs\, 4271\, Hungary
CATEGORIES:U9 edzések
END:VEVENT
BEGIN:VEVENT
DTSTART;TZID=Europe/Budapest:20290320T164500
DTEND;TZID=Europe/Budapest:20290320T174500
DTSTAMP:20260424T115340
CREATED:20260104T105654Z
LAST-MODIFIED:20260310T114240Z
UID:10002592-1868719500-1868723100@mikepercsifoci.hu
SUMMARY:U9 edzés
DESCRIPTION:
URL:https://mikepercsifoci.hu/esemeny/u9-edzes-3/2029-03-20/
LOCATION:Mikepércsi Sportpálya\, Sport utca 4.\, Mikepércs\, 4271\, Hungary
CATEGORIES:U9 edzések
END:VEVENT
BEGIN:VEVENT
DTSTART;TZID=Europe/Budapest:20290322T164500
DTEND;TZID=Europe/Budapest:20290322T174500
DTSTAMP:20260424T115340
CREATED:20260104T105556Z
LAST-MODIFIED:20260310T114146Z
UID:10002322-1868892300-1868895900@mikepercsifoci.hu
SUMMARY:U9 edzés
DESCRIPTION:
URL:https://mikepercsifoci.hu/esemeny/u9-edzes-2-2/2029-03-22/
LOCATION:Mikepércsi Sportpálya\, Sport utca 4.\, Mikepércs\, 4271\, Hungary
CATEGORIES:U9 edzések
END:VEVENT
BEGIN:VEVENT
DTSTART;TZID=Europe/Budapest:20290327T164500
DTEND;TZID=Europe/Budapest:20290327T174500
DTSTAMP:20260424T115340
CREATED:20260104T105654Z
LAST-MODIFIED:20260310T114240Z
UID:10002593-1869324300-1869327900@mikepercsifoci.hu
SUMMARY:U9 edzés
DESCRIPTION:
URL:https://mikepercsifoci.hu/esemeny/u9-edzes-3/2029-03-27/
LOCATION:Mikepércsi Sportpálya\, Sport utca 4.\, Mikepércs\, 4271\, Hungary
CATEGORIES:U9 edzések
END:VEVENT
BEGIN:VEVENT
DTSTART;TZID=Europe/Budapest:20290329T164500
DTEND;TZID=Europe/Budapest:20290329T174500
DTSTAMP:20260424T115340
CREATED:20260104T105556Z
LAST-MODIFIED:20260310T114146Z
UID:10002323-1869497100-1869500700@mikepercsifoci.hu
SUMMARY:U9 edzés
DESCRIPTION:
URL:https://mikepercsifoci.hu/esemeny/u9-edzes-2-2/2029-03-29/
LOCATION:Mikepércsi Sportpálya\, Sport utca 4.\, Mikepércs\, 4271\, Hungary
CATEGORIES:U9 edzések
END:VEVENT
BEGIN:VEVENT
DTSTART;TZID=Europe/Budapest:20290403T164500
DTEND;TZID=Europe/Budapest:20290403T174500
DTSTAMP:20260424T115340
CREATED:20260104T105654Z
LAST-MODIFIED:20260310T114240Z
UID:10002594-1869929100-1869932700@mikepercsifoci.hu
SUMMARY:U9 edzés
DESCRIPTION:
URL:https://mikepercsifoci.hu/esemeny/u9-edzes-3/2029-04-03/
LOCATION:Mikepércsi Sportpálya\, Sport utca 4.\, Mikepércs\, 4271\, Hungary
CATEGORIES:U9 edzések
END:VEVENT
BEGIN:VEVENT
DTSTART;TZID=Europe/Budapest:20290405T164500
DTEND;TZID=Europe/Budapest:20290405T174500
DTSTAMP:20260424T115340
CREATED:20260104T105556Z
LAST-MODIFIED:20260310T114146Z
UID:10002324-1870101900-1870105500@mikepercsifoci.hu
SUMMARY:U9 edzés
DESCRIPTION:
URL:https://mikepercsifoci.hu/esemeny/u9-edzes-2-2/2029-04-05/
LOCATION:Mikepércsi Sportpálya\, Sport utca 4.\, Mikepércs\, 4271\, Hungary
CATEGORIES:U9 edzések
END:VEVENT
BEGIN:VEVENT
DTSTART;TZID=Europe/Budapest:20290410T164500
DTEND;TZID=Europe/Budapest:20290410T174500
DTSTAMP:20260424T115340
CREATED:20260104T105654Z
LAST-MODIFIED:20260310T114240Z
UID:10002595-1870533900-1870537500@mikepercsifoci.hu
SUMMARY:U9 edzés
DESCRIPTION:
URL:https://mikepercsifoci.hu/esemeny/u9-edzes-3/2029-04-10/
LOCATION:Mikepércsi Sportpálya\, Sport utca 4.\, Mikepércs\, 4271\, Hungary
CATEGORIES:U9 edzések
END:VEVENT
BEGIN:VEVENT
DTSTART;TZID=Europe/Budapest:20290412T164500
DTEND;TZID=Europe/Budapest:20290412T174500
DTSTAMP:20260424T115340
CREATED:20260104T105556Z
LAST-MODIFIED:20260310T114146Z
UID:10002325-1870706700-1870710300@mikepercsifoci.hu
SUMMARY:U9 edzés
DESCRIPTION:
URL:https://mikepercsifoci.hu/esemeny/u9-edzes-2-2/2029-04-12/
LOCATION:Mikepércsi Sportpálya\, Sport utca 4.\, Mikepércs\, 4271\, Hungary
CATEGORIES:U9 edzések
END:VEVENT
BEGIN:VEVENT
DTSTART;TZID=Europe/Budapest:20290417T164500
DTEND;TZID=Europe/Budapest:20290417T174500
DTSTAMP:20260424T115340
CREATED:20260104T105654Z
LAST-MODIFIED:20260310T114240Z
UID:10002596-1871138700-1871142300@mikepercsifoci.hu
SUMMARY:U9 edzés
DESCRIPTION:
URL:https://mikepercsifoci.hu/esemeny/u9-edzes-3/2029-04-17/
LOCATION:Mikepércsi Sportpálya\, Sport utca 4.\, Mikepércs\, 4271\, Hungary
CATEGORIES:U9 edzések
END:VEVENT
BEGIN:VEVENT
DTSTART;TZID=Europe/Budapest:20290419T164500
DTEND;TZID=Europe/Budapest:20290419T174500
DTSTAMP:20260424T115340
CREATED:20260104T105556Z
LAST-MODIFIED:20260310T114146Z
UID:10002326-1871311500-1871315100@mikepercsifoci.hu
SUMMARY:U9 edzés
DESCRIPTION:
URL:https://mikepercsifoci.hu/esemeny/u9-edzes-2-2/2029-04-19/
LOCATION:Mikepércsi Sportpálya\, Sport utca 4.\, Mikepércs\, 4271\, Hungary
CATEGORIES:U9 edzések
END:VEVENT
BEGIN:VEVENT
DTSTART;TZID=Europe/Budapest:20290424T164500
DTEND;TZID=Europe/Budapest:20290424T174500
DTSTAMP:20260424T115340
CREATED:20260104T105654Z
LAST-MODIFIED:20260310T114240Z
UID:10002597-1871743500-1871747100@mikepercsifoci.hu
SUMMARY:U9 edzés
DESCRIPTION:
URL:https://mikepercsifoci.hu/esemeny/u9-edzes-3/2029-04-24/
LOCATION:Mikepércsi Sportpálya\, Sport utca 4.\, Mikepércs\, 4271\, Hungary
CATEGORIES:U9 edzések
END:VEVENT
BEGIN:VEVENT
DTSTART;TZID=Europe/Budapest:20290426T164500
DTEND;TZID=Europe/Budapest:20290426T174500
DTSTAMP:20260424T115340
CREATED:20260104T105556Z
LAST-MODIFIED:20260310T114146Z
UID:10002327-1871916300-1871919900@mikepercsifoci.hu
SUMMARY:U9 edzés
DESCRIPTION:
URL:https://mikepercsifoci.hu/esemeny/u9-edzes-2-2/2029-04-26/
LOCATION:Mikepércsi Sportpálya\, Sport utca 4.\, Mikepércs\, 4271\, Hungary
CATEGORIES:U9 edzések
END:VEVENT
BEGIN:VEVENT
DTSTART;TZID=Europe/Budapest:20290501T164500
DTEND;TZID=Europe/Budapest:20290501T174500
DTSTAMP:20260424T115340
CREATED:20260104T105654Z
LAST-MODIFIED:20260310T114240Z
UID:10002598-1872348300-1872351900@mikepercsifoci.hu
SUMMARY:U9 edzés
DESCRIPTION:
URL:https://mikepercsifoci.hu/esemeny/u9-edzes-3/2029-05-01/
LOCATION:Mikepércsi Sportpálya\, Sport utca 4.\, Mikepércs\, 4271\, Hungary
CATEGORIES:U9 edzések
END:VEVENT
BEGIN:VEVENT
DTSTART;TZID=Europe/Budapest:20290503T164500
DTEND;TZID=Europe/Budapest:20290503T174500
DTSTAMP:20260424T115340
CREATED:20260104T105556Z
LAST-MODIFIED:20260310T114146Z
UID:10002328-1872521100-1872524700@mikepercsifoci.hu
SUMMARY:U9 edzés
DESCRIPTION:
URL:https://mikepercsifoci.hu/esemeny/u9-edzes-2-2/2029-05-03/
LOCATION:Mikepércsi Sportpálya\, Sport utca 4.\, Mikepércs\, 4271\, Hungary
CATEGORIES:U9 edzések
END:VEVENT
BEGIN:VEVENT
DTSTART;TZID=Europe/Budapest:20290508T164500
DTEND;TZID=Europe/Budapest:20290508T174500
DTSTAMP:20260424T115340
CREATED:20260104T105654Z
LAST-MODIFIED:20260310T114240Z
UID:10002599-1872953100-1872956700@mikepercsifoci.hu
SUMMARY:U9 edzés
DESCRIPTION:
URL:https://mikepercsifoci.hu/esemeny/u9-edzes-3/2029-05-08/
LOCATION:Mikepércsi Sportpálya\, Sport utca 4.\, Mikepércs\, 4271\, Hungary
CATEGORIES:U9 edzések
END:VEVENT
BEGIN:VEVENT
DTSTART;TZID=Europe/Budapest:20290510T164500
DTEND;TZID=Europe/Budapest:20290510T174500
DTSTAMP:20260424T115340
CREATED:20260104T105556Z
LAST-MODIFIED:20260310T114146Z
UID:10002329-1873125900-1873129500@mikepercsifoci.hu
SUMMARY:U9 edzés
DESCRIPTION:
URL:https://mikepercsifoci.hu/esemeny/u9-edzes-2-2/2029-05-10/
LOCATION:Mikepércsi Sportpálya\, Sport utca 4.\, Mikepércs\, 4271\, Hungary
CATEGORIES:U9 edzések
END:VEVENT
END:VCALENDAR