BEGIN:VCALENDAR
VERSION:2.0
PRODID:-//Mikepércsi Foci - ECPv6.15.12.2//NONSGML v1.0//EN
CALSCALE:GREGORIAN
METHOD:PUBLISH
X-WR-CALNAME:Mikepércsi Foci
X-ORIGINAL-URL:https://mikepercsifoci.hu
X-WR-CALDESC:Események Mikepércsi Foci
REFRESH-INTERVAL;VALUE=DURATION:PT1H
X-Robots-Tag:noindex
X-PUBLISHED-TTL:PT1H
BEGIN:VTIMEZONE
TZID:Europe/Budapest
BEGIN:DAYLIGHT
TZOFFSETFROM:+0100
TZOFFSETTO:+0200
TZNAME:CEST
DTSTART:20280326T010000
END:DAYLIGHT
BEGIN:STANDARD
TZOFFSETFROM:+0200
TZOFFSETTO:+0100
TZNAME:CET
DTSTART:20281029T010000
END:STANDARD
BEGIN:DAYLIGHT
TZOFFSETFROM:+0100
TZOFFSETTO:+0200
TZNAME:CEST
DTSTART:20290325T010000
END:DAYLIGHT
BEGIN:STANDARD
TZOFFSETFROM:+0200
TZOFFSETTO:+0100
TZNAME:CET
DTSTART:20291028T010000
END:STANDARD
BEGIN:DAYLIGHT
TZOFFSETFROM:+0100
TZOFFSETTO:+0200
TZNAME:CEST
DTSTART:20300331T010000
END:DAYLIGHT
BEGIN:STANDARD
TZOFFSETFROM:+0200
TZOFFSETTO:+0100
TZNAME:CET
DTSTART:20301027T010000
END:STANDARD
END:VTIMEZONE
BEGIN:VEVENT
DTSTART;TZID=Europe/Budapest:20290605T164500
DTEND;TZID=Europe/Budapest:20290605T174500
DTSTAMP:20260424T163533
CREATED:20260104T105654Z
LAST-MODIFIED:20260310T114240Z
UID:10002603-1875372300-1875375900@mikepercsifoci.hu
SUMMARY:U9 edzés
DESCRIPTION:
URL:https://mikepercsifoci.hu/esemeny/u9-edzes-3/2029-06-05/
LOCATION:Mikepércsi Sportpálya\, Sport utca 4.\, Mikepércs\, 4271\, Hungary
CATEGORIES:U9 edzések
END:VEVENT
BEGIN:VEVENT
DTSTART;TZID=Europe/Budapest:20290607T164500
DTEND;TZID=Europe/Budapest:20290607T174500
DTSTAMP:20260424T163533
CREATED:20260104T105556Z
LAST-MODIFIED:20260310T114146Z
UID:10002333-1875545100-1875548700@mikepercsifoci.hu
SUMMARY:U9 edzés
DESCRIPTION:
URL:https://mikepercsifoci.hu/esemeny/u9-edzes-2-2/2029-06-07/
LOCATION:Mikepércsi Sportpálya\, Sport utca 4.\, Mikepércs\, 4271\, Hungary
CATEGORIES:U9 edzések
END:VEVENT
BEGIN:VEVENT
DTSTART;TZID=Europe/Budapest:20290612T164500
DTEND;TZID=Europe/Budapest:20290612T174500
DTSTAMP:20260424T163533
CREATED:20260104T105654Z
LAST-MODIFIED:20260310T114240Z
UID:10002604-1875977100-1875980700@mikepercsifoci.hu
SUMMARY:U9 edzés
DESCRIPTION:
URL:https://mikepercsifoci.hu/esemeny/u9-edzes-3/2029-06-12/
LOCATION:Mikepércsi Sportpálya\, Sport utca 4.\, Mikepércs\, 4271\, Hungary
CATEGORIES:U9 edzések
END:VEVENT
BEGIN:VEVENT
DTSTART;TZID=Europe/Budapest:20290614T164500
DTEND;TZID=Europe/Budapest:20290614T174500
DTSTAMP:20260424T163533
CREATED:20260104T105556Z
LAST-MODIFIED:20260310T114146Z
UID:10002334-1876149900-1876153500@mikepercsifoci.hu
SUMMARY:U9 edzés
DESCRIPTION:
URL:https://mikepercsifoci.hu/esemeny/u9-edzes-2-2/2029-06-14/
LOCATION:Mikepércsi Sportpálya\, Sport utca 4.\, Mikepércs\, 4271\, Hungary
CATEGORIES:U9 edzések
END:VEVENT
BEGIN:VEVENT
DTSTART;TZID=Europe/Budapest:20290619T164500
DTEND;TZID=Europe/Budapest:20290619T174500
DTSTAMP:20260424T163533
CREATED:20260104T105654Z
LAST-MODIFIED:20260310T114240Z
UID:10002605-1876581900-1876585500@mikepercsifoci.hu
SUMMARY:U9 edzés
DESCRIPTION:
URL:https://mikepercsifoci.hu/esemeny/u9-edzes-3/2029-06-19/
LOCATION:Mikepércsi Sportpálya\, Sport utca 4.\, Mikepércs\, 4271\, Hungary
CATEGORIES:U9 edzések
END:VEVENT
BEGIN:VEVENT
DTSTART;TZID=Europe/Budapest:20290621T164500
DTEND;TZID=Europe/Budapest:20290621T174500
DTSTAMP:20260424T163533
CREATED:20260104T105556Z
LAST-MODIFIED:20260310T114146Z
UID:10002335-1876754700-1876758300@mikepercsifoci.hu
SUMMARY:U9 edzés
DESCRIPTION:
URL:https://mikepercsifoci.hu/esemeny/u9-edzes-2-2/2029-06-21/
LOCATION:Mikepércsi Sportpálya\, Sport utca 4.\, Mikepércs\, 4271\, Hungary
CATEGORIES:U9 edzések
END:VEVENT
BEGIN:VEVENT
DTSTART;TZID=Europe/Budapest:20290626T164500
DTEND;TZID=Europe/Budapest:20290626T174500
DTSTAMP:20260424T163533
CREATED:20260104T105654Z
LAST-MODIFIED:20260310T114240Z
UID:10002606-1877186700-1877190300@mikepercsifoci.hu
SUMMARY:U9 edzés
DESCRIPTION:
URL:https://mikepercsifoci.hu/esemeny/u9-edzes-3/2029-06-26/
LOCATION:Mikepércsi Sportpálya\, Sport utca 4.\, Mikepércs\, 4271\, Hungary
CATEGORIES:U9 edzések
END:VEVENT
BEGIN:VEVENT
DTSTART;TZID=Europe/Budapest:20290628T164500
DTEND;TZID=Europe/Budapest:20290628T174500
DTSTAMP:20260424T163533
CREATED:20260104T105556Z
LAST-MODIFIED:20260310T114146Z
UID:10002336-1877359500-1877363100@mikepercsifoci.hu
SUMMARY:U9 edzés
DESCRIPTION:
URL:https://mikepercsifoci.hu/esemeny/u9-edzes-2-2/2029-06-28/
LOCATION:Mikepércsi Sportpálya\, Sport utca 4.\, Mikepércs\, 4271\, Hungary
CATEGORIES:U9 edzések
END:VEVENT
BEGIN:VEVENT
DTSTART;TZID=Europe/Budapest:20290703T164500
DTEND;TZID=Europe/Budapest:20290703T174500
DTSTAMP:20260424T163533
CREATED:20260104T105654Z
LAST-MODIFIED:20260310T114240Z
UID:10002607-1877791500-1877795100@mikepercsifoci.hu
SUMMARY:U9 edzés
DESCRIPTION:
URL:https://mikepercsifoci.hu/esemeny/u9-edzes-3/2029-07-03/
LOCATION:Mikepércsi Sportpálya\, Sport utca 4.\, Mikepércs\, 4271\, Hungary
CATEGORIES:U9 edzések
END:VEVENT
BEGIN:VEVENT
DTSTART;TZID=Europe/Budapest:20290705T164500
DTEND;TZID=Europe/Budapest:20290705T174500
DTSTAMP:20260424T163533
CREATED:20260104T105556Z
LAST-MODIFIED:20260310T114146Z
UID:10002337-1877964300-1877967900@mikepercsifoci.hu
SUMMARY:U9 edzés
DESCRIPTION:
URL:https://mikepercsifoci.hu/esemeny/u9-edzes-2-2/2029-07-05/
LOCATION:Mikepércsi Sportpálya\, Sport utca 4.\, Mikepércs\, 4271\, Hungary
CATEGORIES:U9 edzések
END:VEVENT
BEGIN:VEVENT
DTSTART;TZID=Europe/Budapest:20290710T164500
DTEND;TZID=Europe/Budapest:20290710T174500
DTSTAMP:20260424T163533
CREATED:20260104T105654Z
LAST-MODIFIED:20260310T114240Z
UID:10002608-1878396300-1878399900@mikepercsifoci.hu
SUMMARY:U9 edzés
DESCRIPTION:
URL:https://mikepercsifoci.hu/esemeny/u9-edzes-3/2029-07-10/
LOCATION:Mikepércsi Sportpálya\, Sport utca 4.\, Mikepércs\, 4271\, Hungary
CATEGORIES:U9 edzések
END:VEVENT
BEGIN:VEVENT
DTSTART;TZID=Europe/Budapest:20290712T164500
DTEND;TZID=Europe/Budapest:20290712T174500
DTSTAMP:20260424T163533
CREATED:20260104T105556Z
LAST-MODIFIED:20260310T114146Z
UID:10002338-1878569100-1878572700@mikepercsifoci.hu
SUMMARY:U9 edzés
DESCRIPTION:
URL:https://mikepercsifoci.hu/esemeny/u9-edzes-2-2/2029-07-12/
LOCATION:Mikepércsi Sportpálya\, Sport utca 4.\, Mikepércs\, 4271\, Hungary
CATEGORIES:U9 edzések
END:VEVENT
BEGIN:VEVENT
DTSTART;TZID=Europe/Budapest:20290717T164500
DTEND;TZID=Europe/Budapest:20290717T174500
DTSTAMP:20260424T163533
CREATED:20260104T105654Z
LAST-MODIFIED:20260310T114240Z
UID:10002609-1879001100-1879004700@mikepercsifoci.hu
SUMMARY:U9 edzés
DESCRIPTION:
URL:https://mikepercsifoci.hu/esemeny/u9-edzes-3/2029-07-17/
LOCATION:Mikepércsi Sportpálya\, Sport utca 4.\, Mikepércs\, 4271\, Hungary
CATEGORIES:U9 edzések
END:VEVENT
BEGIN:VEVENT
DTSTART;TZID=Europe/Budapest:20290719T164500
DTEND;TZID=Europe/Budapest:20290719T174500
DTSTAMP:20260424T163533
CREATED:20260104T105556Z
LAST-MODIFIED:20260310T114146Z
UID:10002339-1879173900-1879177500@mikepercsifoci.hu
SUMMARY:U9 edzés
DESCRIPTION:
URL:https://mikepercsifoci.hu/esemeny/u9-edzes-2-2/2029-07-19/
LOCATION:Mikepércsi Sportpálya\, Sport utca 4.\, Mikepércs\, 4271\, Hungary
CATEGORIES:U9 edzések
END:VEVENT
BEGIN:VEVENT
DTSTART;TZID=Europe/Budapest:20290724T164500
DTEND;TZID=Europe/Budapest:20290724T174500
DTSTAMP:20260424T163533
CREATED:20260104T105654Z
LAST-MODIFIED:20260310T114240Z
UID:10002610-1879605900-1879609500@mikepercsifoci.hu
SUMMARY:U9 edzés
DESCRIPTION:
URL:https://mikepercsifoci.hu/esemeny/u9-edzes-3/2029-07-24/
LOCATION:Mikepércsi Sportpálya\, Sport utca 4.\, Mikepércs\, 4271\, Hungary
CATEGORIES:U9 edzések
END:VEVENT
BEGIN:VEVENT
DTSTART;TZID=Europe/Budapest:20290726T164500
DTEND;TZID=Europe/Budapest:20290726T174500
DTSTAMP:20260424T163533
CREATED:20260104T105556Z
LAST-MODIFIED:20260310T114146Z
UID:10002340-1879778700-1879782300@mikepercsifoci.hu
SUMMARY:U9 edzés
DESCRIPTION:
URL:https://mikepercsifoci.hu/esemeny/u9-edzes-2-2/2029-07-26/
LOCATION:Mikepércsi Sportpálya\, Sport utca 4.\, Mikepércs\, 4271\, Hungary
CATEGORIES:U9 edzések
END:VEVENT
BEGIN:VEVENT
DTSTART;TZID=Europe/Budapest:20290731T164500
DTEND;TZID=Europe/Budapest:20290731T174500
DTSTAMP:20260424T163533
CREATED:20260104T105654Z
LAST-MODIFIED:20260310T114240Z
UID:10002611-1880210700-1880214300@mikepercsifoci.hu
SUMMARY:U9 edzés
DESCRIPTION:
URL:https://mikepercsifoci.hu/esemeny/u9-edzes-3/2029-07-31/
LOCATION:Mikepércsi Sportpálya\, Sport utca 4.\, Mikepércs\, 4271\, Hungary
CATEGORIES:U9 edzések
END:VEVENT
BEGIN:VEVENT
DTSTART;TZID=Europe/Budapest:20290802T164500
DTEND;TZID=Europe/Budapest:20290802T174500
DTSTAMP:20260424T163533
CREATED:20260104T105556Z
LAST-MODIFIED:20260310T114146Z
UID:10002341-1880383500-1880387100@mikepercsifoci.hu
SUMMARY:U9 edzés
DESCRIPTION:
URL:https://mikepercsifoci.hu/esemeny/u9-edzes-2-2/2029-08-02/
LOCATION:Mikepércsi Sportpálya\, Sport utca 4.\, Mikepércs\, 4271\, Hungary
CATEGORIES:U9 edzések
END:VEVENT
BEGIN:VEVENT
DTSTART;TZID=Europe/Budapest:20290807T164500
DTEND;TZID=Europe/Budapest:20290807T174500
DTSTAMP:20260424T163533
CREATED:20260104T105654Z
LAST-MODIFIED:20260310T114240Z
UID:10002612-1880815500-1880819100@mikepercsifoci.hu
SUMMARY:U9 edzés
DESCRIPTION:
URL:https://mikepercsifoci.hu/esemeny/u9-edzes-3/2029-08-07/
LOCATION:Mikepércsi Sportpálya\, Sport utca 4.\, Mikepércs\, 4271\, Hungary
CATEGORIES:U9 edzések
END:VEVENT
BEGIN:VEVENT
DTSTART;TZID=Europe/Budapest:20290809T164500
DTEND;TZID=Europe/Budapest:20290809T174500
DTSTAMP:20260424T163533
CREATED:20260104T105556Z
LAST-MODIFIED:20260310T114146Z
UID:10002342-1880988300-1880991900@mikepercsifoci.hu
SUMMARY:U9 edzés
DESCRIPTION:
URL:https://mikepercsifoci.hu/esemeny/u9-edzes-2-2/2029-08-09/
LOCATION:Mikepércsi Sportpálya\, Sport utca 4.\, Mikepércs\, 4271\, Hungary
CATEGORIES:U9 edzések
END:VEVENT
BEGIN:VEVENT
DTSTART;TZID=Europe/Budapest:20290814T164500
DTEND;TZID=Europe/Budapest:20290814T174500
DTSTAMP:20260424T163533
CREATED:20260104T105654Z
LAST-MODIFIED:20260310T114240Z
UID:10002613-1881420300-1881423900@mikepercsifoci.hu
SUMMARY:U9 edzés
DESCRIPTION:
URL:https://mikepercsifoci.hu/esemeny/u9-edzes-3/2029-08-14/
LOCATION:Mikepércsi Sportpálya\, Sport utca 4.\, Mikepércs\, 4271\, Hungary
CATEGORIES:U9 edzések
END:VEVENT
BEGIN:VEVENT
DTSTART;TZID=Europe/Budapest:20290816T164500
DTEND;TZID=Europe/Budapest:20290816T174500
DTSTAMP:20260424T163533
CREATED:20260104T105556Z
LAST-MODIFIED:20260310T114146Z
UID:10002343-1881593100-1881596700@mikepercsifoci.hu
SUMMARY:U9 edzés
DESCRIPTION:
URL:https://mikepercsifoci.hu/esemeny/u9-edzes-2-2/2029-08-16/
LOCATION:Mikepércsi Sportpálya\, Sport utca 4.\, Mikepércs\, 4271\, Hungary
CATEGORIES:U9 edzések
END:VEVENT
BEGIN:VEVENT
DTSTART;TZID=Europe/Budapest:20290821T164500
DTEND;TZID=Europe/Budapest:20290821T174500
DTSTAMP:20260424T163533
CREATED:20260104T105654Z
LAST-MODIFIED:20260310T114240Z
UID:10002614-1882025100-1882028700@mikepercsifoci.hu
SUMMARY:U9 edzés
DESCRIPTION:
URL:https://mikepercsifoci.hu/esemeny/u9-edzes-3/2029-08-21/
LOCATION:Mikepércsi Sportpálya\, Sport utca 4.\, Mikepércs\, 4271\, Hungary
CATEGORIES:U9 edzések
END:VEVENT
BEGIN:VEVENT
DTSTART;TZID=Europe/Budapest:20290823T164500
DTEND;TZID=Europe/Budapest:20290823T174500
DTSTAMP:20260424T163533
CREATED:20260104T105556Z
LAST-MODIFIED:20260310T114146Z
UID:10002344-1882197900-1882201500@mikepercsifoci.hu
SUMMARY:U9 edzés
DESCRIPTION:
URL:https://mikepercsifoci.hu/esemeny/u9-edzes-2-2/2029-08-23/
LOCATION:Mikepércsi Sportpálya\, Sport utca 4.\, Mikepércs\, 4271\, Hungary
CATEGORIES:U9 edzések
END:VEVENT
BEGIN:VEVENT
DTSTART;TZID=Europe/Budapest:20290828T164500
DTEND;TZID=Europe/Budapest:20290828T174500
DTSTAMP:20260424T163533
CREATED:20260104T105654Z
LAST-MODIFIED:20260310T114240Z
UID:10002615-1882629900-1882633500@mikepercsifoci.hu
SUMMARY:U9 edzés
DESCRIPTION:
URL:https://mikepercsifoci.hu/esemeny/u9-edzes-3/2029-08-28/
LOCATION:Mikepércsi Sportpálya\, Sport utca 4.\, Mikepércs\, 4271\, Hungary
CATEGORIES:U9 edzések
END:VEVENT
BEGIN:VEVENT
DTSTART;TZID=Europe/Budapest:20290830T164500
DTEND;TZID=Europe/Budapest:20290830T174500
DTSTAMP:20260424T163533
CREATED:20260104T105556Z
LAST-MODIFIED:20260310T114146Z
UID:10002345-1882802700-1882806300@mikepercsifoci.hu
SUMMARY:U9 edzés
DESCRIPTION:
URL:https://mikepercsifoci.hu/esemeny/u9-edzes-2-2/2029-08-30/
LOCATION:Mikepércsi Sportpálya\, Sport utca 4.\, Mikepércs\, 4271\, Hungary
CATEGORIES:U9 edzések
END:VEVENT
BEGIN:VEVENT
DTSTART;TZID=Europe/Budapest:20290904T164500
DTEND;TZID=Europe/Budapest:20290904T174500
DTSTAMP:20260424T163533
CREATED:20260104T105654Z
LAST-MODIFIED:20260310T114240Z
UID:10002616-1883234700-1883238300@mikepercsifoci.hu
SUMMARY:U9 edzés
DESCRIPTION:
URL:https://mikepercsifoci.hu/esemeny/u9-edzes-3/2029-09-04/
LOCATION:Mikepércsi Sportpálya\, Sport utca 4.\, Mikepércs\, 4271\, Hungary
CATEGORIES:U9 edzések
END:VEVENT
BEGIN:VEVENT
DTSTART;TZID=Europe/Budapest:20290906T164500
DTEND;TZID=Europe/Budapest:20290906T174500
DTSTAMP:20260424T163533
CREATED:20260104T105556Z
LAST-MODIFIED:20260310T114146Z
UID:10002346-1883407500-1883411100@mikepercsifoci.hu
SUMMARY:U9 edzés
DESCRIPTION:
URL:https://mikepercsifoci.hu/esemeny/u9-edzes-2-2/2029-09-06/
LOCATION:Mikepércsi Sportpálya\, Sport utca 4.\, Mikepércs\, 4271\, Hungary
CATEGORIES:U9 edzések
END:VEVENT
BEGIN:VEVENT
DTSTART;TZID=Europe/Budapest:20290911T164500
DTEND;TZID=Europe/Budapest:20290911T174500
DTSTAMP:20260424T163533
CREATED:20260104T105654Z
LAST-MODIFIED:20260310T114240Z
UID:10002617-1883839500-1883843100@mikepercsifoci.hu
SUMMARY:U9 edzés
DESCRIPTION:
URL:https://mikepercsifoci.hu/esemeny/u9-edzes-3/2029-09-11/
LOCATION:Mikepércsi Sportpálya\, Sport utca 4.\, Mikepércs\, 4271\, Hungary
CATEGORIES:U9 edzések
END:VEVENT
BEGIN:VEVENT
DTSTART;TZID=Europe/Budapest:20290913T164500
DTEND;TZID=Europe/Budapest:20290913T174500
DTSTAMP:20260424T163533
CREATED:20260104T105556Z
LAST-MODIFIED:20260310T114146Z
UID:10002347-1884012300-1884015900@mikepercsifoci.hu
SUMMARY:U9 edzés
DESCRIPTION:
URL:https://mikepercsifoci.hu/esemeny/u9-edzes-2-2/2029-09-13/
LOCATION:Mikepércsi Sportpálya\, Sport utca 4.\, Mikepércs\, 4271\, Hungary
CATEGORIES:U9 edzések
END:VEVENT
END:VCALENDAR