BEGIN:VCALENDAR
VERSION:2.0
PRODID:-//Mikepércsi Foci - ECPv6.15.12.2//NONSGML v1.0//EN
CALSCALE:GREGORIAN
METHOD:PUBLISH
X-WR-CALNAME:Mikepércsi Foci
X-ORIGINAL-URL:https://mikepercsifoci.hu
X-WR-CALDESC:Események Mikepércsi Foci
REFRESH-INTERVAL;VALUE=DURATION:PT1H
X-Robots-Tag:noindex
X-PUBLISHED-TTL:PT1H
BEGIN:VTIMEZONE
TZID:Europe/Budapest
BEGIN:DAYLIGHT
TZOFFSETFROM:+0100
TZOFFSETTO:+0200
TZNAME:CEST
DTSTART:20280326T010000
END:DAYLIGHT
BEGIN:STANDARD
TZOFFSETFROM:+0200
TZOFFSETTO:+0100
TZNAME:CET
DTSTART:20281029T010000
END:STANDARD
BEGIN:DAYLIGHT
TZOFFSETFROM:+0100
TZOFFSETTO:+0200
TZNAME:CEST
DTSTART:20290325T010000
END:DAYLIGHT
BEGIN:STANDARD
TZOFFSETFROM:+0200
TZOFFSETTO:+0100
TZNAME:CET
DTSTART:20291028T010000
END:STANDARD
BEGIN:DAYLIGHT
TZOFFSETFROM:+0100
TZOFFSETTO:+0200
TZNAME:CEST
DTSTART:20300331T010000
END:DAYLIGHT
BEGIN:STANDARD
TZOFFSETFROM:+0200
TZOFFSETTO:+0100
TZNAME:CET
DTSTART:20301027T010000
END:STANDARD
END:VTIMEZONE
BEGIN:VEVENT
DTSTART;TZID=Europe/Budapest:20290828T164500
DTEND;TZID=Europe/Budapest:20290828T174500
DTSTAMP:20260425T000536
CREATED:20260104T105654Z
LAST-MODIFIED:20260310T114240Z
UID:10002615-1882629900-1882633500@mikepercsifoci.hu
SUMMARY:U9 edzés
DESCRIPTION:
URL:https://mikepercsifoci.hu/esemeny/u9-edzes-3/2029-08-28/
LOCATION:Mikepércsi Sportpálya\, Sport utca 4.\, Mikepércs\, 4271\, Hungary
CATEGORIES:U9 edzések
END:VEVENT
BEGIN:VEVENT
DTSTART;TZID=Europe/Budapest:20290830T164500
DTEND;TZID=Europe/Budapest:20290830T174500
DTSTAMP:20260425T000536
CREATED:20260104T105556Z
LAST-MODIFIED:20260310T114146Z
UID:10002345-1882802700-1882806300@mikepercsifoci.hu
SUMMARY:U9 edzés
DESCRIPTION:
URL:https://mikepercsifoci.hu/esemeny/u9-edzes-2-2/2029-08-30/
LOCATION:Mikepércsi Sportpálya\, Sport utca 4.\, Mikepércs\, 4271\, Hungary
CATEGORIES:U9 edzések
END:VEVENT
BEGIN:VEVENT
DTSTART;TZID=Europe/Budapest:20290904T164500
DTEND;TZID=Europe/Budapest:20290904T174500
DTSTAMP:20260425T000536
CREATED:20260104T105654Z
LAST-MODIFIED:20260310T114240Z
UID:10002616-1883234700-1883238300@mikepercsifoci.hu
SUMMARY:U9 edzés
DESCRIPTION:
URL:https://mikepercsifoci.hu/esemeny/u9-edzes-3/2029-09-04/
LOCATION:Mikepércsi Sportpálya\, Sport utca 4.\, Mikepércs\, 4271\, Hungary
CATEGORIES:U9 edzések
END:VEVENT
BEGIN:VEVENT
DTSTART;TZID=Europe/Budapest:20290906T164500
DTEND;TZID=Europe/Budapest:20290906T174500
DTSTAMP:20260425T000536
CREATED:20260104T105556Z
LAST-MODIFIED:20260310T114146Z
UID:10002346-1883407500-1883411100@mikepercsifoci.hu
SUMMARY:U9 edzés
DESCRIPTION:
URL:https://mikepercsifoci.hu/esemeny/u9-edzes-2-2/2029-09-06/
LOCATION:Mikepércsi Sportpálya\, Sport utca 4.\, Mikepércs\, 4271\, Hungary
CATEGORIES:U9 edzések
END:VEVENT
BEGIN:VEVENT
DTSTART;TZID=Europe/Budapest:20290911T164500
DTEND;TZID=Europe/Budapest:20290911T174500
DTSTAMP:20260425T000536
CREATED:20260104T105654Z
LAST-MODIFIED:20260310T114240Z
UID:10002617-1883839500-1883843100@mikepercsifoci.hu
SUMMARY:U9 edzés
DESCRIPTION:
URL:https://mikepercsifoci.hu/esemeny/u9-edzes-3/2029-09-11/
LOCATION:Mikepércsi Sportpálya\, Sport utca 4.\, Mikepércs\, 4271\, Hungary
CATEGORIES:U9 edzések
END:VEVENT
BEGIN:VEVENT
DTSTART;TZID=Europe/Budapest:20290913T164500
DTEND;TZID=Europe/Budapest:20290913T174500
DTSTAMP:20260425T000536
CREATED:20260104T105556Z
LAST-MODIFIED:20260310T114146Z
UID:10002347-1884012300-1884015900@mikepercsifoci.hu
SUMMARY:U9 edzés
DESCRIPTION:
URL:https://mikepercsifoci.hu/esemeny/u9-edzes-2-2/2029-09-13/
LOCATION:Mikepércsi Sportpálya\, Sport utca 4.\, Mikepércs\, 4271\, Hungary
CATEGORIES:U9 edzések
END:VEVENT
BEGIN:VEVENT
DTSTART;TZID=Europe/Budapest:20290918T164500
DTEND;TZID=Europe/Budapest:20290918T174500
DTSTAMP:20260425T000536
CREATED:20260104T105654Z
LAST-MODIFIED:20260310T114240Z
UID:10002618-1884444300-1884447900@mikepercsifoci.hu
SUMMARY:U9 edzés
DESCRIPTION:
URL:https://mikepercsifoci.hu/esemeny/u9-edzes-3/2029-09-18/
LOCATION:Mikepércsi Sportpálya\, Sport utca 4.\, Mikepércs\, 4271\, Hungary
CATEGORIES:U9 edzések
END:VEVENT
BEGIN:VEVENT
DTSTART;TZID=Europe/Budapest:20290920T164500
DTEND;TZID=Europe/Budapest:20290920T174500
DTSTAMP:20260425T000536
CREATED:20260104T105556Z
LAST-MODIFIED:20260310T114146Z
UID:10002348-1884617100-1884620700@mikepercsifoci.hu
SUMMARY:U9 edzés
DESCRIPTION:
URL:https://mikepercsifoci.hu/esemeny/u9-edzes-2-2/2029-09-20/
LOCATION:Mikepércsi Sportpálya\, Sport utca 4.\, Mikepércs\, 4271\, Hungary
CATEGORIES:U9 edzések
END:VEVENT
BEGIN:VEVENT
DTSTART;TZID=Europe/Budapest:20290925T164500
DTEND;TZID=Europe/Budapest:20290925T174500
DTSTAMP:20260425T000536
CREATED:20260104T105654Z
LAST-MODIFIED:20260310T114240Z
UID:10002619-1885049100-1885052700@mikepercsifoci.hu
SUMMARY:U9 edzés
DESCRIPTION:
URL:https://mikepercsifoci.hu/esemeny/u9-edzes-3/2029-09-25/
LOCATION:Mikepércsi Sportpálya\, Sport utca 4.\, Mikepércs\, 4271\, Hungary
CATEGORIES:U9 edzések
END:VEVENT
BEGIN:VEVENT
DTSTART;TZID=Europe/Budapest:20290927T164500
DTEND;TZID=Europe/Budapest:20290927T174500
DTSTAMP:20260425T000536
CREATED:20260104T105556Z
LAST-MODIFIED:20260310T114146Z
UID:10002349-1885221900-1885225500@mikepercsifoci.hu
SUMMARY:U9 edzés
DESCRIPTION:
URL:https://mikepercsifoci.hu/esemeny/u9-edzes-2-2/2029-09-27/
LOCATION:Mikepércsi Sportpálya\, Sport utca 4.\, Mikepércs\, 4271\, Hungary
CATEGORIES:U9 edzések
END:VEVENT
BEGIN:VEVENT
DTSTART;TZID=Europe/Budapest:20291002T164500
DTEND;TZID=Europe/Budapest:20291002T174500
DTSTAMP:20260425T000536
CREATED:20260104T105654Z
LAST-MODIFIED:20260310T114240Z
UID:10002620-1885653900-1885657500@mikepercsifoci.hu
SUMMARY:U9 edzés
DESCRIPTION:
URL:https://mikepercsifoci.hu/esemeny/u9-edzes-3/2029-10-02/
LOCATION:Mikepércsi Sportpálya\, Sport utca 4.\, Mikepércs\, 4271\, Hungary
CATEGORIES:U9 edzések
END:VEVENT
BEGIN:VEVENT
DTSTART;TZID=Europe/Budapest:20291004T164500
DTEND;TZID=Europe/Budapest:20291004T174500
DTSTAMP:20260425T000536
CREATED:20260104T105556Z
LAST-MODIFIED:20260310T114146Z
UID:10002350-1885826700-1885830300@mikepercsifoci.hu
SUMMARY:U9 edzés
DESCRIPTION:
URL:https://mikepercsifoci.hu/esemeny/u9-edzes-2-2/2029-10-04/
LOCATION:Mikepércsi Sportpálya\, Sport utca 4.\, Mikepércs\, 4271\, Hungary
CATEGORIES:U9 edzések
END:VEVENT
BEGIN:VEVENT
DTSTART;TZID=Europe/Budapest:20291009T164500
DTEND;TZID=Europe/Budapest:20291009T174500
DTSTAMP:20260425T000536
CREATED:20260104T105654Z
LAST-MODIFIED:20260310T114240Z
UID:10002621-1886258700-1886262300@mikepercsifoci.hu
SUMMARY:U9 edzés
DESCRIPTION:
URL:https://mikepercsifoci.hu/esemeny/u9-edzes-3/2029-10-09/
LOCATION:Mikepércsi Sportpálya\, Sport utca 4.\, Mikepércs\, 4271\, Hungary
CATEGORIES:U9 edzések
END:VEVENT
BEGIN:VEVENT
DTSTART;TZID=Europe/Budapest:20291011T164500
DTEND;TZID=Europe/Budapest:20291011T174500
DTSTAMP:20260425T000536
CREATED:20260104T105556Z
LAST-MODIFIED:20260310T114146Z
UID:10002351-1886431500-1886435100@mikepercsifoci.hu
SUMMARY:U9 edzés
DESCRIPTION:
URL:https://mikepercsifoci.hu/esemeny/u9-edzes-2-2/2029-10-11/
LOCATION:Mikepércsi Sportpálya\, Sport utca 4.\, Mikepércs\, 4271\, Hungary
CATEGORIES:U9 edzések
END:VEVENT
BEGIN:VEVENT
DTSTART;TZID=Europe/Budapest:20291016T164500
DTEND;TZID=Europe/Budapest:20291016T174500
DTSTAMP:20260425T000536
CREATED:20260104T105654Z
LAST-MODIFIED:20260310T114240Z
UID:10002622-1886863500-1886867100@mikepercsifoci.hu
SUMMARY:U9 edzés
DESCRIPTION:
URL:https://mikepercsifoci.hu/esemeny/u9-edzes-3/2029-10-16/
LOCATION:Mikepércsi Sportpálya\, Sport utca 4.\, Mikepércs\, 4271\, Hungary
CATEGORIES:U9 edzések
END:VEVENT
BEGIN:VEVENT
DTSTART;TZID=Europe/Budapest:20291018T164500
DTEND;TZID=Europe/Budapest:20291018T174500
DTSTAMP:20260425T000536
CREATED:20260104T105556Z
LAST-MODIFIED:20260310T114146Z
UID:10002352-1887036300-1887039900@mikepercsifoci.hu
SUMMARY:U9 edzés
DESCRIPTION:
URL:https://mikepercsifoci.hu/esemeny/u9-edzes-2-2/2029-10-18/
LOCATION:Mikepércsi Sportpálya\, Sport utca 4.\, Mikepércs\, 4271\, Hungary
CATEGORIES:U9 edzések
END:VEVENT
BEGIN:VEVENT
DTSTART;TZID=Europe/Budapest:20291023T164500
DTEND;TZID=Europe/Budapest:20291023T174500
DTSTAMP:20260425T000536
CREATED:20260104T105654Z
LAST-MODIFIED:20260310T114240Z
UID:10002623-1887468300-1887471900@mikepercsifoci.hu
SUMMARY:U9 edzés
DESCRIPTION:
URL:https://mikepercsifoci.hu/esemeny/u9-edzes-3/2029-10-23/
LOCATION:Mikepércsi Sportpálya\, Sport utca 4.\, Mikepércs\, 4271\, Hungary
CATEGORIES:U9 edzések
END:VEVENT
BEGIN:VEVENT
DTSTART;TZID=Europe/Budapest:20291025T164500
DTEND;TZID=Europe/Budapest:20291025T174500
DTSTAMP:20260425T000536
CREATED:20260104T105556Z
LAST-MODIFIED:20260310T114146Z
UID:10002353-1887641100-1887644700@mikepercsifoci.hu
SUMMARY:U9 edzés
DESCRIPTION:
URL:https://mikepercsifoci.hu/esemeny/u9-edzes-2-2/2029-10-25/
LOCATION:Mikepércsi Sportpálya\, Sport utca 4.\, Mikepércs\, 4271\, Hungary
CATEGORIES:U9 edzések
END:VEVENT
BEGIN:VEVENT
DTSTART;TZID=Europe/Budapest:20291030T164500
DTEND;TZID=Europe/Budapest:20291030T174500
DTSTAMP:20260425T000536
CREATED:20260104T105654Z
LAST-MODIFIED:20260310T114240Z
UID:10002624-1888073100-1888076700@mikepercsifoci.hu
SUMMARY:U9 edzés
DESCRIPTION:
URL:https://mikepercsifoci.hu/esemeny/u9-edzes-3/2029-10-30/
LOCATION:Mikepércsi Sportpálya\, Sport utca 4.\, Mikepércs\, 4271\, Hungary
CATEGORIES:U9 edzések
END:VEVENT
BEGIN:VEVENT
DTSTART;TZID=Europe/Budapest:20291101T164500
DTEND;TZID=Europe/Budapest:20291101T174500
DTSTAMP:20260425T000536
CREATED:20260104T105556Z
LAST-MODIFIED:20260310T114146Z
UID:10002354-1888245900-1888249500@mikepercsifoci.hu
SUMMARY:U9 edzés
DESCRIPTION:
URL:https://mikepercsifoci.hu/esemeny/u9-edzes-2-2/2029-11-01/
LOCATION:Mikepércsi Sportpálya\, Sport utca 4.\, Mikepércs\, 4271\, Hungary
CATEGORIES:U9 edzések
END:VEVENT
BEGIN:VEVENT
DTSTART;TZID=Europe/Budapest:20291106T164500
DTEND;TZID=Europe/Budapest:20291106T174500
DTSTAMP:20260425T000536
CREATED:20260104T105654Z
LAST-MODIFIED:20260310T114240Z
UID:10002625-1888677900-1888681500@mikepercsifoci.hu
SUMMARY:U9 edzés
DESCRIPTION:
URL:https://mikepercsifoci.hu/esemeny/u9-edzes-3/2029-11-06/
LOCATION:Mikepércsi Sportpálya\, Sport utca 4.\, Mikepércs\, 4271\, Hungary
CATEGORIES:U9 edzések
END:VEVENT
BEGIN:VEVENT
DTSTART;TZID=Europe/Budapest:20291108T164500
DTEND;TZID=Europe/Budapest:20291108T174500
DTSTAMP:20260425T000536
CREATED:20260104T105556Z
LAST-MODIFIED:20260310T114146Z
UID:10002355-1888850700-1888854300@mikepercsifoci.hu
SUMMARY:U9 edzés
DESCRIPTION:
URL:https://mikepercsifoci.hu/esemeny/u9-edzes-2-2/2029-11-08/
LOCATION:Mikepércsi Sportpálya\, Sport utca 4.\, Mikepércs\, 4271\, Hungary
CATEGORIES:U9 edzések
END:VEVENT
BEGIN:VEVENT
DTSTART;TZID=Europe/Budapest:20291113T164500
DTEND;TZID=Europe/Budapest:20291113T174500
DTSTAMP:20260425T000536
CREATED:20260104T105654Z
LAST-MODIFIED:20260310T114240Z
UID:10002626-1889282700-1889286300@mikepercsifoci.hu
SUMMARY:U9 edzés
DESCRIPTION:
URL:https://mikepercsifoci.hu/esemeny/u9-edzes-3/2029-11-13/
LOCATION:Mikepércsi Sportpálya\, Sport utca 4.\, Mikepércs\, 4271\, Hungary
CATEGORIES:U9 edzések
END:VEVENT
BEGIN:VEVENT
DTSTART;TZID=Europe/Budapest:20291115T164500
DTEND;TZID=Europe/Budapest:20291115T174500
DTSTAMP:20260425T000536
CREATED:20260104T105556Z
LAST-MODIFIED:20260310T114146Z
UID:10002356-1889455500-1889459100@mikepercsifoci.hu
SUMMARY:U9 edzés
DESCRIPTION:
URL:https://mikepercsifoci.hu/esemeny/u9-edzes-2-2/2029-11-15/
LOCATION:Mikepércsi Sportpálya\, Sport utca 4.\, Mikepércs\, 4271\, Hungary
CATEGORIES:U9 edzések
END:VEVENT
BEGIN:VEVENT
DTSTART;TZID=Europe/Budapest:20291120T164500
DTEND;TZID=Europe/Budapest:20291120T174500
DTSTAMP:20260425T000536
CREATED:20260104T105654Z
LAST-MODIFIED:20260310T114240Z
UID:10002627-1889887500-1889891100@mikepercsifoci.hu
SUMMARY:U9 edzés
DESCRIPTION:
URL:https://mikepercsifoci.hu/esemeny/u9-edzes-3/2029-11-20/
LOCATION:Mikepércsi Sportpálya\, Sport utca 4.\, Mikepércs\, 4271\, Hungary
CATEGORIES:U9 edzések
END:VEVENT
BEGIN:VEVENT
DTSTART;TZID=Europe/Budapest:20291122T164500
DTEND;TZID=Europe/Budapest:20291122T174500
DTSTAMP:20260425T000536
CREATED:20260104T105556Z
LAST-MODIFIED:20260310T114146Z
UID:10002357-1890060300-1890063900@mikepercsifoci.hu
SUMMARY:U9 edzés
DESCRIPTION:
URL:https://mikepercsifoci.hu/esemeny/u9-edzes-2-2/2029-11-22/
LOCATION:Mikepércsi Sportpálya\, Sport utca 4.\, Mikepércs\, 4271\, Hungary
CATEGORIES:U9 edzések
END:VEVENT
BEGIN:VEVENT
DTSTART;TZID=Europe/Budapest:20291127T164500
DTEND;TZID=Europe/Budapest:20291127T174500
DTSTAMP:20260425T000536
CREATED:20260104T105654Z
LAST-MODIFIED:20260310T114240Z
UID:10002628-1890492300-1890495900@mikepercsifoci.hu
SUMMARY:U9 edzés
DESCRIPTION:
URL:https://mikepercsifoci.hu/esemeny/u9-edzes-3/2029-11-27/
LOCATION:Mikepércsi Sportpálya\, Sport utca 4.\, Mikepércs\, 4271\, Hungary
CATEGORIES:U9 edzések
END:VEVENT
BEGIN:VEVENT
DTSTART;TZID=Europe/Budapest:20291129T164500
DTEND;TZID=Europe/Budapest:20291129T174500
DTSTAMP:20260425T000536
CREATED:20260104T105556Z
LAST-MODIFIED:20260310T114146Z
UID:10002358-1890665100-1890668700@mikepercsifoci.hu
SUMMARY:U9 edzés
DESCRIPTION:
URL:https://mikepercsifoci.hu/esemeny/u9-edzes-2-2/2029-11-29/
LOCATION:Mikepércsi Sportpálya\, Sport utca 4.\, Mikepércs\, 4271\, Hungary
CATEGORIES:U9 edzések
END:VEVENT
BEGIN:VEVENT
DTSTART;TZID=Europe/Budapest:20291204T164500
DTEND;TZID=Europe/Budapest:20291204T174500
DTSTAMP:20260425T000536
CREATED:20260104T105654Z
LAST-MODIFIED:20260310T114240Z
UID:10002629-1891097100-1891100700@mikepercsifoci.hu
SUMMARY:U9 edzés
DESCRIPTION:
URL:https://mikepercsifoci.hu/esemeny/u9-edzes-3/2029-12-04/
LOCATION:Mikepércsi Sportpálya\, Sport utca 4.\, Mikepércs\, 4271\, Hungary
CATEGORIES:U9 edzések
END:VEVENT
BEGIN:VEVENT
DTSTART;TZID=Europe/Budapest:20291206T164500
DTEND;TZID=Europe/Budapest:20291206T174500
DTSTAMP:20260425T000536
CREATED:20260104T105556Z
LAST-MODIFIED:20260310T114146Z
UID:10002359-1891269900-1891273500@mikepercsifoci.hu
SUMMARY:U9 edzés
DESCRIPTION:
URL:https://mikepercsifoci.hu/esemeny/u9-edzes-2-2/2029-12-06/
LOCATION:Mikepércsi Sportpálya\, Sport utca 4.\, Mikepércs\, 4271\, Hungary
CATEGORIES:U9 edzések
END:VEVENT
END:VCALENDAR