BEGIN:VCALENDAR
VERSION:2.0
PRODID:-//Mikepércsi Foci - ECPv6.15.12.2//NONSGML v1.0//EN
CALSCALE:GREGORIAN
METHOD:PUBLISH
X-ORIGINAL-URL:https://mikepercsifoci.hu
X-WR-CALDESC:Események Mikepércsi Foci
REFRESH-INTERVAL;VALUE=DURATION:PT1H
X-Robots-Tag:noindex
X-PUBLISHED-TTL:PT1H
BEGIN:VTIMEZONE
TZID:Europe/Budapest
BEGIN:DAYLIGHT
TZOFFSETFROM:+0100
TZOFFSETTO:+0200
TZNAME:CEST
DTSTART:20290325T010000
END:DAYLIGHT
BEGIN:STANDARD
TZOFFSETFROM:+0200
TZOFFSETTO:+0100
TZNAME:CET
DTSTART:20291028T010000
END:STANDARD
BEGIN:DAYLIGHT
TZOFFSETFROM:+0100
TZOFFSETTO:+0200
TZNAME:CEST
DTSTART:20300331T010000
END:DAYLIGHT
BEGIN:STANDARD
TZOFFSETFROM:+0200
TZOFFSETTO:+0100
TZNAME:CET
DTSTART:20301027T010000
END:STANDARD
BEGIN:DAYLIGHT
TZOFFSETFROM:+0100
TZOFFSETTO:+0200
TZNAME:CEST
DTSTART:20310330T010000
END:DAYLIGHT
BEGIN:STANDARD
TZOFFSETFROM:+0200
TZOFFSETTO:+0100
TZNAME:CET
DTSTART:20311026T010000
END:STANDARD
END:VTIMEZONE
BEGIN:VEVENT
DTSTART;TZID=Europe/Budapest:20300910T164500
DTEND;TZID=Europe/Budapest:20300910T174500
DTSTAMP:20260425T151242
CREATED:20260104T105654Z
LAST-MODIFIED:20260310T114240Z
UID:10002669-1915289100-1915292700@mikepercsifoci.hu
SUMMARY:U9 edzés
DESCRIPTION:
URL:https://mikepercsifoci.hu/esemeny/u9-edzes-3/2030-09-10/
LOCATION:Mikepércsi Sportpálya\, Sport utca 4.\, Mikepércs\, 4271\, Hungary
CATEGORIES:U9 edzések
END:VEVENT
BEGIN:VEVENT
DTSTART;TZID=Europe/Budapest:20300912T164500
DTEND;TZID=Europe/Budapest:20300912T174500
DTSTAMP:20260425T151242
CREATED:20260104T105556Z
LAST-MODIFIED:20260310T114146Z
UID:10002399-1915461900-1915465500@mikepercsifoci.hu
SUMMARY:U9 edzés
DESCRIPTION:
URL:https://mikepercsifoci.hu/esemeny/u9-edzes-2-2/2030-09-12/
LOCATION:Mikepércsi Sportpálya\, Sport utca 4.\, Mikepércs\, 4271\, Hungary
CATEGORIES:U9 edzések
END:VEVENT
BEGIN:VEVENT
DTSTART;TZID=Europe/Budapest:20300917T164500
DTEND;TZID=Europe/Budapest:20300917T174500
DTSTAMP:20260425T151242
CREATED:20260104T105654Z
LAST-MODIFIED:20260310T114240Z
UID:10002670-1915893900-1915897500@mikepercsifoci.hu
SUMMARY:U9 edzés
DESCRIPTION:
URL:https://mikepercsifoci.hu/esemeny/u9-edzes-3/2030-09-17/
LOCATION:Mikepércsi Sportpálya\, Sport utca 4.\, Mikepércs\, 4271\, Hungary
CATEGORIES:U9 edzések
END:VEVENT
BEGIN:VEVENT
DTSTART;TZID=Europe/Budapest:20300919T164500
DTEND;TZID=Europe/Budapest:20300919T174500
DTSTAMP:20260425T151242
CREATED:20260104T105556Z
LAST-MODIFIED:20260310T114146Z
UID:10002400-1916066700-1916070300@mikepercsifoci.hu
SUMMARY:U9 edzés
DESCRIPTION:
URL:https://mikepercsifoci.hu/esemeny/u9-edzes-2-2/2030-09-19/
LOCATION:Mikepércsi Sportpálya\, Sport utca 4.\, Mikepércs\, 4271\, Hungary
CATEGORIES:U9 edzések
END:VEVENT
BEGIN:VEVENT
DTSTART;TZID=Europe/Budapest:20300924T164500
DTEND;TZID=Europe/Budapest:20300924T174500
DTSTAMP:20260425T151242
CREATED:20260104T105654Z
LAST-MODIFIED:20260310T114240Z
UID:10002671-1916498700-1916502300@mikepercsifoci.hu
SUMMARY:U9 edzés
DESCRIPTION:
URL:https://mikepercsifoci.hu/esemeny/u9-edzes-3/2030-09-24/
LOCATION:Mikepércsi Sportpálya\, Sport utca 4.\, Mikepércs\, 4271\, Hungary
CATEGORIES:U9 edzések
END:VEVENT
BEGIN:VEVENT
DTSTART;TZID=Europe/Budapest:20300926T164500
DTEND;TZID=Europe/Budapest:20300926T174500
DTSTAMP:20260425T151242
CREATED:20260104T105556Z
LAST-MODIFIED:20260310T114146Z
UID:10002401-1916671500-1916675100@mikepercsifoci.hu
SUMMARY:U9 edzés
DESCRIPTION:
URL:https://mikepercsifoci.hu/esemeny/u9-edzes-2-2/2030-09-26/
LOCATION:Mikepércsi Sportpálya\, Sport utca 4.\, Mikepércs\, 4271\, Hungary
CATEGORIES:U9 edzések
END:VEVENT
BEGIN:VEVENT
DTSTART;TZID=Europe/Budapest:20301001T164500
DTEND;TZID=Europe/Budapest:20301001T174500
DTSTAMP:20260425T151242
CREATED:20260104T105654Z
LAST-MODIFIED:20260310T114240Z
UID:10002672-1917103500-1917107100@mikepercsifoci.hu
SUMMARY:U9 edzés
DESCRIPTION:
URL:https://mikepercsifoci.hu/esemeny/u9-edzes-3/2030-10-01/
LOCATION:Mikepércsi Sportpálya\, Sport utca 4.\, Mikepércs\, 4271\, Hungary
CATEGORIES:U9 edzések
END:VEVENT
BEGIN:VEVENT
DTSTART;TZID=Europe/Budapest:20301003T164500
DTEND;TZID=Europe/Budapest:20301003T174500
DTSTAMP:20260425T151242
CREATED:20260104T105556Z
LAST-MODIFIED:20260310T114146Z
UID:10002402-1917276300-1917279900@mikepercsifoci.hu
SUMMARY:U9 edzés
DESCRIPTION:
URL:https://mikepercsifoci.hu/esemeny/u9-edzes-2-2/2030-10-03/
LOCATION:Mikepércsi Sportpálya\, Sport utca 4.\, Mikepércs\, 4271\, Hungary
CATEGORIES:U9 edzések
END:VEVENT
BEGIN:VEVENT
DTSTART;TZID=Europe/Budapest:20301008T164500
DTEND;TZID=Europe/Budapest:20301008T174500
DTSTAMP:20260425T151242
CREATED:20260104T105654Z
LAST-MODIFIED:20260310T114240Z
UID:10002673-1917708300-1917711900@mikepercsifoci.hu
SUMMARY:U9 edzés
DESCRIPTION:
URL:https://mikepercsifoci.hu/esemeny/u9-edzes-3/2030-10-08/
LOCATION:Mikepércsi Sportpálya\, Sport utca 4.\, Mikepércs\, 4271\, Hungary
CATEGORIES:U9 edzések
END:VEVENT
BEGIN:VEVENT
DTSTART;TZID=Europe/Budapest:20301010T164500
DTEND;TZID=Europe/Budapest:20301010T174500
DTSTAMP:20260425T151242
CREATED:20260104T105556Z
LAST-MODIFIED:20260310T114146Z
UID:10002403-1917881100-1917884700@mikepercsifoci.hu
SUMMARY:U9 edzés
DESCRIPTION:
URL:https://mikepercsifoci.hu/esemeny/u9-edzes-2-2/2030-10-10/
LOCATION:Mikepércsi Sportpálya\, Sport utca 4.\, Mikepércs\, 4271\, Hungary
CATEGORIES:U9 edzések
END:VEVENT
BEGIN:VEVENT
DTSTART;TZID=Europe/Budapest:20301015T164500
DTEND;TZID=Europe/Budapest:20301015T174500
DTSTAMP:20260425T151242
CREATED:20260104T105654Z
LAST-MODIFIED:20260310T114240Z
UID:10002674-1918313100-1918316700@mikepercsifoci.hu
SUMMARY:U9 edzés
DESCRIPTION:
URL:https://mikepercsifoci.hu/esemeny/u9-edzes-3/2030-10-15/
LOCATION:Mikepércsi Sportpálya\, Sport utca 4.\, Mikepércs\, 4271\, Hungary
CATEGORIES:U9 edzések
END:VEVENT
BEGIN:VEVENT
DTSTART;TZID=Europe/Budapest:20301017T164500
DTEND;TZID=Europe/Budapest:20301017T174500
DTSTAMP:20260425T151242
CREATED:20260104T105556Z
LAST-MODIFIED:20260310T114146Z
UID:10002404-1918485900-1918489500@mikepercsifoci.hu
SUMMARY:U9 edzés
DESCRIPTION:
URL:https://mikepercsifoci.hu/esemeny/u9-edzes-2-2/2030-10-17/
LOCATION:Mikepércsi Sportpálya\, Sport utca 4.\, Mikepércs\, 4271\, Hungary
CATEGORIES:U9 edzések
END:VEVENT
BEGIN:VEVENT
DTSTART;TZID=Europe/Budapest:20301022T164500
DTEND;TZID=Europe/Budapest:20301022T174500
DTSTAMP:20260425T151242
CREATED:20260104T105654Z
LAST-MODIFIED:20260310T114240Z
UID:10002675-1918917900-1918921500@mikepercsifoci.hu
SUMMARY:U9 edzés
DESCRIPTION:
URL:https://mikepercsifoci.hu/esemeny/u9-edzes-3/2030-10-22/
LOCATION:Mikepércsi Sportpálya\, Sport utca 4.\, Mikepércs\, 4271\, Hungary
CATEGORIES:U9 edzések
END:VEVENT
BEGIN:VEVENT
DTSTART;TZID=Europe/Budapest:20301024T164500
DTEND;TZID=Europe/Budapest:20301024T174500
DTSTAMP:20260425T151242
CREATED:20260104T105556Z
LAST-MODIFIED:20260310T114146Z
UID:10002405-1919090700-1919094300@mikepercsifoci.hu
SUMMARY:U9 edzés
DESCRIPTION:
URL:https://mikepercsifoci.hu/esemeny/u9-edzes-2-2/2030-10-24/
LOCATION:Mikepércsi Sportpálya\, Sport utca 4.\, Mikepércs\, 4271\, Hungary
CATEGORIES:U9 edzések
END:VEVENT
BEGIN:VEVENT
DTSTART;TZID=Europe/Budapest:20301029T164500
DTEND;TZID=Europe/Budapest:20301029T174500
DTSTAMP:20260425T151242
CREATED:20260104T105654Z
LAST-MODIFIED:20260310T114240Z
UID:10002676-1919522700-1919526300@mikepercsifoci.hu
SUMMARY:U9 edzés
DESCRIPTION:
URL:https://mikepercsifoci.hu/esemeny/u9-edzes-3/2030-10-29/
LOCATION:Mikepércsi Sportpálya\, Sport utca 4.\, Mikepércs\, 4271\, Hungary
CATEGORIES:U9 edzések
END:VEVENT
BEGIN:VEVENT
DTSTART;TZID=Europe/Budapest:20301031T164500
DTEND;TZID=Europe/Budapest:20301031T174500
DTSTAMP:20260425T151242
CREATED:20260104T105556Z
LAST-MODIFIED:20260310T114146Z
UID:10002406-1919695500-1919699100@mikepercsifoci.hu
SUMMARY:U9 edzés
DESCRIPTION:
URL:https://mikepercsifoci.hu/esemeny/u9-edzes-2-2/2030-10-31/
LOCATION:Mikepércsi Sportpálya\, Sport utca 4.\, Mikepércs\, 4271\, Hungary
CATEGORIES:U9 edzések
END:VEVENT
BEGIN:VEVENT
DTSTART;TZID=Europe/Budapest:20301105T164500
DTEND;TZID=Europe/Budapest:20301105T174500
DTSTAMP:20260425T151242
CREATED:20260104T105654Z
LAST-MODIFIED:20260310T114240Z
UID:10002677-1920127500-1920131100@mikepercsifoci.hu
SUMMARY:U9 edzés
DESCRIPTION:
URL:https://mikepercsifoci.hu/esemeny/u9-edzes-3/2030-11-05/
LOCATION:Mikepércsi Sportpálya\, Sport utca 4.\, Mikepércs\, 4271\, Hungary
CATEGORIES:U9 edzések
END:VEVENT
BEGIN:VEVENT
DTSTART;TZID=Europe/Budapest:20301107T164500
DTEND;TZID=Europe/Budapest:20301107T174500
DTSTAMP:20260425T151242
CREATED:20260104T105556Z
LAST-MODIFIED:20260310T114146Z
UID:10002407-1920300300-1920303900@mikepercsifoci.hu
SUMMARY:U9 edzés
DESCRIPTION:
URL:https://mikepercsifoci.hu/esemeny/u9-edzes-2-2/2030-11-07/
LOCATION:Mikepércsi Sportpálya\, Sport utca 4.\, Mikepércs\, 4271\, Hungary
CATEGORIES:U9 edzések
END:VEVENT
BEGIN:VEVENT
DTSTART;TZID=Europe/Budapest:20301112T164500
DTEND;TZID=Europe/Budapest:20301112T174500
DTSTAMP:20260425T151242
CREATED:20260104T105654Z
LAST-MODIFIED:20260310T114240Z
UID:10002678-1920732300-1920735900@mikepercsifoci.hu
SUMMARY:U9 edzés
DESCRIPTION:
URL:https://mikepercsifoci.hu/esemeny/u9-edzes-3/2030-11-12/
LOCATION:Mikepércsi Sportpálya\, Sport utca 4.\, Mikepércs\, 4271\, Hungary
CATEGORIES:U9 edzések
END:VEVENT
BEGIN:VEVENT
DTSTART;TZID=Europe/Budapest:20301114T164500
DTEND;TZID=Europe/Budapest:20301114T174500
DTSTAMP:20260425T151242
CREATED:20260104T105556Z
LAST-MODIFIED:20260310T114146Z
UID:10002408-1920905100-1920908700@mikepercsifoci.hu
SUMMARY:U9 edzés
DESCRIPTION:
URL:https://mikepercsifoci.hu/esemeny/u9-edzes-2-2/2030-11-14/
LOCATION:Mikepércsi Sportpálya\, Sport utca 4.\, Mikepércs\, 4271\, Hungary
CATEGORIES:U9 edzések
END:VEVENT
BEGIN:VEVENT
DTSTART;TZID=Europe/Budapest:20301119T164500
DTEND;TZID=Europe/Budapest:20301119T174500
DTSTAMP:20260425T151242
CREATED:20260104T105654Z
LAST-MODIFIED:20260310T114240Z
UID:10002679-1921337100-1921340700@mikepercsifoci.hu
SUMMARY:U9 edzés
DESCRIPTION:
URL:https://mikepercsifoci.hu/esemeny/u9-edzes-3/2030-11-19/
LOCATION:Mikepércsi Sportpálya\, Sport utca 4.\, Mikepércs\, 4271\, Hungary
CATEGORIES:U9 edzések
END:VEVENT
BEGIN:VEVENT
DTSTART;TZID=Europe/Budapest:20301121T164500
DTEND;TZID=Europe/Budapest:20301121T174500
DTSTAMP:20260425T151242
CREATED:20260104T105556Z
LAST-MODIFIED:20260310T114146Z
UID:10002409-1921509900-1921513500@mikepercsifoci.hu
SUMMARY:U9 edzés
DESCRIPTION:
URL:https://mikepercsifoci.hu/esemeny/u9-edzes-2-2/2030-11-21/
LOCATION:Mikepércsi Sportpálya\, Sport utca 4.\, Mikepércs\, 4271\, Hungary
CATEGORIES:U9 edzések
END:VEVENT
BEGIN:VEVENT
DTSTART;TZID=Europe/Budapest:20301126T164500
DTEND;TZID=Europe/Budapest:20301126T174500
DTSTAMP:20260425T151242
CREATED:20260104T105654Z
LAST-MODIFIED:20260310T114240Z
UID:10002680-1921941900-1921945500@mikepercsifoci.hu
SUMMARY:U9 edzés
DESCRIPTION:
URL:https://mikepercsifoci.hu/esemeny/u9-edzes-3/2030-11-26/
LOCATION:Mikepércsi Sportpálya\, Sport utca 4.\, Mikepércs\, 4271\, Hungary
CATEGORIES:U9 edzések
END:VEVENT
BEGIN:VEVENT
DTSTART;TZID=Europe/Budapest:20301128T164500
DTEND;TZID=Europe/Budapest:20301128T174500
DTSTAMP:20260425T151242
CREATED:20260104T105556Z
LAST-MODIFIED:20260310T114146Z
UID:10002410-1922114700-1922118300@mikepercsifoci.hu
SUMMARY:U9 edzés
DESCRIPTION:
URL:https://mikepercsifoci.hu/esemeny/u9-edzes-2-2/2030-11-28/
LOCATION:Mikepércsi Sportpálya\, Sport utca 4.\, Mikepércs\, 4271\, Hungary
CATEGORIES:U9 edzések
END:VEVENT
BEGIN:VEVENT
DTSTART;TZID=Europe/Budapest:20301203T164500
DTEND;TZID=Europe/Budapest:20301203T174500
DTSTAMP:20260425T151242
CREATED:20260104T105654Z
LAST-MODIFIED:20260310T114240Z
UID:10002681-1922546700-1922550300@mikepercsifoci.hu
SUMMARY:U9 edzés
DESCRIPTION:
URL:https://mikepercsifoci.hu/esemeny/u9-edzes-3/2030-12-03/
LOCATION:Mikepércsi Sportpálya\, Sport utca 4.\, Mikepércs\, 4271\, Hungary
CATEGORIES:U9 edzések
END:VEVENT
BEGIN:VEVENT
DTSTART;TZID=Europe/Budapest:20301205T164500
DTEND;TZID=Europe/Budapest:20301205T174500
DTSTAMP:20260425T151242
CREATED:20260104T105556Z
LAST-MODIFIED:20260310T114146Z
UID:10002411-1922719500-1922723100@mikepercsifoci.hu
SUMMARY:U9 edzés
DESCRIPTION:
URL:https://mikepercsifoci.hu/esemeny/u9-edzes-2-2/2030-12-05/
LOCATION:Mikepércsi Sportpálya\, Sport utca 4.\, Mikepércs\, 4271\, Hungary
CATEGORIES:U9 edzések
END:VEVENT
BEGIN:VEVENT
DTSTART;TZID=Europe/Budapest:20301210T164500
DTEND;TZID=Europe/Budapest:20301210T174500
DTSTAMP:20260425T151242
CREATED:20260104T105654Z
LAST-MODIFIED:20260310T114240Z
UID:10002682-1923151500-1923155100@mikepercsifoci.hu
SUMMARY:U9 edzés
DESCRIPTION:
URL:https://mikepercsifoci.hu/esemeny/u9-edzes-3/2030-12-10/
LOCATION:Mikepércsi Sportpálya\, Sport utca 4.\, Mikepércs\, 4271\, Hungary
CATEGORIES:U9 edzések
END:VEVENT
BEGIN:VEVENT
DTSTART;TZID=Europe/Budapest:20301212T164500
DTEND;TZID=Europe/Budapest:20301212T174500
DTSTAMP:20260425T151242
CREATED:20260104T105556Z
LAST-MODIFIED:20260310T114146Z
UID:10002412-1923324300-1923327900@mikepercsifoci.hu
SUMMARY:U9 edzés
DESCRIPTION:
URL:https://mikepercsifoci.hu/esemeny/u9-edzes-2-2/2030-12-12/
LOCATION:Mikepércsi Sportpálya\, Sport utca 4.\, Mikepércs\, 4271\, Hungary
CATEGORIES:U9 edzések
END:VEVENT
BEGIN:VEVENT
DTSTART;TZID=Europe/Budapest:20301217T164500
DTEND;TZID=Europe/Budapest:20301217T174500
DTSTAMP:20260425T151242
CREATED:20260104T105654Z
LAST-MODIFIED:20260310T114240Z
UID:10002683-1923756300-1923759900@mikepercsifoci.hu
SUMMARY:U9 edzés
DESCRIPTION:
URL:https://mikepercsifoci.hu/esemeny/u9-edzes-3/2030-12-17/
LOCATION:Mikepércsi Sportpálya\, Sport utca 4.\, Mikepércs\, 4271\, Hungary
CATEGORIES:U9 edzések
END:VEVENT
BEGIN:VEVENT
DTSTART;TZID=Europe/Budapest:20301219T164500
DTEND;TZID=Europe/Budapest:20301219T174500
DTSTAMP:20260425T151242
CREATED:20260104T105556Z
LAST-MODIFIED:20260310T114146Z
UID:10002413-1923929100-1923932700@mikepercsifoci.hu
SUMMARY:U9 edzés
DESCRIPTION:
URL:https://mikepercsifoci.hu/esemeny/u9-edzes-2-2/2030-12-19/
LOCATION:Mikepércsi Sportpálya\, Sport utca 4.\, Mikepércs\, 4271\, Hungary
CATEGORIES:U9 edzések
END:VEVENT
END:VCALENDAR