BEGIN:VCALENDAR
VERSION:2.0
PRODID:-//Mikepércsi Foci - ECPv6.15.12.2//NONSGML v1.0//EN
CALSCALE:GREGORIAN
METHOD:PUBLISH
X-WR-CALNAME:Mikepércsi Foci
X-ORIGINAL-URL:https://mikepercsifoci.hu
X-WR-CALDESC:Események Mikepércsi Foci
REFRESH-INTERVAL;VALUE=DURATION:PT1H
X-Robots-Tag:noindex
X-PUBLISHED-TTL:PT1H
BEGIN:VTIMEZONE
TZID:Europe/Budapest
BEGIN:DAYLIGHT
TZOFFSETFROM:+0100
TZOFFSETTO:+0200
TZNAME:CEST
DTSTART:20300331T010000
END:DAYLIGHT
BEGIN:STANDARD
TZOFFSETFROM:+0200
TZOFFSETTO:+0100
TZNAME:CET
DTSTART:20301027T010000
END:STANDARD
BEGIN:DAYLIGHT
TZOFFSETFROM:+0100
TZOFFSETTO:+0200
TZNAME:CEST
DTSTART:20310330T010000
END:DAYLIGHT
BEGIN:STANDARD
TZOFFSETFROM:+0200
TZOFFSETTO:+0100
TZNAME:CET
DTSTART:20311026T010000
END:STANDARD
BEGIN:DAYLIGHT
TZOFFSETFROM:+0100
TZOFFSETTO:+0200
TZNAME:CEST
DTSTART:20320328T010000
END:DAYLIGHT
BEGIN:STANDARD
TZOFFSETFROM:+0200
TZOFFSETTO:+0100
TZNAME:CET
DTSTART:20321031T010000
END:STANDARD
END:VTIMEZONE
BEGIN:VEVENT
DTSTART;TZID=Europe/Budapest:20310114T164500
DTEND;TZID=Europe/Budapest:20310114T174500
DTSTAMP:20260425T193202
CREATED:20260104T105654Z
LAST-MODIFIED:20260310T114240Z
UID:10002687-1926175500-1926179100@mikepercsifoci.hu
SUMMARY:U9 edzés
DESCRIPTION:
URL:https://mikepercsifoci.hu/esemeny/u9-edzes-3/2031-01-14/
LOCATION:Mikepércsi Sportpálya\, Sport utca 4.\, Mikepércs\, 4271\, Hungary
CATEGORIES:U9 edzések
END:VEVENT
BEGIN:VEVENT
DTSTART;TZID=Europe/Budapest:20310116T164500
DTEND;TZID=Europe/Budapest:20310116T174500
DTSTAMP:20260425T193202
CREATED:20260104T105556Z
LAST-MODIFIED:20260310T114146Z
UID:10002417-1926348300-1926351900@mikepercsifoci.hu
SUMMARY:U9 edzés
DESCRIPTION:
URL:https://mikepercsifoci.hu/esemeny/u9-edzes-2-2/2031-01-16/
LOCATION:Mikepércsi Sportpálya\, Sport utca 4.\, Mikepércs\, 4271\, Hungary
CATEGORIES:U9 edzések
END:VEVENT
BEGIN:VEVENT
DTSTART;TZID=Europe/Budapest:20310121T164500
DTEND;TZID=Europe/Budapest:20310121T174500
DTSTAMP:20260425T193202
CREATED:20260104T105654Z
LAST-MODIFIED:20260310T114240Z
UID:10002688-1926780300-1926783900@mikepercsifoci.hu
SUMMARY:U9 edzés
DESCRIPTION:
URL:https://mikepercsifoci.hu/esemeny/u9-edzes-3/2031-01-21/
LOCATION:Mikepércsi Sportpálya\, Sport utca 4.\, Mikepércs\, 4271\, Hungary
CATEGORIES:U9 edzések
END:VEVENT
BEGIN:VEVENT
DTSTART;TZID=Europe/Budapest:20310123T164500
DTEND;TZID=Europe/Budapest:20310123T174500
DTSTAMP:20260425T193202
CREATED:20260104T105556Z
LAST-MODIFIED:20260310T114146Z
UID:10002418-1926953100-1926956700@mikepercsifoci.hu
SUMMARY:U9 edzés
DESCRIPTION:
URL:https://mikepercsifoci.hu/esemeny/u9-edzes-2-2/2031-01-23/
LOCATION:Mikepércsi Sportpálya\, Sport utca 4.\, Mikepércs\, 4271\, Hungary
CATEGORIES:U9 edzések
END:VEVENT
BEGIN:VEVENT
DTSTART;TZID=Europe/Budapest:20310128T164500
DTEND;TZID=Europe/Budapest:20310128T174500
DTSTAMP:20260425T193202
CREATED:20260104T105654Z
LAST-MODIFIED:20260310T114240Z
UID:10002689-1927385100-1927388700@mikepercsifoci.hu
SUMMARY:U9 edzés
DESCRIPTION:
URL:https://mikepercsifoci.hu/esemeny/u9-edzes-3/2031-01-28/
LOCATION:Mikepércsi Sportpálya\, Sport utca 4.\, Mikepércs\, 4271\, Hungary
CATEGORIES:U9 edzések
END:VEVENT
BEGIN:VEVENT
DTSTART;TZID=Europe/Budapest:20310130T164500
DTEND;TZID=Europe/Budapest:20310130T174500
DTSTAMP:20260425T193202
CREATED:20260104T105556Z
LAST-MODIFIED:20260310T114146Z
UID:10002419-1927557900-1927561500@mikepercsifoci.hu
SUMMARY:U9 edzés
DESCRIPTION:
URL:https://mikepercsifoci.hu/esemeny/u9-edzes-2-2/2031-01-30/
LOCATION:Mikepércsi Sportpálya\, Sport utca 4.\, Mikepércs\, 4271\, Hungary
CATEGORIES:U9 edzések
END:VEVENT
BEGIN:VEVENT
DTSTART;TZID=Europe/Budapest:20310204T164500
DTEND;TZID=Europe/Budapest:20310204T174500
DTSTAMP:20260425T193202
CREATED:20260104T105654Z
LAST-MODIFIED:20260310T114240Z
UID:10002690-1927989900-1927993500@mikepercsifoci.hu
SUMMARY:U9 edzés
DESCRIPTION:
URL:https://mikepercsifoci.hu/esemeny/u9-edzes-3/2031-02-04/
LOCATION:Mikepércsi Sportpálya\, Sport utca 4.\, Mikepércs\, 4271\, Hungary
CATEGORIES:U9 edzések
END:VEVENT
BEGIN:VEVENT
DTSTART;TZID=Europe/Budapest:20310206T164500
DTEND;TZID=Europe/Budapest:20310206T174500
DTSTAMP:20260425T193202
CREATED:20260104T105556Z
LAST-MODIFIED:20260310T114146Z
UID:10002420-1928162700-1928166300@mikepercsifoci.hu
SUMMARY:U9 edzés
DESCRIPTION:
URL:https://mikepercsifoci.hu/esemeny/u9-edzes-2-2/2031-02-06/
LOCATION:Mikepércsi Sportpálya\, Sport utca 4.\, Mikepércs\, 4271\, Hungary
CATEGORIES:U9 edzések
END:VEVENT
BEGIN:VEVENT
DTSTART;TZID=Europe/Budapest:20310211T164500
DTEND;TZID=Europe/Budapest:20310211T174500
DTSTAMP:20260425T193202
CREATED:20260104T105654Z
LAST-MODIFIED:20260310T114240Z
UID:10002691-1928594700-1928598300@mikepercsifoci.hu
SUMMARY:U9 edzés
DESCRIPTION:
URL:https://mikepercsifoci.hu/esemeny/u9-edzes-3/2031-02-11/
LOCATION:Mikepércsi Sportpálya\, Sport utca 4.\, Mikepércs\, 4271\, Hungary
CATEGORIES:U9 edzések
END:VEVENT
BEGIN:VEVENT
DTSTART;TZID=Europe/Budapest:20310213T164500
DTEND;TZID=Europe/Budapest:20310213T174500
DTSTAMP:20260425T193202
CREATED:20260104T105556Z
LAST-MODIFIED:20260310T114146Z
UID:10002421-1928767500-1928771100@mikepercsifoci.hu
SUMMARY:U9 edzés
DESCRIPTION:
URL:https://mikepercsifoci.hu/esemeny/u9-edzes-2-2/2031-02-13/
LOCATION:Mikepércsi Sportpálya\, Sport utca 4.\, Mikepércs\, 4271\, Hungary
CATEGORIES:U9 edzések
END:VEVENT
BEGIN:VEVENT
DTSTART;TZID=Europe/Budapest:20310218T164500
DTEND;TZID=Europe/Budapest:20310218T174500
DTSTAMP:20260425T193202
CREATED:20260104T105654Z
LAST-MODIFIED:20260310T114240Z
UID:10002692-1929199500-1929203100@mikepercsifoci.hu
SUMMARY:U9 edzés
DESCRIPTION:
URL:https://mikepercsifoci.hu/esemeny/u9-edzes-3/2031-02-18/
LOCATION:Mikepércsi Sportpálya\, Sport utca 4.\, Mikepércs\, 4271\, Hungary
CATEGORIES:U9 edzések
END:VEVENT
BEGIN:VEVENT
DTSTART;TZID=Europe/Budapest:20310220T164500
DTEND;TZID=Europe/Budapest:20310220T174500
DTSTAMP:20260425T193202
CREATED:20260104T105556Z
LAST-MODIFIED:20260310T114146Z
UID:10002422-1929372300-1929375900@mikepercsifoci.hu
SUMMARY:U9 edzés
DESCRIPTION:
URL:https://mikepercsifoci.hu/esemeny/u9-edzes-2-2/2031-02-20/
LOCATION:Mikepércsi Sportpálya\, Sport utca 4.\, Mikepércs\, 4271\, Hungary
CATEGORIES:U9 edzések
END:VEVENT
BEGIN:VEVENT
DTSTART;TZID=Europe/Budapest:20310225T164500
DTEND;TZID=Europe/Budapest:20310225T174500
DTSTAMP:20260425T193202
CREATED:20260104T105654Z
LAST-MODIFIED:20260310T114240Z
UID:10002693-1929804300-1929807900@mikepercsifoci.hu
SUMMARY:U9 edzés
DESCRIPTION:
URL:https://mikepercsifoci.hu/esemeny/u9-edzes-3/2031-02-25/
LOCATION:Mikepércsi Sportpálya\, Sport utca 4.\, Mikepércs\, 4271\, Hungary
CATEGORIES:U9 edzések
END:VEVENT
BEGIN:VEVENT
DTSTART;TZID=Europe/Budapest:20310227T164500
DTEND;TZID=Europe/Budapest:20310227T174500
DTSTAMP:20260425T193202
CREATED:20260104T105556Z
LAST-MODIFIED:20260310T114146Z
UID:10002423-1929977100-1929980700@mikepercsifoci.hu
SUMMARY:U9 edzés
DESCRIPTION:
URL:https://mikepercsifoci.hu/esemeny/u9-edzes-2-2/2031-02-27/
LOCATION:Mikepércsi Sportpálya\, Sport utca 4.\, Mikepércs\, 4271\, Hungary
CATEGORIES:U9 edzések
END:VEVENT
BEGIN:VEVENT
DTSTART;TZID=Europe/Budapest:20310304T164500
DTEND;TZID=Europe/Budapest:20310304T174500
DTSTAMP:20260425T193202
CREATED:20260104T105654Z
LAST-MODIFIED:20260310T114240Z
UID:10002694-1930409100-1930412700@mikepercsifoci.hu
SUMMARY:U9 edzés
DESCRIPTION:
URL:https://mikepercsifoci.hu/esemeny/u9-edzes-3/2031-03-04/
LOCATION:Mikepércsi Sportpálya\, Sport utca 4.\, Mikepércs\, 4271\, Hungary
CATEGORIES:U9 edzések
END:VEVENT
BEGIN:VEVENT
DTSTART;TZID=Europe/Budapest:20310306T164500
DTEND;TZID=Europe/Budapest:20310306T174500
DTSTAMP:20260425T193202
CREATED:20260104T105556Z
LAST-MODIFIED:20260310T114146Z
UID:10002424-1930581900-1930585500@mikepercsifoci.hu
SUMMARY:U9 edzés
DESCRIPTION:
URL:https://mikepercsifoci.hu/esemeny/u9-edzes-2-2/2031-03-06/
LOCATION:Mikepércsi Sportpálya\, Sport utca 4.\, Mikepércs\, 4271\, Hungary
CATEGORIES:U9 edzések
END:VEVENT
END:VCALENDAR